Workbook

Sheet 汇总
A1: 融资租赁租金计算模板-NEW
A2: 项目名称：
A3: 租赁方式：
A4: 合同编号：
A5: 单位：元（RMB）
B8: 项目参数
B9: 融资租赁总金额 | C9: 1000000 | D9: 租赁期限（月） | E9: 24 | F9: 利率浮动方式 | G9: 12个月-36个月（含36个月） | H9: 浮动比率 | I9: 0.25
B10: 租赁物价格 | C10: 1000000 | D10: 起租日期 | E10: 41122 | F10: 期末残值 | G10: 0 | H10: 租赁利率 | I10: =IF(G9=参数范围!G3,参数范围!I3,VLOOKUP(G9,参数范围!$G$4:$I$8,3,0)*(1+I9)) -> 0.076875
B11: 保证金率 | C11: 0.1 | D11: 手续费率 | E11: 0.02 | F11: 管理费率 | G11: 0 | H11: 租金支付方式 | I11: 0 | J11: 手续费支付方式 | K11: 一次性支付
B12: 保证金 | C12: =C9*C11 -> 100000 | D12: 手续费 | E12: =C9*E11 -> 20000 | F12: 管理费 | G12: 0 | H12: 租金支付周期 | I12: 双月 | J12: 宽限期 | K12: 0
B14: 收益测算
B15: 每期租金 | C15: =-PMT(I10/VLOOKUP($I$12,参数范围!$K$3:$L$7,2,0),E9/VLOOKUP($I$12,参数范围!$K$3:$M$10,3,0),C9*(1-0),G10,I11) -> 90435.359 | D15: 收回本金 | E15: =F45+G32 -> 1000000 | F15: 净融资额现值 | G15: =ABS(L20) -> 880000 | H15: 现值收益率 | I15: =G16/G15 -> 0.038826793 | J15: 项目IRR | K15: =IRR(L20:L32,7%)*6 -> 0.11701636
B16: 租金总额 | C16: =D45 -> 1085224.3 | D16: 收回利息 | E16: =E45 -> 85224.305 | F16: 净现值NPV | G16: =L20+NPV($I$10/VLOOKUP($I$12,参数范围!$K$3:$N$7,2,0),汇总!L21:L32) -> 34167.578 | H16: 年化现值收益率
B18: 1
B19: 日期 | C19: 还款日期 | D19: 租赁相关流入 | E19: 利息 | F19: 收回本金 | G19: 尚未收回本金 | H19: 其他现金流入 | I19: 其他现金流出 | J19: 现金流入 | K19: 现金流出 | L19: 净现金流
B20: 起租日 | C20: =E10 -> 41122 | D20: =IF(I11=0,E12+C12,E12+C12+C15) -> 120000 | F20: =IF(I11=0,0,C16) -> 0 | G20: =IF(I11=0,C9,C9-F20) -> 1000000 | H20: =E14 -> 0 | I20: =C9 -> 1000000 | J20: =D20+H20 -> 120000 | K20: =I20 -> 1000000 | L20: =J20-K20 -> -880000
B21: 1 | C21: =DATE(YEAR(C20),MONTH(C20)+VLOOKUP($I$12,参数范围!$K$3:$M$7,3,0),DAY(1)) -> 41183 | D21: =$C$15 -> 90435.359 | E21: =G20*$I$10/VLOOKUP($I$12,参数范围!$K$3:$N$7,2,0) -> 12812.5 | F21: =D21-E21 -> 77622.859 | G21: =G20-F21 -> 922377.14 | H21: =IF(B21=$D$5*$F$5,$B$6,0) -> 0 | I21: =IF(B21=$D$5*$F$5,$D$7+$D$7*$D$5*$H$6,0) -> 0 | J21: =D21+H21 -> 90435.359 | K21: =I21 -> 0 | L21: =J21-K21 -> 90435.359
B22: 2 | C22: =DATE(YEAR(C21),MONTH(C21)+VLOOKUP($I$12,参数范围!$K$3:$M$7,3,0),DAY(1)) -> 41244 | D22: =$C$15 -> 90435.359 | E22: =G21*$I$10/VLOOKUP($I$12,参数范围!$K$3:$N$7,2,0) -> 11817.957 | F22: =D22-E22 -> 78617.402 | G22: =G21-F22 -> 843759.74 | H22: =IF(B22=$D$5*$F$5,$B$6,0) -> 0 | I22: =IF(B22=$D$5*$F$5,$D$7+$D$7*$D$5*$H$6,0) -> 0 | J22: =D22+H22 -> 90435.359 | K22: =I22 -> 0 | L22: =J22-K22 -> 90435.359
B23: 3 | C23: =DATE(YEAR(C22),MONTH(C22)+VLOOKUP($I$12,参数范围!$K$3:$M$7,3,0),DAY(1)) -> 41306 | D23: =$C$15 -> 90435.359 | E23: =G22*$I$10/VLOOKUP($I$12,参数范围!$K$3:$N$7,2,0) -> 10810.672 | F23: =D23-E23 -> 79624.687 | G23: =G22-F23 -> 764135.05 | H23: =IF(B23=$D$5*$F$5,$B$6,0) -> 0 | I23: =IF(B23=$D$5*$F$5,$D$7+$D$7*$D$5*$H$6,0) -> 0 | J23: =D23+H23 -> 90435.359 | K23: =I23 -> 0 | L23: =J23-K23 -> 90435.359
B24: 4 | C24: =DATE(YEAR(C23),MONTH(C23)+VLOOKUP($I$12,参数范围!$K$3:$M$7,3,0),DAY(1)) -> 41365 | D24: =$C$15 -> 90435.359 | E24: =G23*$I$10/VLOOKUP($I$12,参数范围!$K$3:$N$7,2,0) -> 9790.4804 | F24: =D24-E24 -> 80644.878 | G24: =G23-F24 -> 683490.17 | H24: =IF(B24=$D$5*$F$5,$B$6,0) -> 0 | I24: =IF(B24=$D$5*$F$5,$D$7+$D$7*$D$5*$H$6,0) -> 0 | J24: =D24+H24 -> 90435.359 | K24: =I24 -> 0 | L24: =J24-K24 -> 90435.359
B25: 5 | C25: =DATE(YEAR(C24),MONTH(C24)+VLOOKUP($I$12,参数范围!$K$3:$M$7,3,0),DAY(1)) -> 41426 | D25: =$C$15 -> 90435.359 | E25: =G24*$I$10/VLOOKUP($I$12,参数范围!$K$3:$N$7,2,0) -> 8757.2179 | F25: =D25-E25 -> 81678.141 | G25: =G24-F25 -> 601812.03 | H25: =IF(B25=$D$5*$F$5,$B$6,0) -> 0 | I25: =IF(B25=$D$5*$F$5,$D$7+$D$7*$D$5*$H$6,0) -> 0 | J25: =D25+H25 -> 90435.359 | K25: =I25 -> 0 | L25: =J25-K25 -> 90435.359
B26: 6 | C26: =DATE(YEAR(C25),MONTH(C25)+VLOOKUP($I$12,参数范围!$K$3:$M$7,3,0),DAY(1)) -> 41487 | D26: =$C$15 -> 90435.359 | E26: =G25*$I$10/VLOOKUP($I$12,参数范围!$K$3:$N$7,2,0) -> 7710.7167 | F26: =D26-E26 -> 82724.642 | G26: =G25-F26 -> 519087.39 | H26: =IF(B26=$D$5*$F$5,$B$6,0) -> 0 | I26: =IF(B26=$D$5*$F$5,$D$7+$D$7*$D$5*$H$6,0) -> 0 | J26: =D26+H26 -> 90435.359 | K26: =I26 -> 0 | L26: =J26-K26 -> 90435.359
B27: 7 | C27: =DATE(YEAR(C26),MONTH(C26)+VLOOKUP($I$12,参数范围!$K$3:$M$7,3,0),DAY(1)) -> 41548 | D27: =$C$15 -> 90435.359 | E27: =G26*$I$10/VLOOKUP($I$12,参数范围!$K$3:$N$7,2,0) -> 6650.8072 | F27: =D27-E27 -> 83784.552 | G27: =G26-F27 -> 435302.84 | H27: =IF(B27=$D$5*$F$5,$B$6,0) -> 0 | I27: =IF(B27=$D$5*$F$5,$D$7+$D$7*$D$5*$H$6,0) -> 0 | J27: =D27+H27 -> 90435.359 | K27: =I27 -> 0 | L27: =J27-K27 -> 90435.359
B28: 8 | C28: =DATE(YEAR(C27),MONTH(C27)+VLOOKUP($I$12,参数范围!$K$3:$M$7,3,0),DAY(1)) -> 41609 | D28: =$C$15 -> 90435.359 | E28: =G27*$I$10/VLOOKUP($I$12,参数范围!$K$3:$N$7,2,0) -> 5577.3176 | F28: =D28-E28 -> 84858.041 | G28: =G27-F28 -> 350444.8 | H28: =IF(B28=$D$5*$F$5,$B$6,0) -> 0 | I28: =IF(B28=$D$5*$F$5,$D$7+$D$7*$D$5*$H$6,0) -> 0 | J28: =D28+H28 -> 90435.359 | K28: =I28 -> 0 | L28: =J28-K28 -> 90435.359
B29: 9 | C29: =DATE(YEAR(C28),MONTH(C28)+VLOOKUP($I$12,参数范围!$K$3:$M$7,3,0),DAY(1)) -> 41671 | D29: =$C$15 -> 90435.359 | E29: =G28*$I$10/VLOOKUP($I$12,参数范围!$K$3:$N$7,2,0) -> 4490.074 | F29: =D29-E29 -> 85945.285 | G29: =G28-F29 -> 264499.51 | H29: =IF(B29=$D$5*$F$5,$B$6,0) -> 0 | I29: =IF(B29=$D$5*$F$5,$D$7+$D$7*$D$5*$H$6,0) -> 0 | J29: =D29+H29 -> 90435.359 | K29: =I29 -> 0 | L29: =J29-K29 -> 90435.359
B30: 10 | C30: =DATE(YEAR(C29),MONTH(C29)+VLOOKUP($I$12,参数范围!$K$3:$M$7,3,0),DAY(1)) -> 41730 | D30: =$C$15 -> 90435.359 | E30: =G29*$I$10/VLOOKUP($I$12,参数范围!$K$3:$N$7,2,0) -> 3388.9 | F30: =D30-E30 -> 87046.459 | G30: =G29-F30 -> 177453.06 | H30: =IF(B30=$D$5*$F$5,$B$6,0) -> 0 | I30: =IF(B30=$D$5*$F$5,$D$7+$D$7*$D$5*$H$6,0) -> 0 | J30: =D30+H30 -> 90435.359 | K30: =I30 -> 0 | L30: =J30-K30 -> 90435.359
B31: 11 | C31: =DATE(YEAR(C30),MONTH(C30)+VLOOKUP($I$12,参数范围!$K$3:$M$7,3,0),DAY(1)) -> 41791 | D31: =$C$15 -> 90435.359 | E31: =G30*$I$10/VLOOKUP($I$12,参数范围!$K$3:$N$7,2,0) -> 2273.6173 | F31: =D31-E31 -> 88161.741 | G31: =G30-F31 -> 89291.314 | H31: =IF(B31=$D$5*$F$5,$B$6,0) -> 0 | I31: =IF(B31=$D$5*$F$5,$D$7+$D$7*$D$5*$H$6,0) -> 0 | J31: =D31+H31 -> 90435.359 | K31: =I31 -> 0 | L31: =J31-K31 -> 90435.359
B32: 12 | C32: =DATE(YEAR(C31),MONTH(C31)+VLOOKUP($I$12,参数范围!$K$3:$M$7,3,0),DAY(1)) -> 41852 | D32: =$C$15 -> 90435.359 | E32: =G31*$I$10/VLOOKUP($I$12,参数范围!$K$3:$N$7,2,0) -> 1144.045 | F32: =D32-E32 -> 89291.314 | G32: =G31-F32 -> 2.0372681e-10 | H32: =IF(B32=$D$5*$F$5,$B$6,0) -> 0 | I32: =C12 -> 100000 | J32: =D32+H32 -> 90435.359 | K32: =I32 -> 100000 | L32: =J32-K32 -> -9564.6413
B33: 13 | C33: =DATE(YEAR(C32),MONTH(C32)+VLOOKUP($I$12,参数范围!$K$3:$M$7,3,0),DAY(1)) -> 41913 | E33: =G32*$I$10/VLOOKUP($I$12,参数范围!$K$3:$N$7,2,0) -> 2.6102498e-12 | F33: =D33-E33 -> -2.6102498e-12 | G33: =G32-F33 -> 2.0633706e-10 | H33: =IF(B33=$D$5*$F$5,$B$6,0) -> 0 | I33: =IF(B33=$D$5*$F$5,$D$7+$D$7*$D$5*$H$6,0) -> 0 | J33: =D33+H33 -> 0 | K33: =I33 -> 0 | L33: =J33-K33 -> 0
B34: 14 | C34: =DATE(YEAR(C33),MONTH(C33)+VLOOKUP($I$12,参数范围!$K$3:$M$7,3,0),DAY(1)) -> 41974 | E34: =G33*$I$10/VLOOKUP($I$12,参数范围!$K$3:$N$7,2,0) -> 2.6436936e-12 | F34: =D34-E34 -> -2.6436936e-12 | G34: =G33-F34 -> 2.0898076e-10 | H34: =IF(B34=$D$5*$F$5,$B$6,0) -> 0 | I34: =IF(B34=$D$5*$F$5,$D$7+$D$7*$D$5*$H$6,0) -> 0 | J34: =D34+H34 -> 0 | K34: =I34 -> 0 | L34: =J34-K34 -> 0
B35: 15 | C35: =DATE(YEAR(C34),MONTH(C34)+VLOOKUP($I$12,参数范围!$K$3:$M$7,3,0),DAY(1)) -> 42036 | E35: =G34*$I$10/VLOOKUP($I$12,参数范围!$K$3:$N$7,2,0) -> 2.6775659e-12 | F35: =D35-E35 -> -2.6775659e-12 | G35: =G34-F35 -> 2.1165832e-10 | H35: =IF(B35=$D$5*$F$5,$B$6,0) -> 0 | I35: =IF(B35=$D$5*$F$5,$D$7+$D$7*$D$5*$H$6,0) -> 0 | J35: =D35+H35 -> 0 | K35: =I35 -> 0 | L35: =J35-K35 -> 0
B36: 16 | C36: =DATE(YEAR(C35),MONTH(C35)+VLOOKUP($I$12,参数范围!$K$3:$M$7,3,0),DAY(1)) -> 42095 | E36: =G35*$I$10/VLOOKUP($I$12,参数范围!$K$3:$N$7,2,0) -> 2.7118723e-12 | F36: =D36-E36 -> -2.7118723e-12 | G36: =G35-F36 -> 2.1437019e-10 | H36: =IF(B36=$D$5*$F$5,$B$6,0) -> 0 | I36: =IF(B36=$D$5*$F$5,$D$7+$D$7*$D$5*$H$6,0) -> 0 | J36: =D36+H36 -> 0 | K36: =I36 -> 0 | L36: =J36-K36 -> 0
B37: 17 | C37: =DATE(YEAR(C36),MONTH(C36)+VLOOKUP($I$12,参数范围!$K$3:$M$7,3,0),DAY(1)) -> 42156 | E37: =G36*$I$10/VLOOKUP($I$12,参数范围!$K$3:$N$7,2,0) -> 2.7466181e-12 | F37: =D37-E37 -> -2.7466181e-12 | G37: =G36-F37 -> 2.1711681e-10 | H37: =IF(B37=$D$5*$F$5,$B$6,0) -> 0 | I37: =IF(B37=$D$5*$F$5,$D$7+$D$7*$D$5*$H$6,0) -> 0 | J37: =D37+H37 -> 0 | K37: =I37 -> 0 | L37: =J37-K37 -> 0
B38: 18 | C38: =DATE(YEAR(C37),MONTH(C37)+VLOOKUP($I$12,参数范围!$K$3:$M$7,3,0),DAY(1)) -> 42217 | E38: =G37*$I$10/VLOOKUP($I$12,参数范围!$K$3:$N$7,2,0) -> 2.7818092e-12 | F38: =D38-E38 -> -2.7818092e-12 | G38: =G37-F38 -> 2.1989862e-10 | H38: =IF(B38=$D$5*$F$5,$B$6,0) -> 0 | I38: =IF(B38=$D$5*$F$5,$D$7+$D$7*$D$5*$H$6,0) -> 0 | J38: =D38+H38 -> 0 | K38: =I38 -> 0 | L38: =J38-K38 -> 0
B39: 19 | C39: =DATE(YEAR(C38),MONTH(C38)+VLOOKUP($I$12,参数范围!$K$3:$M$7,3,0),DAY(1)) -> 42278 | E39: =G38*$I$10/VLOOKUP($I$12,参数范围!$K$3:$N$7,2,0) -> 2.8174511e-12 | F39: =D39-E39 -> -2.8174511e-12 | G39: =G38-F39 -> 2.2271607e-10 | H39: =IF(B39=$D$5*$F$5,$B$6,0) -> 0 | I39: =IF(B39=$D$5*$F$5,$D$7+$D$7*$D$5*$H$6,0) -> 0 | J39: =D39+H39 -> 0 | K39: =I39 -> 0 | L39: =J39-K39 -> 0
B40: 20 | C40: =DATE(YEAR(C39),MONTH(C39)+VLOOKUP($I$12,参数范围!$K$3:$M$7,3,0),DAY(1)) -> 42339 | E40: =G39*$I$10/VLOOKUP($I$12,参数范围!$K$3:$N$7,2,0) -> 2.8535497e-12 | F40: =D40-E40 -> -2.8535497e-12 | G40: =G39-F40 -> 2.2556962e-10 | H40: =IF(B40=$D$5*$F$5,$B$6,0) -> 0 | I40: =IF(B40=$D$5*$F$5,$D$7+$D$7*$D$5*$H$6,0) -> 0 | J40: =D40+H40 -> 0 | K40: =I40 -> 0 | L40: =J40-K40 -> 0
B41: 21 | C41: =DATE(YEAR(C40),MONTH(C40)+VLOOKUP($I$12,参数范围!$K$3:$M$7,3,0),DAY(1)) -> 42401 | E41: =G40*$I$10/VLOOKUP($I$12,参数范围!$K$3:$N$7,2,0) -> 2.8901108e-12 | F41: =D41-E41 -> -2.8901108e-12 | G41: =G40-F41 -> 2.2845973e-10 | H41: =IF(B41=$D$5*$F$5,$B$6,0) -> 0 | I41: =IF(B41=$D$5*$F$5,$D$7+$D$7*$D$5*$H$6,0) -> 0 | J41: =D41+H41 -> 0 | K41: =I41 -> 0 | L41: =J41-K41 -> 0
B42: 22 | C42: =DATE(YEAR(C41),MONTH(C41)+VLOOKUP($I$12,参数范围!$K$3:$M$7,3,0),DAY(1)) -> 42461 | E42: =G41*$I$10/VLOOKUP($I$12,参数范围!$K$3:$N$7,2,0) -> 2.9271403e-12 | F42: =D42-E42 -> -2.9271403e-12 | G42: =G41-F42 -> 2.3138687e-10 | H42: =IF(B42=$D$5*$F$5,$B$6,0) -> 0 | I42: =IF(B42=$D$5*$F$5,$D$7+$D$7*$D$5*$H$6,0) -> 0 | J42: =D42+H42 -> 0 | K42: =I42 -> 0 | L42: =J42-K42 -> 0
B43: 23 | C43: =DATE(YEAR(C42),MONTH(C42)+VLOOKUP($I$12,参数范围!$K$3:$M$7,3,0),DAY(1)) -> 42522 | E43: =G42*$I$10/VLOOKUP($I$12,参数范围!$K$3:$N$7,2,0) -> 2.9646443e-12 | F43: =D43-E43 -> -2.9646443e-12 | G43: =G42-F43 -> 2.3435152e-10 | H43: =IF(B43=$D$5*$F$5,$B$6,0) -> 0 | I43: =IF(B43=$D$5*$F$5,$D$7+$D$7*$D$5*$H$6,0) -> 0 | J43: =D43+H43 -> 0 | K43: =I43 -> 0 | L43: =J43-K43 -> 0
B44: 24 | C44: =DATE(YEAR(C43),MONTH(C43)+VLOOKUP($I$12,参数范围!$K$3:$M$7,3,0),DAY(1)) -> 42583 | E44: =G43*$I$10/VLOOKUP($I$12,参数范围!$K$3:$N$7,2,0) -> 3.0026288e-12 | F44: =D44-E44 -> -3.0026288e-12 | G44: =G43-F44 -> 2.3735415e-10 | H44: =IF(B44=$D$5*$F$5,$B$6,0) -> 0 | I44: =IF(B44=$D$5*$F$5,$D$7+$D$7*$D$5*$H$6,0) -> 0 | J44: =D44+H44 -> 0 | K44: =I44 -> 0 | L44: =J44-K44 -> 0
...

Sheet 参数范围
A2: 融资期限（月） | B2: 利率浮动方式 | C2: 手续费支付方式 | D2: 租金支付周期 | E2: 租金支付方式（1表示前付，0表示后付） | G2: PBOC贷款基准利率 | K2: 租金支付周期 | L2: 年期数 | M2: 月份数 | N2: 天数
A3: 24 | B3: 固定利率 | C3: 一次性支付 | D3: 月 | E3: 0 | G3: 固定利率 | I3: 0.08 | K3: 月 | L3: 12 | M3: 1 | N3: 30
A4: 36 | B4: 按年浮动 | C4: 每年初支付 | D4: 双月 | E4: 1 | G4: 6至12个月（含12个月） | H4: 6至12个月 | I4: 0.06 | K4: 双月 | L4: 6 | M4: 2 | N4: =M4*$N$3 -> 60
A5: 48 | B5: 按季浮动 | C5: 每期租金前支付 | D5: 季度 | G5: 6个月以内（含6个月） | H5: 6个月以内 | I5: 0.056 | K5: 季度 | L5: 4 | M5: 3 | N5: =M5*$N$3 -> 90
A6: 60 | D6: 半年 | G6: 12个月-36个月（含36个月） | H6: 12个月-36个月 | I6: 0.0615 | K6: 半年 | L6: 2 | M6: 6 | N6: =M6*$N$3 -> 180
A7: 72 | D7: 一年 | G7: 36个月-60个月（含60个月） | H7: 36个月-60个月 | I7: 0.064 | K7: 一年 | L7: 1 | M7: 12 | N7: =M7*$N$3 -> 360
G8: 60个月以上 | H8: 60个月以上 | I8: 0.0655

Sheet PBOC贷款基准利率
B1: 中国人民银行人民币存贷款基准利率历次调整一览表（1年期）
B2: 调整日期 | C2: 存款基准利率 | F2: 贷款基准利率
C3: 调整前 | D3: 调整后 | E3: 幅度 | F3: 调整前 | G3: 调整后 | H3: 幅度
B4: 41095 | C4: 0.0325 | D4: 0.03 | E4: -0.0025 | F4: 0.0631 | G4: 0.06 | H4: -0.0031
B5: 41068 | C5: 0.035 | D5: 0.0325 | E5: -0.0025 | F5: 0.0656 | G5: 0.0631 | H5: -0.0025
B6: 40731 | C6: 0.0325 | D6: 0.035 | E6: 0.0025 | F6: 0.0631 | G6: 0.0656 | H6: 0.0025
B7: 40639 | C7: 0.03 | D7: 0.0325 | E7: 0.0025 | F7: 0.0606 | G7: 0.0631 | H7: 0.0025
B8: 40583 | C8: 0.0275 | D8: 0.03 | E8: 0.0025 | F8: 0.0581 | G8: 0.0606 | H8: 0.0025
B9: 40538 | C9: 0.025 | D9: 0.0275 | E9: 0.0025 | F9: 0.0556 | G9: 0.0581 | H9: 0.0025
B10: 40471 | C10: 0.0225 | D10: 0.025 | E10: 0.0025 | F10: 0.0531 | G10: 0.0556 | H10: 0.0025
B11: 39805 | C11: 0.0252 | D11: 0.0225 | E11: -0.0027 | F11: 0.0558 | G11: 0.0531 | H11: -0.0027
B12: 39779 | C12: 0.036 | D12: 0.0252 | E12: -0.0108 | F12: 0.0666 | G12: 0.0558 | H12: -0.0108
B13: 39751 | C13: 0.0387 | D13: 0.036 | E13: -0.0027 | F13: 0.0693 | G13: 0.0666 | H13: -0.0027
B14: 39730 | C14: 0.0414 | D14: 0.0387 | E14: -0.0027 | F14: 0.072 | G14: 0.0693 | H14: -0.0027
B15: 39707 | C15: 0.0414 | D15: 0.0414 | E15: 0 | F15: 0.0747 | G15: 0.072 | H15: -0.0027
... B25: 37308 | C25: 0.0225 | D25: 0.0198 | E25: -0.0027 | F25: 0.0585 | G25: 0.0531 | H25: -0.0054
