Workbook

Sheet 资产负债表
A1: 资 产 负 债 表
H2: 会企01表
A3: 编制单位：租赁视界 | E3: 40999 | H3: 单位:元
A4: 资 产 | B4: 行次 | C4: 年初数 | D4: 期末数 | E4: 负债及所有者权益 | F4: 行次 | G4: 年初数 | H4: 期末数
A5: 流动资产: | E5: 流动负债:
A6: 货币资金 | B6: 1 | C6: 1 | D6: 1 | E6: 短期借款 | F6: 68 | G6: 1 | H6: 1
A7: 短期投资 | B7: 2 | C7: 1 | D7: 1 | E7: 应付票据 | F7: 69 | G7: 1 | H7: 1
A8: 应收票据 | B8: 3 | C8: 1 | D8: 1 | E8: 应付账款 | F8: 70 | G8: 1 | H8: 1
A9: 应收股利 | B9: 4 | C9: 1 | D9: 1 | E9: 预收账款 | F9: 71 | G9: 1 | H9: 1
A10: 应收利息 | B10: 5 | C10: 1 | D10: 1 | E10: 应付工资 | F10: 72 | G10: 1 | H10: 1
A11: 应收账款 | B11: 6 | C11: 1 | D11: 1 | E11: 应付福利费 | F11: 73 | G11: 1 | H11: 1
A12: 其他应收款 | B12: 7 | C12: 1 | D12: 1 | E12: 应付股利 | F12: 74 | G12: 1 | H12: 1
A13: 预付账款 | B13: 8 | C13: 1 | D13: 1 | E13: 应交税金 | F13: 75 | G13: 1 | H13: 1
A14: 应收补贴款 | B14: 9 | C14: 1 | D14: 1 | E14: 其他应交款 | F14: 80 | G14: 1 | H14: 1
A15: 存货 | B15: 10 | C15: 1 | D15: 1 | E15: 其他应付款 | F15: 81 | G15: 1 | H15: 1
A16: 待摊费用 | B16: 11 | C16: 1 | D16: 1 | E16: 预提费用 | F16: 82 | G16: 1 | H16: 1
A17: 一年内到期的长期债权投资 | B17: 21 | C17: 1 | D17: 1 | E17: 预计负债 | F17: 83 | G17: 1 | H17: 1
A18: 其他流动资产 | B18: 24 | C18: 1 | D18: 1 | E18: 一年内到期的长期负债 | F18: 86 | G18: 1 | H18: 1
A19: 流动资产合计 | B19: 31 | C19: =SUM(C6:C18) -> 13 | D19: =SUM(D6:D18) -> 13 | E19: 其他流动负债 | F19: 90 | G19: 1 | H19: 1
A20: 长期投资
A21: 长期股权投资 | B21: 32 | C21: 1 | D21: 1 | E21: 流动负债合计 | F21: 100 | G21: =SUM(G6:G20) -> 14 | H21: =SUM(H6:H20) -> 14
A22: 长期债权投资 | B22: 33 | C22: 1 | D22: 1 | E22: 长期负债
A23: 长期投资合计 | B23: 38 | C23: =SUM(C21:C22) -> 2 | D23: =SUM(D21:D22) -> 2 | E23: 长期借款 | F23: 101 | G23: 1 | H23: 1
A24: 固定资产: | E24: 应付债券 | F24: 102 | G24: 1 | H24: 1
A25: 固定资产原价 | B25: 39 | C25: 1 | D25: 1 | E25: 长期应付款 | F25: 102 | G25: 1 | H25: 1
A26: 减:累计折旧 | B26: 40 | C26: 1 | D26: 1 | E26: 专项应付款 | F26: 106 | G26: 1 | H26: 1
A27: 固定资产净额 | B27: 41 | C27: =C25-C26 -> 0 | D27: =D25-D26 -> 0 | E27: 其他长期负债 | F27: 108 | G27: 1 | H27: 1
A28: 减:固定资产减值准备 | B28: 42 | C28: 1 | D28: 1 | E28: 长期负债合计 | F28: 110 | G28: =SUM(G23:G27) -> 5 | H28: =SUM(H23:H27) -> 5
A29: 固定资产净额 | B29: 43 | C29: =C27-C28 -> -1 | D29: =D27-D28 -> -1 | E29: 递延税款
A30: 工程物资 | B30: 44 | C30: 1 | D30: 1 | E30: 递延税款贷项 | F30: 111 | G30: 1 | H30: 1
A31: 在建工程 | B31: 45 | C31: 1 | D31: 1 | E31: 负债合计 | F31: 114 | G31: =G21+G28+G30 -> 20 | H31: =H21+H28+H30 -> 20
A32: 固定资产清理 | B32: 46 | C32: 1 | D32: 1
A33: 固定资产合计 | B33: 50 | C33: =SUM(C29:C32) -> 2 | D33: =SUM(D29:D32) -> 2 | E33: 所有者权益(或股东权益)
A34: 无形资产及其他资产 | E34: 实收资本(或股本) | F34: 115 | G34: 1 | H34: 1
A35: 无形资产 | B35: 51 | C35: 1 | D35: 1 | E35: 减:已归还投资 | F35: 116 | G35: 1 | H35: 1
A36: 长期待摊费用 | B36: 52 | C36: 1 | D36: 1 | E36: 实收资本(或股本)净额 | F36: 117 | G36: =G34-G35 -> 0 | H36: =H34-H35 -> 0
A37: 其他长期资产 | B37: 53 | C37: 1 | D37: 1 | E37: 资本公积 | F37: 118 | G37: 1 | H37: 1
A38: 无形资产及其他资产合计 | B38: 60 | C38: =SUM(C35:C37) -> 3 | D38: =SUM(D35:D37) -> 3 | E38: 盈余公积 | F38: 119 | G38: 1 | H38: 1
E39: 其中:法定公积金 | F39: 120 | G39: 1 | H39: 1
A40: 递延税款 | E40: 未分配利润 | F40: 121 | G40: 1 | H40: 1
...

Sheet 利润表
A1: 利润表
A2: 行业类别：
A3: 编制单位： | D3: 38047 | E3: 金额单位：元
A4: 项 目 | B4: 行次 | C4: 本月数 | D4: 本年累计数 | E4: 去年累计数
A6: 一.主营业务收入 | B6: 1 | C6: 1 | D6: 1 | E6: 1
A7: 其中：出口销售收入（自营或委托） | B7: 2 | C7: 1 | D7: 1 | E7: 1
A8: 减：销售折扣与折让 | B8: 3 | C8: 1 | D8: 1 | E8: 1
A9: 主营业务收入净额 | B9: 4 | C9: =C6-C8 -> 0 | D9: =D6-D8 -> 0 | E9: =E6-E8 -> 0
A10: 减：主营业务成本 | B10: 5 | C10: 1 | D10: 1 | E10: 1
A11: 其中：出口销售成本（自营或委托） | B11: 6 | C11: 1 | D11: 1 | E11: 1
A12: 主营业务税金及附加 | B12: 7 | C12: 1 | D12: 1 | E12: 1
A13: 二.主营业务利润 | B13: 8 | C13: =C9-C10-C12 -> -2 | D13: =D9-D10-D12 -> -2 | E13: =E9-E10-E12 -> -2
A14: 加:其他业务利润 | B14: 9 | C14: 1 | D14: 1 | E14: 1
A15: 减:营业费用 | B15: 10 | C15: 1 | D15: 1 | E15: 1
A16: 管理费用 | B16: 11 | C16: 1 | D16: 1 | E16: 1
A17: 财务费用 | B17: 12 | C17: 1 | D17: 1 | E17: 1
A18: 其中:利息支出(减利息收入) | B18: 13 | C18: 1 | D18: 1 | E18: 1
A19: 汇兑损失(减汇兑收益) | B19: 14 | C19: 1 | D19: 1 | E19: 1
A20: 三.营业利润(亏损用"-"号) | B20: 15 | C20: =C13+C14-C15-C16-C17 -> -4 | D20: =D13+D14-D15-D16-D17 -> -4 | E20: =E13+E14-E15-E16-E17 -> -4
A21: 加:投资收益 | B21: 16 | C21: 1 | D21: 1 | E21: 1
A22: 补贴收入 | B22: 17 | C22: 1 | D22: 1 | E22: 1
A23: 营业外收入 | B23: 18 | C23: 1 | D23: 1 | E23: 1
A24: 加：以前年度损益调整 | B24: 19 | C24: 1 | D24: 1 | E24: 1
A25: 减：营业外支出 | B25: 20 | C25: 1 | D25: 1 | E25: 1
A26: 四.利润总额(亏损用"-"号) | B26: 21 | C26: =C20+C21+C22+C23+C24-C25 -> -1 | D26: =D20+D21+D22+D23+D24-D25 -> -1 | E26: =E20+E21+E22+E23+E24-E25 -> -1
A27: 减：所得税 | B27: 22 | C27: 1 | D27: 1 | E27: 1
A28: 五.净利润(亏损用"-"号) | B28: 23 | C28: =C26-C27 -> -2 | D28: =D26-D27 -> -2 | E28: =E26-E27 -> -2
A29: 补 充 资 料
A30: 项 目 | B30: 行次 | C30: 本月数 | D30: 本年数 | E30: 上年数
A31: 1. 期末全部职工人数（人） | B31: 25
A32: 2. 平均职工人数（人） | B32: 26
A33: 3. 工资总额（元） | B33: 27
A34: 4. 银行利息支出数（元） | B34: 28
A35: 5. 增值税销项税额（元） | B35: 29
A36: 6. 增值税进项税额（元） | B36: 30
A37: 7. 增值税应纳税额（元） | B37: 31
A38: 8. 营业税（元） | B38: 32
A39: 9. 消费税（元） | B39: 33
A40: 10. 资源税（元） | B40: 34
A41: 11. 在管理费用中列支的税金（元） | B41: 35
...

Sheet 现金流量表
A1: 现金流量表
A3: 编制单位:公司名称 | B3: 2004 | C3: 年 | D3: 单位:元
A4: 项目 | B4: 行次 | C4: 上期数 | D4: 本期数
A5: 一、经营活动产生的现金流量：
A6: 销售商品、提供劳务收到的现金 | B6: 1 | C6: 1 | D6: 1
A7: 收到的税费返还 | B7: 2 | C7: 1 | D7: 1
A8: 收到的其他与经营活动有关的现金 | B8: 3 | C8: 1 | D8: 1
A9: 现金流入小计 | B9: 4 | C9: =C6+C7+C8 -> 3 | D9: =D6+D7+D8 -> 3
A10: 购买商品、接受劳务支付的现金 | B10: 5 | C10: 1 | D10: 1
A11: 支付给职工以及为职工支付的现金 | B11: 6 | C11: 1 | D11: 1
A12: 支付的各项税费 | B12: 7 | C12: 1 | D12: 1
A13: 支付的其他与经营活动有关的现金 | B13: 8 | C13: 1 | D13: 1
A14: 现金流出小计 | B14: 9 | C14: =C10+C11+C12+C13 -> 4 | D14: =D10+D11+D12+D13 -> 4
A15: 经营活动产生的现金流量净额 | B15: 10 | C15: =C9-C10 -> 2 | D15: =D9-D10 -> 2
A16: 二、投资活动产生的现金流量： | B16: 11
A17: 收回投资所收到的现金 | B17: 12 | C17: 1 | D17: 1
A18: 取得投资收益所收到的现金 | B18: 13 | C18: 1 | D18: 1
A19: 处置固定资产、无形资产或其他长期资产收回的现金净额 | B19: 14 | C19: 1 | D19: 1
A20: 收到的其他与投资活动有关的现金 | B20: 15 | C20: 1 | D20: 1
A21: 现金流入小计 | B21: 16 | C21: =C17+C18+C19+C20 -> 4 | D21: =D17+D18+D19+D20 -> 4
A22: 购建固定资产、无形资产和其他长期资产支付的现金 | B22: 17 | C22: 1 | D22: 1
A23: 投资所支付的现金 | B23: 18 | C23: 1 | D23: 1
A24: 支付的其他与投资活动有关的现金 | B24: 19 | C24: 1 | D24: 1
A25: 现金流出小计 | B25: 20 | C25: =C22+C23+C24 -> 3 | D25: =D22+D23+D24 -> 3
A26: 投资活动产生的现金流量净额 | B26: 21 | C26: =C21-C25 -> 1 | D26: =D21-D25 -> 1
A27: 三、筹资活动产生的现金流量： | B27: 22
A28: 吸收投资所收到的现金 | B28: 23 | C28: 1 | D28: 1
A29: 借款收到的现金 | B29: 24 | C29: 1 | D29: 1
A30: 收到的其他与筹资活动有关的现金 | B30: 25 | C30: 1 | D30: 1
A31: 现金流入小计 | B31: 26 | C31: =C28+C29+C30 -> 3 | D31: =D28+D29+D30 -> 3
A32: 偿还债务所支付的现金 | B32: 27 | C32: 1 | D32: 1
A33: 分配股利、利润或偿付利息所支付的现金 | B33: 28 | C33: 1 | D33: 1
A34: 支付的其他与筹资活动有关的现金 | B34: 29 | C34: 1 | D34: 1
A35: 现金流出小计 | B35: 30 | C35: =C32+C33+C34 -> 3 | D35: =D32+D33+D34 -> 3
A36: 筹资活动产生的现金流量净额 | B36: 31 | C36: =C31-C35 -> 0 | D36: =D31-D35 -> 0
A37: 四、汇率变动对现金的影响 | B37: 32
A38: 五、现金流量净额 | B38: 33 | C38: =C15+C26+C36 -> 3 | D38: =D15+D26+D36 -> 3

Sheet 利润分配表分析
A1: 利润分配表
A2: 单位名称： | D2: ****年**月
A3: 项目 | B3: 上年数 | C3: 本年数 | D3: 增加额 | E3: 增减百分比% | F3: 上年结构% | G3: 本年结构%
A4: 一、净利润 | B4: =利润表!E28 -> -2 | C4: =利润表!D28 -> -2 | D4: =C4-B4 -> 0 | E4: =D4/B4 -> 0 | F4: =B4/$B$7 -> #DIV/0! | G4: =C4/$C$7 -> #DIV/0!
A5: 加:年初未分配利润 | B5: 1 | C5: 1 | D5: =C5-B5 -> 0 | E5: =D5/B5 -> 0 | F5: =B5/$B$7 -> #DIV/0! | G5: =C5/$C$7 -> #DIV/0!
A6: 年初未分配利润调整 | B6: 1 | C6: 1 | D6: =C6-B6 -> 0 | E6: =D6/B6 -> 0 | F6: =B6/$B$7 -> #DIV/0! | G6: =C6/$C$7 -> #DIV/0!
A7: 二、可供分配的利润 | B7: =B4+B5+B6 -> 0 | C7: =C4+C5+C6 -> 0 | D7: =C7-B7 -> 0 | E7: =D7/B7 -> #DIV/0! | F7: =B7/$B$7 -> #DIV/0! | G7: =C7/$C$7 -> #DIV/0!
A8: 减：提取法定盈余公积 | B8: 1 | C8: 1 | D8: =C8-B8 -> 0 | E8: =D8/B8 -> 0 | F8: =B8/$B$7 -> #DIV/0! | G8: =C8/$C$7 -> #DIV/0!
A9: 提取法定公益金 | B9: 1 | C9: 1 | D9: =C9-B9 -> 0 | E9: =D9/B9 -> 0 | F9: =B9/$B$7 -> #DIV/0! | G9: =C9/$C$7 -> #DIV/0!
A10: 三、可供股东分配利润 | B10: =B7-B8-B9 -> -2 | C10: =C7-C8-C9 -> -2 | D10: =C10-B10 -> 0 | E10: =D10/B10 -> 0 | F10: =B10/$B$7 -> #DIV/0! | G10: =C10/$C$7 -> #DIV/0!
A11: 减：提取任意盈余公积 | B11: 1 | C11: 1 | D11: =C11-B11 -> 0 | E11: =D11/B11 -> 0 | F11: =B11/$B$7 -> #DIV/0! | G11: =C11/$C$7 -> #DIV/0!
A12: 优先股股利 | B12: 1 | C12: 1 | D12: =C12-B12 -> 0 | E12: =D12/B12 -> 0 | F12: =B12/$B$7 -> #DIV/0! | G12: =C12/$C$7 -> #DIV/0!
A13: 应付普通股股利 | B13: 1 | C13: 1 | D13: =C13-B13 -> 0 | E13: =D13/B13 -> 0 | F13: =B13/$B$7 -> #DIV/0! | G13: =C13/$C$7 -> #DIV/0!
A14: 四、未分配利润 | B14: =B10-B11-B13 -> -4 | C14: =C10-C11-C13 -> -4 | D14: =C14-B14 -> 0 | E14: =D14/B14 -> 0 | F14: =B14/$B$7 -> #DIV/0! | G14: =C14/$C$7 -> #DIV/0!
A15: 五、少数股东权益 | D15: =C15-B15 -> 0 | E15: =D15/B15 -> #DIV/0! | F15: =B15/$B$7 -> #DIV/0! | G15: =C15/$C$7 -> #DIV/0!

Sheet 资产负债表环比分析
A1: 资 产 负 债 表 环 比 分 析
H2: 会企01表
A3: 编制单位： | E3: =资产负债表!E3 -> 40999 | H3: 单位:元
A4: 资 产 | B4: 行次 | C4: 增减额 | D4: 增减百分比 | E4: 负债及所有者权益 | F4: 行次 | G4: 增减额 | H4: 增减百分比
A5: 流动资产: | E5: 流动负债:
A6: 货币资金 | B6: 1 | C6: =资产负债表!D6-资产负债表!C6 -> 0 | D6: =C6/资产负债表!C6 -> 0 | E6: 短期借款 | F6: 68 | G6: =资产负债表!H6-资产负债表!G6 -> 0 | H6: =G6/资产负债表!G6 -> 0
A7: 短期投资 | B7: 2 | C7: =资产负债表!D7-资产负债表!C7 -> 0 | D7: =C7/资产负债表!C7 -> 0 | E7: 应付票据 | F7: 69 | G7: =资产负债表!H7-资产负债表!G7 -> 0 | H7: =G7/资产负债表!G7 -> 0
A8: 应收票据 | B8: 3 | C8: =资产负债表!D8-资产负债表!C8 -> 0 | D8: =C8/资产负债表!C8 -> 0 | E8: 应付账款 | F8: 70 | G8: =资产负债表!H8-资产负债表!G8 -> 0 | H8: =G8/资产负债表!G8 -> 0
A9: 应收股利 | B9: 4 | C9: =资产负债表!D9-资产负债表!C9 -> 0 | D9: =C9/资产负债表!C9 -> 0 | E9: 预收账款 | F9: 71 | G9: =资产负债表!H9-资产负债表!G9 -> 0 | H9: =G9/资产负债表!G9 -> 0
A10: 应收利息 | B10: 5 | C10: =资产负债表!D10-资产负债表!C10 -> 0 | D10: =C10/资产负债表!C10 -> 0 | E10: 应付工资 | F10: 72 | G10: =资产负债表!H10-资产负债表!G10 -> 0 | H10: =G10/资产负债表!G10 -> 0
A11: 应收账款 | B11: 6 | C11: =资产负债表!D11-资产负债表!C11 -> 0 | D11: =C11/资产负债表!C11 -> 0 | E11: 应付福利费 | F11: 73 | G11: =资产负债表!H11-资产负债表!G11 -> 0 | H11: =G11/资产负债表!G11 -> 0
A12: 其他应收款 | B12: 7 | C12: =资产负债表!D12-资产负债表!C12 -> 0 | D12: =C12/资产负债表!C12 -> 0 | E12: 应付股利 | F12: 74 | G12: =资产负债表!H12-资产负债表!G12 -> 0 | H12: =G12/资产负债表!G12 -> 0
A13: 预付账款 | B13: 8 | C13: =资产负债表!D13-资产负债表!C13 -> 0 | D13: =C13/资产负债表!C13 -> 0 | E13: 应交税金 | F13: 75 | G13: =资产负债表!H13-资产负债表!G13 -> 0 | H13: =G13/资产负债表!G13 -> 0
A14: 应收补贴款 | B14: 9 | C14: =资产负债表!D14-资产负债表!C14 -> 0 | D14: =C14/资产负债表!C14 -> 0 | E14: 其他应交款 | F14: 80 | G14: =资产负债表!H14-资产负债表!G14 -> 0 | H14: =G14/资产负债表!G14 -> 0
A15: 存货 | B15: 10 | C15: =资产负债表!D15-资产负债表!C15 -> 0 | D15: =C15/资产负债表!C15 -> 0 | E15: 其他应付款 | F15: 81 | G15: =资产负债表!H15-资产负债表!G15 -> 0 | H15: =G15/资产负债表!G15 -> 0
A16: 待摊费用 | B16: 11 | C16: =资产负债表!D16-资产负债表!C16 -> 0 | D16: =C16/资产负债表!C16 -> 0 | E16: 预提费用 | F16: 82 | G16: =资产负债表!H16-资产负债表!G16 -> 0 | H16: =G16/资产负债表!G16 -> 0
A17: 一年内到期的长期债权投资 | B17: 21 | C17: =资产负债表!D17-资产负债表!C17 -> 0 | D17: =C17/资产负债表!C17 -> 0 | E17: 预计负债 | F17: 83 | G17: =资产负债表!H17-资产负债表!G17 -> 0 | H17: =G17/资产负债表!G17 -> 0
... A19: 流动资产合计 | B19: 31 | C19: =资产负债表!D19-资产负债表!C19 -> 0 | D19: =C19/资产负债表!C19 -> 0 | E19: 其他流动负债 | F19: 90 | G19: =资产负债表!H19-资产负债表!G19 -> 0 | H19: =G19/资产负债表!G19 -> 0
A20: 长期投资
A21: 长期股权投资 | B21: 32 | C21: =资产负债表!D21-资产负债表!C21 -> 0 | D21: =C21/资产负债表!C21 -> 0 | E21: 流动负债合计 | F21: 100 | G21: =资产负债表!H21-资产负债表!G21 -> 0 | H21: =G21/资产负债表!G21 -> 0
A22: 长期债权投资 | B22: 33 | C22: =资产负债表!D22-资产负债表!C22 -> 0 | D22: =C22/资产负债表!C22 -> 0 | E22: 长期负债
A23: 长期投资合计 | B23: 38 | C23: =资产负债表!D23-资产负债表!C23 -> 0 | D23: =C23/资产负债表!C23 -> 0 | E23: 长期借款 | F23: 101 | G23: =资产负债表!H23-资产负债表!G23 -> 0 | H23: =G23/资产负债表!G23 -> 0
A24: 固定资产: | E24: 应付债券 | F24: 102 | G24: =资产负债表!H24-资产负债表!G24 -> 0 | H24: =G24/资产负债表!G24 -> 0
A25: 固定资产原价 | B25: 39 | C25: =资产负债表!D25-资产负债表!C25 -> 0 | D25: =C25/资产负债表!C25 -> 0 | E25: 长期应付款 | F25: 102 | G25: =资产负债表!H25-资产负债表!G25 -> 0 | H25: =G25/资产负债表!G25 -> 0
A26: 减:累计折旧 | B26: 40 | C26: =资产负债表!D26-资产负债表!C26 -> 0 | D26: =C26/资产负债表!C26 -> 0 | E26: 专项应付款 | F26: 106 | G26: =资产负债表!H26-资产负债表!G26 -> 0 | H26: =G26/资产负债表!G26 -> 0
A27: 固定资产净额 | B27: 41 | C27: =资产负债表!D27-资产负债表!C27 -> 0 | D27: =C27/资产负债表!C27 -> #DIV/0! | E27: 其他长期负债 | F27: 108 | G27: =资产负债表!H27-资产负债表!G27 -> 0 | H27: =G27/资产负债表!G27 -> 0
A28: 减:固定资产减值准备 | B28: 42 | C28: =资产负债表!D28-资产负债表!C28 -> 0 | D28: =C28/资产负债表!C28 -> 0 | E28: 长期负债合计 | F28: 110 | G28: =资产负债表!H28-资产负债表!G28 -> 0 | H28: =G28/资产负债表!G28 -> 0
A29: 固定资产净额 | B29: 43 | C29: =资产负债表!D29-资产负债表!C29 -> 0 | D29: =C29/资产负债表!C29 -> 0 | E29: 递延税款
A30: 工程物资 | B30: 44 | C30: =资产负债表!D30-资产负债表!C30 -> 0 | D30: =C30/资产负债表!C30 -> 0 | E30: 递延税款贷项 | F30: 111 | G30: =资产负债表!H30-资产负债表!G30 -> 0 | H30: =G30/资产负债表!G30 -> 0
A31: 在建工程 | B31: 45 | C31: =资产负债表!D31-资产负债表!C31 -> 0 | D31: =C31/资产负债表!C31 -> 0 | E31: 负债合计 | F31: 114 | G31: =资产负债表!H31-资产负债表!G31 -> 0 | H31: =G31/资产负债表!G31 -> 0
A32: 固定资产清理 | B32: 46 | C32: =资产负债表!D32-资产负债表!C32 -> 0 | D32: =C32/资产负债表!C32 -> 0
A33: 固定资产合计 | B33: 50 | C33: =资产负债表!D33-资产负债表!C33 -> 0 | D33: =C33/资产负债表!C33 -> 0 | E33: 所有者权益(或股东权益)
A34: 无形资产及其他资产 | E34: 实收资本(或股本) | F34: 115 | G34: =资产负债表!H34-资产负债表!G34 -> 0 | H34: =G34/资产负债表!G34 -> 0
A35: 无形资产 | B35: 51 | C35: =资产负债表!D35-资产负债表!C35 -> 0 | D35: =C35/资产负债表!C35 -> 0 | E35: 减:已归还投资 | F35: 116 | G35: =资产负债表!H35-资产负债表!G35 -> 0 | H35: =G35/资产负债表!G35 -> 0
A36: 长期待摊费用 | B36: 52 | C36: =资产负债表!D36-资产负债表!C36 -> 0 | D36: =C36/资产负债表!C36 -> 0 | E36: 实收资本(或股本)净额 | F36: 117 | G36: =资产负债表!H36-资产负债表!G36 -> 0 | H36: =G36/资产负债表!G36 -> #DIV/0!
A37: 其他长期资产 | B37: 53 | C37: =资产负债表!D37-资产负债表!C37 -> 0 | D37: =C37/资产负债表!C37 -> 0 | E37: 资本公积 | F37: 118 | G37: =资产负债表!H37-资产负债表!G37 -> 0 | H37: =G37/资产负债表!G37 -> 0
A38: 无形资产及其他资产合计 | B38: 60 | C38: =资产负债表!D38-资产负债表!C38 -> 0 | D38: =C38/资产负债表!C38 -> 0 | E38: 盈余公积 | F38: 119 | G38: =资产负债表!H38-资产负债表!G38 -> 0 | H38: =G38/资产负债表!G38 -> 0
E39: 其中:法定公积金 | F39: 120 | G39: =资产负债表!H39-资产负债表!G39 -> 0 | H39: =G39/资产负债表!G39 -> 0
A40: 递延税款 | E40: 未分配利润 | F40: 121 | G40: =资产负债表!H40-资产负债表!G40 -> 0 | H40: =G40/资产负债表!G40 -> 0
A41: 递延税款借项 | B41: 61 | C41: =资产负债表!D41-资产负债表!C41 -> 0 | D41: =C41/资产负债表!C41 -> 0 | E41: 所有者权益(或股东权益)合计 | F41: 122 | G41: =资产负债表!H41-资产负债表!G41 -> 0 | H41: =G41/资产负债表!G41 -> 0
...

Sheet 资产负债表结构分析
A1: 资 产 负 债 表 结 构 分 析
H2: 会企01表
A3: 编制单位： | E3: =资产负债表!E3 -> 40999 | H3: 单位:元
A4: 资 产 | B4: 行次 | C4: 年初数% | D4: 期末数% | E4: 负债及所有者权益 | F4: 行次 | G4: 年初数% | H4: 期末数%
A5: 流动资产: | E5: 流动负债:
A6: 货币资金 | B6: 1 | C6: =资产负债表!C6/资产负债表!$C$42 -> 0.047619048 | D6: =资产负债表!D6/资产负债表!$D$42 -> 0.047619048 | E6: 短期借款 | F6: 68 | G6: =资产负债表!G6/资产负债表!$G$42 -> 0.043478261 | H6: =资产负债表!H6/资产负债表!$H$42 -> 0.043478261
A7: 短期投资 | B7: 2 | C7: =资产负债表!C7/资产负债表!$C$42 -> 0.047619048 | D7: =资产负债表!D7/资产负债表!$D$42 -> 0.047619048 | E7: 应付票据 | F7: 69 | G7: =资产负债表!G7/资产负债表!$G$42 -> 0.043478261 | H7: =资产负债表!H7/资产负债表!$H$42 -> 0.043478261
A8: 应收票据 | B8: 3 | C8: =资产负债表!C8/资产负债表!$C$42 -> 0.047619048 | D8: =资产负债表!D8/资产负债表!$D$42 -> 0.047619048 | E8: 应付账款 | F8: 70 | G8: =资产负债表!G8/资产负债表!$G$42 -> 0.043478261 | H8: =资产负债表!H8/资产负债表!$H$42 -> 0.043478261
A9: 应收股利 | B9: 4 | C9: =资产负债表!C9/资产负债表!$C$42 -> 0.047619048 | D9: =资产负债表!D9/资产负债表!$D$42 -> 0.047619048 | E9: 预收账款 | F9: 71 | G9: =资产负债表!G9/资产负债表!$G$42 -> 0.043478261 | H9: =资产负债表!H9/资产负债表!$H$42 -> 0.043478261
A10: 应收利息 | B10: 5 | C10: =资产负债表!C10/资产负债表!$C$42 -> 0.047619048 | D10: =资产负债表!D10/资产负债表!$D$42 -> 0.047619048 | E10: 应付工资 | F10: 72 | G10: =资产负债表!G10/资产负债表!$G$42 -> 0.043478261 | H10: =资产负债表!H10/资产负债表!$H$42 -> 0.043478261
A11: 应收账款 | B11: 6 | C11: =资产负债表!C11/资产负债表!$C$42 -> 0.047619048 | D11: =资产负债表!D11/资产负债表!$D$42 -> 0.047619048 | E11: 应付福利费 | F11: 73 | G11: =资产负债表!G11/资产负债表!$G$42 -> 0.043478261 | H11: =资产负债表!H11/资产负债表!$H$42 -> 0.043478261
A12: 其他应收款 | B12: 7 | C12: =资产负债表!C12/资产负债表!$C$42 -> 0.047619048 | D12: =资产负债表!D12/资产负债表!$D$42 -> 0.047619048 | E12: 应付股利 | F12: 74 | G12: =资产负债表!G12/资产负债表!$G$42 -> 0.043478261 | H12: =资产负债表!H12/资产负债表!$H$42 -> 0.043478261
A13: 预付账款 | B13: 8 | C13: =资产负债表!C13/资产负债表!$C$42 -> 0.047619048 | D13: =资产负债表!D13/资产负债表!$D$42 -> 0.047619048 | E13: 应交税金 | F13: 75 | G13: =资产负债表!G13/资产负债表!$G$42 -> 0.043478261 | H13: =资产负债表!H13/资产负债表!$H$42 -> 0.043478261
A14: 应收补贴款 | B14: 9 | C14: =资产负债表!C14/资产负债表!$C$42 -> 0.047619048 | D14: =资产负债表!D14/资产负债表!$D$42 -> 0.047619048 | E14: 其他应交款 | F14: 80 | G14: =资产负债表!G14/资产负债表!$G$42 -> 0.043478261 | H14: =资产负债表!H14/资产负债表!$H$42 -> 0.043478261
A15: 存货 | B15: 10 | C15: =资产负债表!C15/资产负债表!$C$42 -> 0.047619048 | D15: =资产负债表!D15/资产负债表!$D$42 -> 0.047619048 | E15: 其他应付款 | F15: 81 | G15: =资产负债表!G15/资产负债表!$G$42 -> 0.043478261 | H15: =资产负债表!H15/资产负债表!$H$42 -> 0.043478261
A16: 待摊费用 | B16: 11 | C16: =资产负债表!C16/资产负债表!$C$42 -> 0.047619048 | D16: =资产负债表!D16/资产负债表!$D$42 -> 0.047619048 | E16: 预提费用 | F16: 82 | G16: =资产负债表!G16/资产负债表!$G$42 -> 0.043478261 | H16: =资产负债表!H16/资产负债表!$H$42 -> 0.043478261
A17: 一年内到期的长期债权投资 | B17: 21 | C17: =资产负债表!C17/资产负债表!$C$42 -> 0.047619048 | D17: =资产负债表!D17/资产负债表!$D$42 -> 0.047619048 | E17: 预计负债 | F17: 83 | G17: =资产负债表!G17/资产负债表!$G$42 -> 0.043478261 | H17: =资产负债表!H17/资产负债表!$H$42 -> 0.043478261
... A19: 流动资产合计 | B19: 31 | C19: =资产负债表!C19/资产负债表!$C$42 -> 0.61904762 | D19: =资产负债表!D19/资产负债表!$D$42 -> 0.61904762 | E19: 其他流动负债 | F19: 90 | G19: =资产负债表!G19/资产负债表!$G$42 -> 0.043478261 | H19: =资产负债表!H19/资产负债表!$H$42 -> 0.043478261
A20: 长期投资
A21: 长期股权投资 | B21: 32 | C21: =资产负债表!C21/资产负债表!$C$42 -> 0.047619048 | D21: =资产负债表!D21/资产负债表!$D$42 -> 0.047619048 | E21: 流动负债合计 | F21: 100 | G21: =资产负债表!G21/资产负债表!$G$42 -> 0.60869565 | H21: =资产负债表!H21/资产负债表!$H$42 -> 0.60869565
A22: 长期债权投资 | B22: 33 | C22: =资产负债表!C22/资产负债表!$C$42 -> 0.047619048 | D22: =资产负债表!D22/资产负债表!$D$42 -> 0.047619048 | E22: 长期负债
A23: 长期投资合计 | B23: 38 | C23: =资产负债表!C23/资产负债表!$C$42 -> 0.095238095 | D23: =资产负债表!D23/资产负债表!$D$42 -> 0.095238095 | E23: 长期借款 | F23: 101 | G23: =资产负债表!G23/资产负债表!$G$42 -> 0.043478261 | H23: =资产负债表!H23/资产负债表!$H$42 -> 0.043478261
A24: 固定资产: | E24: 应付债券 | F24: 102 | G24: =资产负债表!G24/资产负债表!$G$42 -> 0.043478261 | H24: =资产负债表!H24/资产负债表!$H$42 -> 0.043478261
A25: 固定资产原价 | B25: 39 | C25: =资产负债表!C25/资产负债表!$C$42 -> 0.047619048 | D25: =资产负债表!D25/资产负债表!$D$42 -> 0.047619048 | E25: 长期应付款 | F25: 102 | G25: =资产负债表!G25/资产负债表!$G$42 -> 0.043478261 | H25: =资产负债表!H25/资产负债表!$H$42 -> 0.043478261
A26: 减:累计折旧 | B26: 40 | C26: =资产负债表!C26/资产负债表!$C$42 -> 0.047619048 | D26: =资产负债表!D26/资产负债表!$D$42 -> 0.047619048 | E26: 专项应付款 | F26: 106 | G26: =资产负债表!G26/资产负债表!$G$42 -> 0.043478261 | H26: =资产负债表!H26/资产负债表!$H$42 -> 0.043478261
A27: 固定资产净额 | B27: 41 | C27: =资产负债表!C27/资产负债表!$C$42 -> 0 | D27: =资产负债表!D27/资产负债表!$D$42 -> 0 | E27: 其他长期负债 | F27: 108 | G27: =资产负债表!G27/资产负债表!$G$42 -> 0.043478261 | H27: =资产负债表!H27/资产负债表!$H$42 -> 0.043478261
A28: 减:固定资产减值准备 | B28: 42 | C28: =资产负债表!C28/资产负债表!$C$42 -> 0.047619048 | D28: =资产负债表!D28/资产负债表!$D$42 -> 0.047619048 | E28: 长期负债合计 | F28: 110 | G28: =资产负债表!G28/资产负债表!$G$42 -> 0.2173913 | H28: =资产负债表!H28/资产负债表!$H$42 -> 0.2173913
A29: 固定资产净额 | B29: 43 | C29: =资产负债表!C29/资产负债表!$C$42 -> -0.047619048 | D29: =资产负债表!D29/资产负债表!$D$42 -> -0.047619048 | E29: 递延税款
A30: 工程物资 | B30: 44 | C30: =资产负债表!C30/资产负债表!$C$42 -> 0.047619048 | D30: =资产负债表!D30/资产负债表!$D$42 -> 0.047619048 | E30: 递延税款贷项 | F30: 111 | G30: =资产负债表!G30/资产负债表!$G$42 -> 0.043478261 | H30: =资产负债表!H30/资产负债表!$H$42 -> 0.043478261
A31: 在建工程 | B31: 45 | C31: =资产负债表!C31/资产负债表!$C$42 -> 0.047619048 | D31: =资产负债表!D31/资产负债表!$D$42 -> 0.047619048 | E31: 负债合计 | F31: 114 | G31: =资产负债表!G31/资产负债表!$G$42 -> 0.86956522 | H31: =资产负债表!H31/资产负债表!$H$42 -> 0.86956522
A32: 固定资产清理 | B32: 46 | C32: =资产负债表!C32/资产负债表!$C$42 -> 0.047619048 | D32: =资产负债表!D32/资产负债表!$D$42 -> 0.047619048
A33: 固定资产合计 | B33: 50 | C33: =资产负债表!C33/资产负债表!$C$42 -> 0.095238095 | D33: =资产负债表!D33/资产负债表!$D$42 -> 0.095238095 | E33: 所有者权益(或股东权益)
A34: 无形资产及其他资产 | E34: 实收资本(或股本) | F34: 115 | G34: =资产负债表!G34/资产负债表!$G$42 -> 0.043478261 | H34: =资产负债表!H34/资产负债表!$H$42 -> 0.043478261
A35: 无形资产 | B35: 51 | C35: =资产负债表!C35/资产负债表!$C$42 -> 0.047619048 | D35: =资产负债表!D35/资产负债表!$D$42 -> 0.047619048 | E35: 减:已归还投资 | F35: 116 | G35: =资产负债表!G35/资产负债表!$G$42 -> 0.043478261 | H35: =资产负债表!H35/资产负债表!$H$42 -> 0.043478261
A36: 长期待摊费用 | B36: 52 | C36: =资产负债表!C36/资产负债表!$C$42 -> 0.047619048 | D36: =资产负债表!D36/资产负债表!$D$42 -> 0.047619048 | E36: 实收资本(或股本)净额 | F36: 117 | G36: =资产负债表!G36/资产负债表!$G$42 -> 0 | H36: =资产负债表!H36/资产负债表!$H$42 -> 0
A37: 其他长期资产 | B37: 53 | C37: =资产负债表!C37/资产负债表!$C$42 -> 0.047619048 | D37: =资产负债表!D37/资产负债表!$D$42 -> 0.047619048 | E37: 资本公积 | F37: 118 | G37: =资产负债表!G37/资产负债表!$G$42 -> 0.043478261 | H37: =资产负债表!H37/资产负债表!$H$42 -> 0.043478261
A38: 无形资产及其他资产合计 | B38: 60 | C38: =资产负债表!C38/资产负债表!$C$42 -> 0.14285714 | D38: =资产负债表!D38/资产负债表!$D$42 -> 0.14285714 | E38: 盈余公积 | F38: 119 | G38: =资产负债表!G38/资产负债表!$G$42 -> 0.043478261 | H38: =资产负债表!H38/资产负债表!$H$42 -> 0.043478261
E39: 其中:法定公积金 | F39: 120 | G39: =资产负债表!G39/资产负债表!$G$42 -> 0.043478261 | H39: =资产负债表!H39/资产负债表!$H$42 -> 0.043478261
A40: 递延税款 | E40: 未分配利润 | F40: 121 | G40: =资产负债表!G40/资产负债表!$G$42 -> 0.043478261 | H40: =资产负债表!H40/资产负债表!$H$42 -> 0.043478261
A41: 递延税款借项 | B41: 61 | C41: =资产负债表!C41/资产负债表!$C$42 -> 0.047619048 | D41: =资产负债表!D41/资产负债表!$D$42 -> 0.047619048 | E41: 所有者权益(或股东权益)合计 | F41: 122 | G41: =资产负债表!G41/资产负债表!$G$42 -> 0.13043478 | H41: =资产负债表!H41/资产负债表!$H$42 -> 0.13043478
...

Sheet 利润表环比分析
A1: 利 润 表 环 比 分 析
A2: 行业类别：
A3: 编制单位： | C3: =利润表!D3 -> 38047 | D3: 金额单位：元
A4: 项 目 | B4: 行次 | C4: 增减额 | D4: 增减百分比%
A6: 一.主营业务收入 | B6: 1 | C6: =利润表!D6-利润表!E6 -> 0 | D6: =C6/利润表!E6 -> 0
A7: 其中：出口销售收入（自营或委托） | B7: 2 | C7: =利润表!D7-利润表!E7 -> 0 | D7: =C7/利润表!E7 -> 0
A8: 减：销售折扣与折让 | B8: 3 | C8: =利润表!D8-利润表!E8 -> 0 | D8: =C8/利润表!E8 -> 0
A9: 主营业务收入净额 | B9: 4 | C9: =利润表!D9-利润表!E9 -> 0 | D9: =C9/利润表!E9 -> #DIV/0!
A10: 减：主营业务成本 | B10: 5 | C10: =利润表!D10-利润表!E10 -> 0 | D10: =C10/利润表!E10 -> 0
A11: 其中：出口销售成本（自营或委托） | B11: 6 | C11: =利润表!D11-利润表!E11 -> 0 | D11: =C11/利润表!E11 -> 0
A12: 主营业务税金及附加 | B12: 7 | C12: =利润表!D12-利润表!E12 -> 0 | D12: =C12/利润表!E12 -> 0
A13: 二.主营业务利润 | B13: 8 | C13: =利润表!D13-利润表!E13 -> 0 | D13: =C13/利润表!E13 -> 0
A14: 加:其他业务利润 | B14: 9 | C14: =利润表!D14-利润表!E14 -> 0 | D14: =C14/利润表!E14 -> 0
A15: 减:营业费用 | B15: 10 | C15: =利润表!D15-利润表!E15 -> 0 | D15: =C15/利润表!E15 -> 0
A16: 管理费用 | B16: 11 | C16: =利润表!D16-利润表!E16 -> 0 | D16: =C16/利润表!E16 -> 0
A17: 财务费用 | B17: 12 | C17: =利润表!D17-利润表!E17 -> 0 | D17: =C17/利润表!E17 -> 0
... A28: 五.净利润(亏损用"-"号) | B28: 23 | C28: =利润表!D28-利润表!E28 -> 0 | D28: =C28/利润表!E28 -> 0
A29: 补 充 资 料
A30: 项 目 | B30: 行次 | C30: 增减额 | D30: 增减百分比%
A31: 1. 期末全部职工人数（人） | B31: 25 | C31: =利润表!D31-利润表!E31 -> 0 | D31: =C31/利润表!E31 -> #DIV/0!
A32: 2. 平均职工人数（人） | B32: 26 | C32: =利润表!D32-利润表!E32 -> 0 | D32: =C32/利润表!E32 -> #DIV/0!
A33: 3. 工资总额（元） | B33: 27 | C33: =利润表!D33-利润表!E33 -> 0 | D33: =C33/利润表!E33 -> #DIV/0!
A34: 4. 银行利息支出数（元） | B34: 28 | C34: =利润表!D34-利润表!E34 -> 0 | D34: =C34/利润表!E34 -> #DIV/0!
A35: 5. 增值税销项税额（元） | B35: 29 | C35: =利润表!D35-利润表!E35 -> 0 | D35: =C35/利润表!E35 -> #DIV/0!
A36: 6. 增值税进项税额（元） | B36: 30 | C36: =利润表!D36-利润表!E36 -> 0 | D36: =C36/利润表!E36 -> #DIV/0!
A37: 7. 增值税应纳税额（元） | B37: 31 | C37: =利润表!D37-利润表!E37 -> 0 | D37: =C37/利润表!E37 -> #DIV/0!
A38: 8. 营业税（元） | B38: 32 | C38: =利润表!D38-利润表!E38 -> 0 | D38: =C38/利润表!E38 -> #DIV/0!
A39: 9. 消费税（元） | B39: 33 | C39: =利润表!D39-利润表!E39 -> 0 | D39: =C39/利润表!E39 -> #DIV/0!
A40: 10. 资源税（元） | B40: 34 | C40: =利润表!D40-利润表!E40 -> 0 | D40: =C40/利润表!E40 -> #DIV/0!
A41: 11. 在管理费用中列支的税金（元） | B41: 35 | C41: =利润表!D41-利润表!E41 -> 0 | D41: =C41/利润表!E41 -> #DIV/0!
A42: 12. 减征所得税（元） | B42: 36 | C42: =利润表!D42-利润表!E42 -> 0 | D42: =C42/利润表!E42 -> #DIV/0!
A43: 13.赊销收入净额 | B43: 37 | C43: =利润表!D43-利润表!E43 -> 0 | D43: =C43/利润表!E43 -> #DIV/0!

Sheet 利润表结构分析
A1: 利润表结构分析
A2: 行业类别：
A3: 编制单位： | C3: =利润表!D3 -> 38047
A4: 项 目 | B4: 行次 | C4: 上年数% | D4: 本年数% | E4: 本年比上年增减%
A6: 一.主营业务收入 | B6: 1 | C6: =利润表!E6/利润表!$E$6 -> 1 | D6: =利润表!D6/利润表!$D$6 -> 1 | E6: =D6-C6 -> 0
A7: 其中：出口销售收入（自营或委托） | B7: 2 | C7: =利润表!E7/利润表!$E$6 -> 1 | D7: =利润表!D7/利润表!$D$6 -> 1 | E7: =D7-C7 -> 0
A8: 减：销售折扣与折让 | B8: 3 | C8: =利润表!E8/利润表!$E$6 -> 1 | D8: =利润表!D8/利润表!$D$6 -> 1 | E8: =D8-C8 -> 0
A9: 主营业务收入净额 | B9: 4 | C9: =利润表!E9/利润表!$E$6 -> 0 | D9: =利润表!D9/利润表!$D$6 -> 0 | E9: =D9-C9 -> 0
A10: 减：主营业务成本 | B10: 5 | C10: =利润表!E10/利润表!$E$6 -> 1 | D10: =利润表!D10/利润表!$D$6 -> 1 | E10: =D10-C10 -> 0
A11: 其中：出口销售成本（自营或委托） | B11: 6 | C11: =利润表!E11/利润表!$E$6 -> 1 | D11: =利润表!D11/利润表!$D$6 -> 1 | E11: =D11-C11 -> 0
A12: 主营业务税金及附加 | B12: 7 | C12: =利润表!E12/利润表!$E$6 -> 1 | D12: =利润表!D12/利润表!$D$6 -> 1 | E12: =D12-C12 -> 0
A13: 二.主营业务利润 | B13: 8 | C13: =利润表!E13/利润表!$E$6 -> -2 | D13: =利润表!D13/利润表!$D$6 -> -2 | E13: =D13-C13 -> 0
A14: 加:其他业务利润 | B14: 9 | C14: =利润表!E14/利润表!$E$6 -> 1 | D14: =利润表!D14/利润表!$D$6 -> 1 | E14: =D14-C14 -> 0
A15: 减:营业费用 | B15: 10 | C15: =利润表!E15/利润表!$E$6 -> 1 | D15: =利润表!D15/利润表!$D$6 -> 1 | E15: =D15-C15 -> 0
A16: 管理费用 | B16: 11 | C16: =利润表!E16/利润表!$E$6 -> 1 | D16: =利润表!D16/利润表!$D$6 -> 1 | E16: =D16-C16 -> 0
A17: 财务费用 | B17: 12 | C17: =利润表!E17/利润表!$E$6 -> 1 | D17: =利润表!D17/利润表!$D$6 -> 1 | E17: =D17-C17 -> 0
... A28: 五.净利润(亏损用"-"号) | B28: 23 | C28: =利润表!E28/利润表!$E$6 -> -2 | D28: =利润表!D28/利润表!$D$6 -> -2 | E28: =D28-C28 -> 0

Sheet 现金流量表环比分析
A1: 现金流量表环比分析
A2: 编制单位:公司名称 | B2: =现金流量表!B3 -> 2004 | C2: 年
A3: 项目 | B3: 行次 | C3: 比上年增减额 | D3: 增减百分比%
A4: 一、经营活动产生的现金流量：
A5: 销售商品、提供劳务收到的现金 | B5: 1 | C5: =现金流量表!D6-现金流量表!C6 -> 0 | D5: =C5/现金流量表!C6 -> 0
A6: 收到的税费返还 | B6: 2 | C6: =现金流量表!D7-现金流量表!C7 -> 0 | D6: =C6/现金流量表!C7 -> 0
A7: 收到的其他与经营活动有关的现金 | B7: 3 | C7: =现金流量表!D8-现金流量表!C8 -> 0 | D7: =C7/现金流量表!C8 -> 0
A8: 现金流入小计 | B8: 4 | C8: =现金流量表!D9-现金流量表!C9 -> 0 | D8: =C8/现金流量表!C9 -> 0
A9: 购买商品、接受劳务支付的现金 | B9: 5 | C9: =现金流量表!D10-现金流量表!C10 -> 0 | D9: =C9/现金流量表!C10 -> 0
A10: 支付给职工以及为职工支付的现金 | B10: 6 | C10: =现金流量表!D11-现金流量表!C11 -> 0 | D10: =C10/现金流量表!C11 -> 0
A11: 支付的各项税费 | B11: 7 | C11: =现金流量表!D12-现金流量表!C12 -> 0 | D11: =C11/现金流量表!C12 -> 0
A12: 支付的其他与经营活动有关的现金 | B12: 8 | C12: =现金流量表!D13-现金流量表!C13 -> 0 | D12: =C12/现金流量表!C13 -> 0
A13: 现金流出小计 | B13: 9 | C13: =现金流量表!D14-现金流量表!C14 -> 0 | D13: =C13/现金流量表!C14 -> 0
A14: 经营活动产生的现金流量净额 | B14: 10 | C14: =现金流量表!D15-现金流量表!C15 -> 0 | D14: =C14/现金流量表!C15 -> 0
A15: 二、投资活动产生的现金流量： | B15: 11
A16: 收回投资所收到的现金 | B16: 12 | C16: =现金流量表!D17-现金流量表!C17 -> 0 | D16: =C16/现金流量表!C17 -> 0
A17: 取得投资收益所收到的现金 | B17: 13 | C17: =现金流量表!D18-现金流量表!C18 -> 0 | D17: =C17/现金流量表!C18 -> 0
A18: 处置固定资产、无形资产或其他长期资产收回的现金净额 | B18: 14 | C18: =现金流量表!D19-现金流量表!C19 -> 0 | D18: =C18/现金流量表!C19 -> 0
A19: 收到的其他与投资活动有关的现金 | B19: 15 | C19: =现金流量表!D20-现金流量表!C20 -> 0 | D19: =C19/现金流量表!C20 -> 0
A20: 现金流入小计 | B20: 16 | C20: =现金流量表!D21-现金流量表!C21 -> 0 | D20: =C20/现金流量表!C21 -> 0
A21: 购建固定资产、无形资产和其他长期资产支付的现金 | B21: 17 | C21: =现金流量表!D22-现金流量表!C22 -> 0 | D21: =C21/现金流量表!C22 -> 0
A22: 投资所支付的现金 | B22: 18 | C22: =现金流量表!D23-现金流量表!C23 -> 0 | D22: =C22/现金流量表!C23 -> 0
A23: 支付的其他与投资活动有关的现金 | B23: 19 | C23: =现金流量表!D24-现金流量表!C24 -> 0 | D23: =C23/现金流量表!C24 -> 0
A24: 现金流出小计 | B24: 20 | C24: =现金流量表!D25-现金流量表!C25 -> 0 | D24: =C24/现金流量表!C25 -> 0
A25: 投资活动产生的现金流量净额 | B25: 21 | C25: =现金流量表!D26-现金流量表!C26 -> 0 | D25: =C25/现金流量表!C26 -> 0
A26: 三、筹资活动产生的现金流量： | B26: 22
A27: 吸收投资所收到的现金 | B27: 23 | C27: =现金流量表!D28-现金流量表!C28 -> 0 | D27: =C27/现金流量表!C28 -> 0
A28: 借款收到的现金 | B28: 24 | C28: =现金流量表!D29-现金流量表!C29 -> 0 | D28: =C28/现金流量表!C29 -> 0
A29: 收到的其他与筹资活动有关的现金 | B29: 25 | C29: =现金流量表!D30-现金流量表!C30 -> 0 | D29: =C29/现金流量表!C30 -> 0
A30: 现金流入小计 | B30: 26 | C30: =现金流量表!D31-现金流量表!C31 -> 0 | D30: =C30/现金流量表!C31 -> 0
A31: 偿还债务所支付的现金 | B31: 27 | C31: =现金流量表!D32-现金流量表!C32 -> 0 | D31: =C31/现金流量表!C32 -> 0
A32: 分配股利、利润或偿付利息所支付的现金 | B32: 28 | C32: =现金流量表!D33-现金流量表!C33 -> 0 | D32: =C32/现金流量表!C33 -> 0
A33: 支付的其他与筹资活动有关的现金 | B33: 29 | C33: =现金流量表!D34-现金流量表!C34 -> 0 | D33: =C33/现金流量表!C34 -> 0
A34: 现金流出小计 | B34: 30 | C34: =现金流量表!D35-现金流量表!C35 -> 0 | D34: =C34/现金流量表!C35 -> 0
A35: 筹资活动产生的现金流量净额 | B35: 31 | C35: =现金流量表!D36-现金流量表!C36 -> 0 | D35: =C35/现金流量表!C36 -> #DIV/0!
A36: 四、汇率变动对现金的影响 | B36: 32 | C36: =现金流量表!D37-现金流量表!C37 -> #VALUE! | D36: =C36/现金流量表!C37 -> #VALUE!
A37: 五、现金流量净额 | B37: 33 | C37: =现金流量表!D38-现金流量表!C38 -> 0 | D37: =C37/现金流量表!C38 -> 0

Sheet 现金流量表结构分析
A1: 现金流量表结构分析
A2: 编制单位:公司名称 | B2: 行次 | C2: 现金流入分析 | E2: 现金流出分析 | G2: 现金净额分析
A3: 项目 | C3: 上年％ | D3: 本年％ | E3: 上年％ | F3: 本年％ | G3: 上年％ | H3: 本年％
A4: 一、经营活动产生的现金流量：
A5: 销售商品、提供劳务收到的现金 | B5: 1 | C5: {=现金流量表!C6:C9/(现金流量表!C9+现金流量表!C21+现金流量表!C31)} -> 0.1 | D5: {=现金流量表!D6:D9/(现金流量表!D9+现金流量表!D21+现金流量表!D31)} -> 0.1
A6: 收到的税费返还 | B6: 2 | C6: 0.1 | D6: 0.1
A7: 收到的其他与经营活动有关的现金 | B7: 3 | C7: 0.1 | D7: 0.1
A8: 现金流入小计 | B8: 4 | C8: 0.3 | D8: 0.3
A9: 购买商品、接受劳务支付的现金 | B9: 5 | E9: {=现金流量表!C10:C14/(现金流量表!C14+现金流量表!C25+现金流量表!C35)} -> 0.1 | F9: {=现金流量表!D10:D14/(现金流量表!D14+现金流量表!D25+现金流量表!D35)} -> 0.1
A10: 支付给职工以及为职工支付的现金 | B10: 6 | E10: 0.1 | F10: 0.1
A11: 支付的各项税费 | B11: 7 | E11: 0.1 | F11: 0.1
A12: 支付的其他与经营活动有关的现金 | B12: 8 | E12: 0.1 | F12: 0.1
A13: 现金流出小计 | B13: 9 | E13: 0.4 | F13: 0.4
A14: 经营活动产生的现金流量净额 | B14: 10 | G14: =现金流量表!C15/现金流量表!C$38 -> 0.66666667 | H14: =现金流量表!D15/现金流量表!D$38 -> 0.66666667
A15: 二、投资活动产生的现金流量： | B15: 11
A16: 收回投资所收到的现金 | B16: 12 | C16: {=现金流量表!C17:C21/(现金流量表!C9+现金流量表!C21+现金流量表!C31)} -> 0.1 | D16: {=现金流量表!D17:D21/(现金流量表!D9+现金流量表!D21+现金流量表!D31)} -> 0.1
A17: 取得投资收益所收到的现金 | B17: 13 | C17: 0.1 | D17: 0.1
A18: 处置固定资产、无形资产或其他长期资产收回的现金净额 | B18: 14 | C18: 0.1 | D18: 0.1
A19: 收到的其他与投资活动有关的现金 | B19: 15 | C19: 0.1 | D19: 0.1
A20: 现金流入小计 | B20: 16 | C20: 0.4 | D20: 0.4
A21: 购建固定资产、无形资产和其他长期资产支付的现金 | B21: 17 | E21: {=现金流量表!C22:C25/(现金流量表!C14+现金流量表!C25+现金流量表!C35)} -> 0.1 | F21: {=现金流量表!D22:D25/(现金流量表!D14+现金流量表!D25+现金流量表!D35)} -> 0.1
A22: 投资所支付的现金 | B22: 18 | E22: 0.1 | F22: 0.1
A23: 支付的其他与投资活动有关的现金 | B23: 19 | E23: 0.1 | F23: 0.1
A24: 现金流出小计 | B24: 20 | E24: 0.3 | F24: 0.3
A25: 投资活动产生的现金流量净额 | B25: 21 | G25: =现金流量表!C26/现金流量表!C$38 -> 0.33333333 | H25: =现金流量表!D26/现金流量表!D$38 -> 0.33333333
A26: 三、筹资活动产生的现金流量： | B26: 22
A27: 吸收投资所收到的现金 | B27: 23 | C27: {=现金流量表!C28:C31/(现金流量表!C31+现金流量表!C21+现金流量表!C9)} -> 0.1 | D27: {=现金流量表!D28:D31/(现金流量表!D31+现金流量表!D21+现金流量表!D9)} -> 0.1
A28: 借款收到的现金 | B28: 24 | C28: 0.1 | D28: 0.1
A29: 收到的其他与筹资活动有关的现金 | B29: 25 | C29: 0.1 | D29: 0.1
A30: 现金流入小计 | B30: 26 | C30: 0.3 | D30: 0.3
A31: 偿还债务所支付的现金 | B31: 27 | E31: {=现金流量表!C32:C35/(现金流量表!C35+现金流量表!C25+现金流量表!C14)} -> 0.1 | F31: {=现金流量表!D32:D35/(现金流量表!D35+现金流量表!D25+现金流量表!D14)} -> 0.1
A32: 分配股利、利润或偿付利息所支付的现金 | B32: 28 | E32: 0.1 | F32: 0.1
A33: 支付的其他与筹资活动有关的现金 | B33: 29 | E33: 0.1 | F33: 0.1
A34: 现金流出小计 | B34: 30 | E34: 0.3 | F34: 0.3
A35: 筹资活动产生的现金流量净额 | B35: 31 | G35: =现金流量表!C36/现金流量表!C$38 -> 0 | H35: =现金流量表!D36/现金流量表!D$38 -> 0
A36: 四、汇率变动对现金的影响 | B36: 32 | G36: =现金流量表!C37/现金流量表!C$38 -> #VALUE! | H36: =现金流量表!D37/现金流量表!D$38 -> #VALUE!
A37: 五、现金流量净额 | B37: 33 | G37: =现金流量表!C38/现金流量表!C$38 -> 1 | H37: =现金流量表!D38/现金流量表!D$38 -> 1
A38: 分析年份：

Sheet 财务比率分析
A1: 财务比率
A2: 编制单位： | B2: 分析年份：
A3: 项 目 | B3: 计算公式 | C3: 上年数 | D3: 本年数
A4: 一、偿债能力
A5: 1、流动比率 | B5: 流动资产÷流动负债 | C5: =资产负债表!C19/资产负债表!G21 -> 0.92857143 | D5: =资产负债表!D19/资产负债表!H21 -> 0.92857143
A6: 2、速动比率 | B6: 速动资产÷流动负债 | C6: =(资产负债表!C19-资产负债表!C15-资产负债表!C16)/资产负债表!G21 -> 0.78571429 | D6: =(资产负债表!D19-资产负债表!D15-资产负债表!D16)/资产负债表!H21 -> 0.78571429
A7: 3、现金流量比率 | B7: 经营活动现金流量净额÷流动负债 | C7: =现金流量表!C15/资产负债表!G21 -> 0.14285714 | D7: =现金流量表!D15/资产负债表!H21 -> 0.14285714
A8: 4、现金比率 | B8: 现金及现金等价物仅增加额÷流动负债 | C8: =现金流量表!C38/资产负债表!G21 -> 0.21428571 | D8: =现金流量表!D38/资产负债表!H21 -> 0.21428571
A9: 5、资产负债率 | B9: 负债总额÷资产总额 | C9: =资产负债表!G31/资产负债表!C42 -> 0.95238095 | D9: =资产负债表!H31/资产负债表!D42 -> 0.95238095
A10: 6、产权比率 | B10: 负债总额÷股东权益总额 | C10: =资产负债表!G31/资产负债表!G41 -> 6.6666667 | D10: =资产负债表!H31/资产负债表!H41 -> 6.6666667
A11: 7、股东权益比率 | B11: 股东权益总额÷资产总额 | C11: =资产负债表!G41/资产负债表!C42 -> 0.14285714 | D11: =资产负债表!H41/资产负债表!D42 -> 0.14285714
A12: 8、利息保障倍数 | B12: （税前利润+利息费用）÷利息费用 | C12: =(利润表!E26+利润表!E18)/利润表!E18 -> 0 | D12: =(利润表!D26+利润表!D18)/利润表!D18 -> 0
A13: 9、偿债保障比率 | B13: 负债总额÷经营活动现金流量净额 | C13: =资产负债表!G31/现金流量表!C15 -> 10 | D13: =资产负债表!H31/现金流量表!D15 -> 10
A14: 二、营运能力比率
A15: 1、应收帐款周转率 | B15: 赊销收入净额÷平均应收帐款 | D15: =利润表!D43/(资产负债表!C11+资产负债表!D11)/2 -> 0
A16: 2、存货周转率 | B16: 主营业务成本÷平均存货 | D16: =利润表!D10/(资产负债表!C15+资产负债表!D15)/2 -> 0.25
A17: 3、流动资产周转率 | B17: 主营业务收入÷平均流动资产 | D17: =利润表!D6/(资产负债表!C19+资产负债表!D19)/2 -> 0.019230769
A18: 4、固定资产周转率 | B18: 主营业务收入÷平均固定资产 | D18: =利润表!D6/(资产负债表!C33+资产负债表!D33)/2 -> 0.125
A19: 5、总资产周转率 | B19: 主营业务收入÷平均总资产 | D19: =利润表!D6/(资产负债表!C42+资产负债表!D42)/2 -> 0.011904762
A20: 三、盈利能力比率
A21: 1、总资产报酬率 | B21: 息税前利润÷平均总资产 | D21: =(利润表!D26+利润表!D18)/(资产负债表!C42+资产负债表!D42)/2 -> 0
A22: 2、总资产净利率 | B22: 净利润÷平均总资产 | D22: =利润表!D28/(资产负债表!C43+资产负债表!D43)/2 -> #DIV/0!
A23: 3、净资产收益率 | B23: 净利润÷平均股东权益 | D23: =利润表!D28/(资产负债表!G41+资产负债表!H41)/2 -> -0.16666667
A24: 4、主营业务毛利率 | B24: 主营业务利润÷主营业务收入净额 | C24: =利润表!E13/利润表!E6 -> -2 | D24: =利润表!D13/利润表!D6 -> -2
A25: 5、主营业务净利率 | B25: 净利润÷主营业务收入净额 | C25: =利润表!E28/利润表!E9 -> #DIV/0! | D25: =利润表!D28/利润表!D9 -> #DIV/0!
A26: 6、成本费用利润率 | B26: 净利润÷（主营业务成本＋期间费用） | C26: =利润表!E28/(利润表!E10+利润表!E15+利润表!E16+利润表!E17) -> -0.5 | D26: =利润表!D28/(利润表!D10+利润表!D15+利润表!D16+利润表!D17) -> -0.5
A27: 四、发展能力比率
A28: 1、主营业务收入增长率 | B28: 本年主营业务收入增长额÷上年主营业务收入 | D28: =利润表环比分析!D6 -> 0
A29: 2、净利润增长率 | B29: 本年净利润增长额÷上年净利润 | D29: =利润表环比分析!D28 -> 0
A30: 3、留存盈利比率 | B30: （净利润－全部股利）÷净利润 | C30: =(利润表!E28-利润分配表分析!B12-利润分配表分析!B13)/利润表!E28 -> 2 | D30: =(利润表!D28-利润分配表分析!C12-利润分配表分析!C13)/利润表!D28 -> 2
A31: 4、可持续增长率 | B31: 净资产收益率÷留存盈利比率 | D31: =D23*D30 -> -0.33333333
A32: 五、现金流量分析
A33: 现金股利
A34: 优先股股利
A35: 普通股股数
A36: 经营活动净现金比率 | B36: 经营活动净现金流量÷负债总额 | C36: =现金流量表!C15/资产负债表!G31 -> 0.1 | D36: =现金流量表!D15/资产负债表!H31 -> 0.1
A37: 到期债务本息偿付比率 | B37: 经营活动净现金流量÷（本期到期债务本金+现金利息支出） | C37: =现金流量表!C16/(资产负债表!G18+利润表!E18) -> 0 | D37: =现金流量表!D16/(资产负债表!H18+利润表!D18) -> 0
A38: 支付现金股利比率 | B38: 经营活动净现金流量÷现金股利 | C38: =现金流量表!C17/C33 -> #DIV/0! | D38: =现金流量表!D17/D33 -> #DIV/0!
A39: 现金充分性比率 | B39: 现金流量净增加额÷（现金股利利息＋资本性支出额+债务偿还额） | D39: =现金流量表!D38/(资产负债表环比分析!G31+利润表!D18+财务比率分析!D33+资产负债表环比分析!C33+资产负债表环比分析!C23+资产负债表环比分析!C38) -> 3
A40: 每股经营现金流量 | B40: (经营活动净现金流量－优先股股利)÷普通股股数 | C40: =(现金流量表!C15-财务比率分析!C34)/财务比率分析!C35 -> #DIV/0! | D40: =(现金流量表!D15-财务比率分析!D34)/财务比率分析!D35 -> #DIV/0!
...

Sheet 杜邦分析体系
A1: 单位名称： | C1: 杜邦分析体系 | J1: 单位：元
B2: 年
E3: 净资产收益率 | F3: =财务比率分析!D23 -> -0.16666667
D6: 总资产净利率 | E6: =财务比率分析!D22 -> #DIV/0! | F6: × | G6: 权益乘数 | H6: =1/(1-财务比率分析!D9) -> 21
C9: 主营业务净利率 | D9: =财务比率分析!D25 -> #DIV/0! | E9: × | F9: 总资产周转率 | G9: =财务比率分析!D19 -> 0.011904762
A12: 净利润 | B12: =利润表!D28 -> -2 | C12: ÷ | D12: 主营业务收入 | E12: =利润表!D6 -> 1 | G12: 主营业务收入 | H12: =E12 -> 1 | I12: ÷ | J12: 平均总资产 | K12: =AVERAGE(K13:K14) -> 21
J13: 其中：期初 | K13: =资产负债表!C42 -> 21
J14: 期末 | K14: =资产负债表!D42 -> 21
A16: 总收入 | B16: =利润表!D6+利润表!D14+利润表!D21+利润表!D22+利润表!D23 -> 5 | C16: － | D16: 总成本 | E16: =SUM(C18:C24) -> 6
G17: 流动资产 | H17: =AVERAGE(H18:H19) -> 13 | J17: 非流动资产 | K17: =AVERAGE(K18:K19) -> 8
B18: 主营业务成本 | C18: =利润表!D10 -> 1 | G18: 其中：期初 | H18: =资产负债表!C19 -> 13 | J18: 其中：期初 | K18: =K13-H18 -> 8
B19: 税金 | C19: =利润表!D12 -> 1 | G19: 期末 | H19: =资产负债表!D19 -> 13 | J19: 期末 | K19: =K14-H19 -> 8
B20: 营业费用 | C20: =利润表!D15 -> 1
B21: 管理费用 | C21: =利润表!D16 -> 1 | E21: 货币资金 | F21: =AVERAGE(F22:F23) -> 1
B22: 财务费用 | C22: =利润表!D17 -> 1 | E22: 其中：期初 | F22: =资产负债表!C6 -> 1
B23: 营业外支出 | C23: =利润表!D25 -> 1 | E23: 期末 | F23: =资产负债表!D6 -> 1
B24: 少数股东权益 | C24: =利润分配表分析!C15 -> 0 | E24: 应收帐款 | F24: =AVERAGE(F25:F26) -> 1 | I24: 长期投资 | J24: =AVERAGE(J25:J26) -> 2
E25: 其中：期初 | F25: =资产负债表!C11 -> 1 | I25: 其中：期初 | J25: =资产负债表!C23 -> 2
E26: 期末 | F26: =资产负债表!D11 -> 1 | I26: 期末 | J26: =资产负债表!D23 -> 2
E27: 存货 | F27: =AVERAGE(F28:F29) -> 1 | I27: 固定资产 | J27: =AVERAGE(J28:J29) -> 2
E28: 其中：期初 | F28: =资产负债表!C15 -> 1 | I28: 其中：期初 | J28: =资产负债表!C33 -> 2
E29: 期末 | F29: =资产负债表!D15 -> 1 | I29: 期末 | J29: =资产负债表!D33 -> 2
E30: 其他流动资产 | F30: =AVERAGE(F31:F32) -> 10 | I30: 无形及其他资产 | J30: =AVERAGE(J31:J32) -> 3
E31: 其中：期初 | F31: =H18-F22-F25-F28 -> 10 | I31: 其中：期初 | J31: =资产负债表!C38 -> 3
E32: 期末 | F32: =H19-F23-F26-F29 -> 10 | I32: 期末 | J32: =资产负债表!D38 -> 3

Sheet 财务预警分析_阿尔曼模型
A1: 财务预警分析—阿尔曼模型
A2: 适用范围 | B2: 企业破产和综合业绩评价
A3: 指标名称 | B3: 计算公式 | C3: 系数 | D3: 值
A4: 运营资金资产比率 | B4: 运营资金／资产总额 | C4: 0.012 | D4: =(资产负债表!D19-资产负债表!H21)/资产负债表!D42*100*C4 -> -0.057142857
A5: 留存收益资产比率 | B5: 留存收益／资产总额 | C5: 0.014 | D5: =(资产负债表!H38+资产负债表!H40)/资产负债表!D42*100*C5 -> 0.13333333
A6: 息税前收益资产比率 | B6: 息税前收益／资产总额 | C6: 0.033 | D6: =(利润表!D26+利润表!D18)/资产负债表!D42*100*财务预警分析_阿尔曼模型!C6 -> 0
A7: 权益市价债务比率 | B7: 权益市价／债务总额 | C7: 0.006 | D7: =D9/资产负债表!H31*100*C7 -> 0
A8: 销售收入资产比率 | B8: 销售额／资产总额 | C8: 0.00999 | D8: =利润表!D9/资产负债表!D44*100*财务预警分析_阿尔曼模型!C8 -> #DIV/0!
A9: 权益市价 | B9: 普通股优先股的股票的市场价值
A10: Z值(按年末数计算) | D10: =SUM(D4:D8) -> #DIV/0!
A11: Z临界值 | D11: 2.675
A12: 判断结果 | D12: =IF(D10>D11,"财务业绩较好","企业具有失败特征") -> #DIV/0!
