Workbook

Sheet 编制说明！

Sheet 基本信息录入
C2: 报表编制基本信息录入
C3: 编制单位： | E3: ××公司
C4: 所属时期或截止时间： | E4: 2004年3月31日
C5: 企业负责人： | E5: 张三
C6: 财务负责人： | E6: 李四
C7: 制表人： | E7: 王五
C8: 说明：基本信息录入后，将会自动显示在各报表的相关位置。
C10: 报表目录
C12: 编 号 | D12: 行次 | E12: 报表名称
C13: A01 | D13: 1 | E13: 基本信息录入
C14: A02 | D14: 2 | E14: 编制说明
C15: A03 | D15: 3 | E15: 表外数据录入
C16: 会企01表 | D16: 4 | E16: 资产负债表
C17: 会企02表 | D17: 5 | E17: 利润及利润分配表
C18: 会企03表 | D18: 6 | E18: 现金流量表

Sheet 资产负债表
A1: 资 产 负 债 表
H2: 会企01表
A3: =CONCATENATE("编制单位：",基本信息录入!E3) -> 编制单位：××公司 | D3: =CONCATENATE(" ",基本信息录入!E4) -> 2004年3月31日 | H3: 单位：元
A4: 资 产 | B4: 行次 | C4: 年初数 | D4: 期末数 | E4: 负债及所有者权益 | F4: 行次 | G4: 年初数 | H4: 期末数
A5: 流动资产： | E5: 流动负债：
A6: 货币资金 | B6: 1 | C6: 17473830 | D6: 80555692 | E6: 短期借款 | F6: 68 | G6: 100000000 | H6: 96000000
A7: 短期投资 | B7: 2 | C7: 28989738 | E7: 应付票据 | F7: 69
A8: 应收票据 | B8: 3 | D8: 10000000 | E8: 应付帐款 | F8: 70 | G8: 9604053.5 | H8: 37649254
A9: 应收股利 | B9: 4 | E9: 预收帐款 | F9: 71 | G9: 80500 | H9: 7129622.3
A10: 应收利息 | B10: 5 | C10: =235648+309960 -> 545608 | E10: 应付工资 | F10: 72
A11: 应收帐款 | B11: 6 | C11: 26383400 | D11: 46941973 | E11: 应付福利费 | F11: 73 | G11: 89608.88 | H11: 622864.68
A12: 其他应收款 | B12: 7 | C12: 19600364 | D12: 27085040 | E12: 应付股利 | F12: 74
A13: 预付帐款 | B13: 8 | C13: 46300734 | D13: 2564950.8 | E13: 应交税金 | F13: 75 | G13: 1510841.8 | H13: -442167.76
A14: 应收补贴款 | B14: 9 | E14: 其他应交款 | F14: 80 | G14: 18331.17 | H14: 36541.57
A15: 存货 | B15: 10 | C15: 7778748.6 | D15: 50626926 | E15: 其他应付款 | F15: 81 | G15: 6999537.9 | H15: 11555841
A16: 待摊费用 | B16: 11 | E16: 预提费用 | F16: 82 | G16: 251620 | H16: 231356
A17: 一年内到期的长期债券投资 | B17: 21 | E17: 预计负债 | F17: 83
A18: 其他流动资产 | B18: 24 | E18: 一年内到期的长期负债 | F18: 86
E19: 其他流动负债 | F19: 90
A20: 流动资产合计 | B20: 31 | C20: =SUM(C6:C19) -> 1.4707242e+08 | D20: =SUM(D6:D19) -> 2.1777458e+08 | E20: 流动负债合计 | F20: 100 | G20: =SUM(G6:G19) -> 1.1855449e+08 | H20: =SUM(H6:H19) -> 1.5278331e+08
A21: 长期投资： | E21: 长期负债：
A22: 长期股权投资 | B22: 32 | C22: 53807439 | D22: 40000000 | E22: 长期借款 | F22: 101
A23: 长期债权投资 | B23: 34 | E23: 应付债券 | F23: 102
A24: 长期投资合计 | B24: 38 | C24: =SUM(C22:C23) -> 53807439 | D24: =SUM(D22:D23) -> 40000000 | E24: 长期应付款 | F24: 103
A25: 固定资产： | E25: 专项应付款 | F25: 106
A26: 固定资产原价 | B26: 39 | C26: 3809797.2 | D26: 1.4798195e+08 | E26: 其他长期负债 | F26: 108
A27: 减：累计折旧 | B27: 40 | C27: 78364.69 | D27: 47034304 | E27: 长期负债合计 | F27: 110 | G27: =SUM(G22:G26) -> 0 | H27: =SUM(H22:H26) -> 0
A28: 固定资产净值 | B28: 41 | C28: =C26-C27 -> 3731432.5 | D28: =D26-D27 -> 1.0094765e+08 | E28: 递延税项：
A29: 减：固定资产减值准备 | B29: 42 | E29: 递延税项贷项 | F29: 111
A30: 固定资产净额 | B30: 43 | C30: =C28-C29 -> 3731432.5 | D30: =D28-D29 -> 1.0094765e+08 | E30: 负债总计 | F30: 114 | G30: =G20+G27+G29 -> 1.1855449e+08 | H30: =H20+H27+H29 -> 1.5278331e+08
A31: 工程物资 | B31: 44 | E31: 少数股东权益
A32: 在建工程 | B32: 45 | C32: =14071400+10000000 -> 24071400 | D32: 24071400
A33: 固定资产清理 | B33: 46 | E33: 所有者权益（或股东权益）：
A34: 固定资产合计 | B34: 50 | C34: =C30+C31+C32+C33 -> 27802832 | D34: =D30+D31+D32+D33 -> 1.2501905e+08 | E34: 实收资本（或股本） | F34: 115 | G34: 100000000 | H34: 237000000
A35: 无形资产及其他资产： | E35: 减：已归还投资 | F35: 116
A36: 无形资产 | B36: 51 | D36: 27650225 | E36: 实收资本（或股本）净额 | F36: 117 | G36: =G34-G35 -> 100000000 | H36: =H34-H35 -> 237000000
A37: 长期待摊费用 | B37: 52 | E37: 资本公积 | F37: 118 | H37: 1820025.1
A38: 其他长期资产 | B38: 53 | E38: 盈余公积 | F38: 119 | G38: 1519230.3 | H38: 1519230.3
A39: 无形资产及其他资产合计 | B39: 60 | C39: =SUM(C36:C38) -> 0 | D39: =SUM(D36:D38) -> 27650225 | E39: 其中：法定公益金 | F39: 120 | G39: 506410.09 | H39: 506410.09
A40: 递延税项： | E40: 未分配利润 | F40: 121 | G40: 8608971.5 | H40: =利润及利润分配表!C36 -> -33745538
...

Sheet 利润及利润分配表
A1: 利润及利润分配表
A2: 会企02表
A3: =CONCATENATE("编制单位：",基本信息录入!E3) -> 编制单位：××公司 | B3: =CONCATENATE(" ",LEFT(基本信息录入!E4,5),"度") -> 2004年度 | D3: 单位：元
A4: 项 目 | B4: 行次 | C4: 本年累计数 | D4: 上年同期数
A5: 一、主营业务收入 | B5: 1 | C5: 1.8964938e+08
A6: 减：主营业务成本 | B6: 2 | C6: 200000000
A7: 主营业务税金及附加 | B7: 3 | C7: 579130.32
A8: 二、主营业务利润（亏损以“－”号填列） | B8: 4 | C8: =C5-C6-C7 -> -10929750 | D8: =D5-D6-D7 -> 0
A9: 加：其他业务利润（亏损以“－”号填列） | B9: 5 | C9: 1425
A10: 减：营业费用 | B10: 6 | C10: 4794843.6
A11: 管理费用 | B11: 7 | C11: 25289867
A12: 财务费用 | B12: 8 | C12: 6985120.4
A13: 三、营业利润（亏损以“－”号填列） | B13: 9 | C13: =C8+C9-C10-C11-C12 -> -47998156 | D13: =D8+D9-D10-D11-D12 -> 0
A14: 加：投资收益（损失以“－”号填列） | B14: 10 | C14: 4052008.3
A15: 补贴收入 | B15: 11 | C15: 1605000
A16: 营业外收入 | B16: 12 | C16: 117056.76
A17: 减：营业外支出 | B17: 13 | C17: 45552.43
A18: 四、利润总额（亏损以“－”号填列） | B18: 14 | C18: =C13+C14+C15+C16-C17 -> -42269643 | D18: =D13+D14+D15+D16-D17 -> 0
A19: 减：所得税 | B19: 15 | C19: 84866
A20: 少数股东权益 | B20: 16
A21: 五、净利润（亏损以“－”号填列） | B21: 17 | C21: =C18-C19-C20 -> -42354509 | D21: =D18-D19-D20 -> 0
A22: 加：年初未分配利润 | B22: 18 | C22: =资产负债表!G40 -> 8608971.5
A23: 其他转入 | B23: 19
A24: 六、可供分配的利润 | B24: 20 | C24: =C21+C22+C23 -> -33745538 | D24: =D21+D22+D23 -> 0
A25: 减：提取法定盈余公积 | B25: 21
A26: 提取法定公益金 | B26: 22
A27: 提取职工奖励及福利基金 | B27: 23
A28: 提取储备基金 | B28: 24
A29: 提取企业发展基金 | B29: 25
A30: 利润归还投资 | B30: 26
A31: 七、可供投资者分配的利润 | B31: 27 | C31: =C24-C25-C26-C27-C28-C29-C30 -> -33745538 | D31: =D24-D25-D26-D27-D28-D29-D30 -> 0
A32: 减：应付优先股股利 | B32: 28
A33: 提取任意盈余公积 | B33: 29
A34: 应付普通股股利 | B34: 30
A35: 转作资本（或股本）的普通股股利 | B35: 31
A36: 八、未分配利润 | B36: 32 | C36: =C31-C32-C33-C34-C35 -> -33745538 | D36: =D31-D32-D33-D34-D35 -> 0
A38: 补充资料：
A39: 项 目 | B39: 行次 | C39: 本年累计数 | D39: 上年同期数
A40: 1、出售、处置部门或被投资单位所得收益 | B40: 1
A41: 2、自然灾害发生的损失 | B41: 2
...

Sheet 表外数据录入
A1: 编制现金流量表所需表外数据录入
A2: 序号 | B2: 项 目 | C2: 金 额
A3: 1 | B3: 支付给职工的工资、奖金及各项津贴 | C3: 4245563.7
B4: 养老保险金
B5: 医疗保险金
B6: 失业保险费
B7: 住房公积金
B8: 劳动保护费
B9: 支付给职工的其他福利费
B10: 支付给职工以及为职工支付的现金合计 | C10: =SUM(C3:C9) -> 4245563.7 | D10: 增值税税率
A11: 2 | B11: 主营业务收入（17％增值税部分） | C11: 1.8865636e+08 | D11: 0.17
B12: 主营业务收入（13％增值税部分） | C12: 754635.76 | D12: 0.13
B13: 主营业务收入（6％增值税部分） | C13: 154753.32 | D13: 0.06
B14: 主营业务收入（4％增值税部分） | C14: 83634.2 | D14: 0.04
B15: 非应税项目主营业务收入(本栏仅供校验勾稽关系不计算销项税额) | E15: 含其他行业主营业务收入
B16: 销项税额合计 | C16: =C11*D11+C12*D12+C13*D13+C14*D14 -> 32182314 | E16: =IF(SUM(C11:C15)=利润及利润分配表!C5," ","主营业务收入合计与利润表不符！")
B17: 主营业务成本（17％增值税部分） | C17: 1.483582e+08 | D17: 0.17
B18: 主营业务成本（13％增值税部分） | C18: 574968.14 | D18: 0.13
B19: 小规模纳税人主营业务成本(本栏仅供校验勾稽关系不计算进项税额)
B20: 非增值税行业主营业务成本(本栏仅供校验勾稽关系不计算进项税额) | E20: =IF(SUM(C17:C20)=利润及利润分配表!C6," ","主营业务成本合计与利润表不符！") -> 主营业务成本合计与利润表不符！
B21: 存货增加额（17％部分） | C21: 41965309 | D21: 0.17
B22: 存货增加额（13％部分） | C22: 882868.75 | D22: 0.13
B23: 小规模纳税人进货增加额(本栏仅供校验勾稽关系不计算进项税额) | E23: =IF(SUM(C21:C23)=资产负债表!D15-资产负债表!C15," ","存货增加额与资产负债表不符！")
B24: 进项税额合计 | C24: =C17*D17+C18*D18+C21*D21+C22*D22 -> 32544516
B25: 应交增值税 | C25: =C16-C24 -> -362202.15
B26: 在“主营业务税金及附加”科目列支的各项税金 | C26: =利润及利润分配表!C7 -> 579130.32
B27: 所得税 | D27: 0.15
B28: 管理费用中列支的税金 | C28: 2731.17
B29: 未通过“应交税金”科目核算的其他税金
B30: 支付的各项税费合计 | C30: =(C25+C26+C27+C28+C29)-(资产负债表!H13+资产负债表!H14-资产负债表!G13-资产负债表!G14) -> 2154458.5
A31: 3 | B31: 收到的税费返还合计 | C31: =SUM(C32:C36) -> 1605000
B32: 出口退税
B33: 增值税返回
B34: 所得税返回
B35: 财政扶持补贴 | C35: 1605000
B36: 其他税收返回
A37: 4 | B37: 分配股利、利润或偿付利息所支付的现金合计 | C37: =C38+C39+C42 -> 7039957.5
B38: 分配股利所支付的现金
B39: 分配利润所支付的现金
B40: 利息支出(根据财务费用科目明细提取，不抵减利息收入) | C40: 7039957.5
...

Sheet 现金流量表
A1: 现 金 流 量 表
F2: 会企03表
A3: =CONCATENATE("编制单位：",基本信息录入!E3) -> 编制单位：××公司 | C3: =CONCATENATE(" ",LEFT(基本信息录入!E4,5),"度") -> 2004年度 | F3: 单位：元
A4: 项 目 | B4: 行次 | C4: 金 额 | D4: 补 充 资 料 | E4: 行次 | F4: 金 额
A5: 一、经营活动产生的现金流量： | D5: 1、将净利润调节为经营活动现金流量：
A6: 销售商品、提供劳务收到的现金 | B6: 1 | C6: =利润及利润分配表!C5*1.17+(资产负债表!C8-资产负债表!D8)+(资产负债表!C11-资产负债表!D11)+(资产负债表!H9-资产负债表!G9)-表外数据录入!C41 -> 1.9838032e+08 | D6: 净利润 | E6: 57 | F6: =利润及利润分配表!C21 -> -42354509
A7: 收到的税费返还 | B7: 3 | C7: =表外数据录入!C31 -> 1605000 | D7: 加：计提的资产减值准备 | E7: 58 | F7: =表外数据录入!C43 -> 0
A8: 收到的其他与经营活动有关的现金 | B8: 8 | C8: =F38+C14-C6-C7-C26-C36-C37 -> 96038268 | D8: 固定资产折旧 | E8: 59 | F8: =资产负债表!D27-资产负债表!C27 -> 46955939
A9: 现金流入小计 | B9: 9 | C9: =SUM(C6:C8) -> 2.9602359e+08 | D9: 无形资产摊销 | E9: 60 | F9: =表外数据录入!C52 -> 0
A10: 购买商品、接受劳务支付的现金 | B10: 10 | C10: =(利润及利润分配表!C6+资产负债表!D15-资产负债表!C15)*1.17+(资产负债表!G7-资产负债表!H7)+(资产负债表!G8-资产负债表!H8)+(资产负债表!D13-资产负债表!C13) -> 2.1235138e+08 | D10: 长期待摊费用摊销 | E10: 61 | F10: =表外数据录入!C53 -> 0
A11: 支付给职工以及为职工支付的现金 | B11: 12 | C11: =表外数据录入!C10 -> 4245563.7 | D11: 待摊费用减少（减：增加） | E11: 64 | F11: =资产负债表!C16-资产负债表!D16 -> 0
A12: 支付的各项税费 | B12: 13 | C12: =表外数据录入!C30 -> 2154458.5 | D12: 预提费用增加（减：减少） | E12: 65 | F12: =资产负债表!H16-资产负债表!G16 -> -20264
A13: 支付的其他与经营活动有关的现金 | B13: 18 | C13: =IF(((资产负债表!D12-资产负债表!C12)+利润及利润分配表!C17+利润及利润分配表!C11+利润及利润分配表!C10-现金流量表!C11+(C33-利润及利润分配表!C12)-(资产负债表!D27-资产负债表!C27)-(资产负债表!D11+资产负债表!D12)*0.005/0.995-表外数据录入!C28)<0,ABS(((资产负债表!D12-资产负债表!C12)+利润及利润分配表!C17+利润及利润分配表!C11+利润及利润分配表!C10-现金流量表!C11+(C33-利润及利润分配表!C12)-(资产负债表!D27-资产负债表!C27)-(资产负债表!D11+资产负债表!D12)*0.005/0.995-表外数据录入!C28)*0.8)," ") -> 11125162 | D13: 处置固定资产、无形资产和其他长期资产的损失（减：收益） | E13: 66 | F13: =表外数据录入!C55 -> 45552.43
A14: 现金流出小计 | B14: 20 | C14: =SUM(C10:C13) -> 2.2987657e+08 | D14: 固定资产报废损失 | E14: 67 | F14: =表外数据录入!C54 -> 0
A15: 经营活动产生的现金流量净额 | B15: 21 | C15: =C9-C14 -> 66147024 | D15: 财务费用 | E15: 68 | F15: =利润及利润分配表!C12 -> 6985120.4
A16: 二、投资活动产生的现金流量： | D16: 投资损失（减：收益） | E16: 69 | F16: =-利润及利润分配表!C14 -> -4052008.3
A17: 收回投资所收到的现金 | B17: 22 | C17: =IF((资产负债表!D7+资产负债表!D24-资产负债表!C7-资产负债表!C24)<0,ABS(资产负债表!D7+资产负债表!D24-资产负债表!C7-资产负债表!C24)," ") -> 42797177 | D17: 递延税款贷项（减：借项） | E17: 70 | F17: =(资产负债表!H29-资产负债表!G29)-(资产负债表!D41-资产负债表!C41) -> 0
A18: 取得投资收益所收到的现金 | B18: 23 | C18: =表外数据录入!C56 -> 0 | D18: 存货的减少（减：增加） | E18: 71 | F18: =资产负债表!C15-资产负债表!D15 -> -42848178
A19: 处置固定资产、无形资产和其他长期资产所收回的现金净额 | B19: 25 | C19: =表外数据录入!C59 -> 0 | D19: 经营性应收项目的减少（减：增加） | E19: 72 | F19: =(资产负债表!C8+资产负债表!C9+资产负债表!C10+资产负债表!C11+资产负债表!C12+资产负债表!C13+资产负债表!C14)-(资产负债表!D8+资产负债表!D9+资产负债表!D10+资产负债表!D11+资产负债表!D12+资产负债表!D13+资产负债表!D14) -> 6238142.9
A20: 收到的其他与投资活动有关的现金 | B20: 28 | C20: =表外数据录入!C60 -> 0 | D20: 经营性应付项目的增加（减：减少） | E20: 73 | F20: =资产负债表!H7+资产负债表!H8+资产负债表!H9+资产负债表!H10+资产负债表!H11+资产负债表!H12+资产负债表!H13+资产负债表!H14+资产负债表!H15+资产负债表!H16-资产负债表!G7-资产负债表!G8-资产负债表!G9-资产负债表!G10-资产负债表!G11-资产负债表!G12-资产负债表!G13-资产负债表!G14-资产负债表!G15-资产负债表!G16 -> 38228818
A21: 现金流入小计 | B21: 29 | C21: =SUM(C17:C20) -> 42797177 | D21: 其他 | E21: 74 | F21: =C15-F6-F7-F8-F9-F10-F11-F12-F13-F14-F15-F16-F17-F18-F19-F20 -> 56968410
A22: 购建固定资产、无形资产和其他长期资产所支付的现金 | B22: 30 | C22: =资产负债表!D26+资产负债表!D31+资产负债表!D32+资产负债表!D39-资产负债表!C26-资产负债表!C31-资产负债表!C32-资产负债表!C39 -> 1.7182238e+08 | D22: 经营活动产生的现金流量净额 | E22: 75 | F22: =SUM(F6:F21) -> 66147024
A23: 投资所支付的现金 | B23: 31 | C23: =IF((资产负债表!D7+资产负债表!D24-资产负债表!C7-资产负债表!C24)<0," ",资产负债表!D7+资产负债表!D24-资产负债表!C7-资产负债表!C24)
A24: 支付的其他与投资活动有关的现金 | B24: 35 | C24: =表外数据录入!C61 -> 0
A25: 现金流出小计 | B25: 36 | C25: =SUM(C22:C24) -> 1.7182238e+08
A26: 投资活动产生的现金流量净额 | B26: 37 | C26: =C21-C25 -> -1.290252e+08 | D26: 2、不涉及现金收支的投资和筹资活动：
A27: 三、筹资活动产生的现金流量： | D27: 债务转为资本 | E27: 76
A28: 吸收投资所收到的现金 | B28: 38 | C28: =资产负债表!H34-资产负债表!G34 -> 137000000 | D28: 一年内到期的可转换公司债券 | E28: 77
A29: 借款所收到的现金 | B29: 40 | C29: =IF((资产负债表!H6+资产负债表!H27-资产负债表!G6-资产负债表!G27)<0," ",资产负债表!H6+资产负债表!H27-资产负债表!G6-资产负债表!G27) | D29: 融资租入固定资产 | E29: 78
A30: 收到的其他与筹资活动有关的现金 | B30: 43 | C30: =表外数据录入!C62 -> 0
A31: 现金流入小计 | B31: 44 | C31: =SUM(C28:C30) -> 137000000
A32: 偿还债务所支付的现金 | B32: 45 | C32: =IF((资产负债表!H6+资产负债表!H27-资产负债表!G6-资产负债表!G27)<0,ABS(资产负债表!H6+资产负债表!H27-资产负债表!G6-资产负债表!G27)," ") -> 4000000
A33: 分配股利、利润或偿付利息所支付的现金 | B33: 46 | C33: =表外数据录入!C37 -> 7039957.5 | D33: 3、现金及现金等价物净增加情况：
A34: 支付的其他与筹资活动有关的现金 | B34: 52 | C34: =表外数据录入!C63 -> 0 | D34: 现金的期末余额 | E34: 79 | F34: =资产负债表!D6 -> 80555692
A35: 现金流出小计 | B35: 53 | C35: =SUM(C32:C34) -> 11039958 | D35: 减：现金的期初余额 | E35: 80 | F35: =资产负债表!C6 -> 17473830
A36: 筹资活动产生的现金流量净额 | B36: 54 | C36: =C31-C35 -> 1.2596004e+08 | D36: 加：现金等价物的期末余额 | E36: 81
A37: 四、汇率变动对现金的影响 | B37: 55 | D37: 减：现金等价物的期初余额 | E37: 82
A38: 五、现金及现金等价物净增加额 | B38: 56 | C38: =C15+C26+C36+C37 -> 63081862 | D38: 现金及现金等价物净增加额 | E38: 83 | F38: =F34-F35+F36-F37 -> 63081862
A39: =CONCATENATE("企业负责人：",基本信息录入!E5) -> 企业负责人：张三 | D39: =CONCATENATE("财务负责人：",基本信息录入!E6) -> 财务负责人：李四 | E39: =CONCATENATE("制表人：",基本信息录入!E7) -> 制表人：王五
