Workbook

Sheet 租金测算
B1: 租赁本金 | C1: 53000000
B2: 租赁保证金 | C2: =C1*D2 -> 5830000 | D2: 0.11 | E2: =C1-C2 -> 47170000
B3: 租赁管理服务费 | C3: =C1*D3 -> 4240000 | D3: 0.08 | E3: =C1-C2-C3 -> 42930000 | H3: =23000*30% -> 6900
B4: 对外支付佣金 | C4: =D4*C1 -> 0 | D4: 0 | H4: =H3-2100 -> 4800
B5: 隐含租赁利率-月利率 | C5: =D5/12 -> 0.0051666667 | D5: =6.2% -> 0.062 | E5: =D5+D3/5 -> 0.078 | F5: =E5/0.89 -> 0.087640449
D7: 租金 | E7: 利息收入 | F7: 偿付本金 | G7: 未偿付本金 | H7: 现金流 | I7: 服务费
A8: 时间间隔-月 | B8: 起租日-不平均-不等期 | C8: 40142 | D8: 0 | E8: 0 | F8: 0 | G8: =C1 -> 53000000 | H8: =C2-C1-C4+C3*35% -> -45686000 | I8: =C3*35% -> 1484000 | J8: 0 | K8: 0.35
A9: 6 | B9: 1 | C9: 40323 | D9: =E9+F9 -> 4823000 | E9: =G8*$C$5*A9 -> 1643000 | F9: =$C$1*J9 -> 3180000 | G9: =G8-F9 -> 49820000 | H9: =D9+C3*25% -> 5883000 | I9: =C3*25% -> 1060000 | J9: 0.06 | K9: 0.25
A10: 6 | B10: 2 | C10: 40507 | D10: =E10+F10 -> 6844420 | E10: =G9*$C$5*A10 -> 1544420 | F10: =$C$1*J10 -> 5300000 | G10: =G9-F10 -> 44520000 | H10: =D10+C3*40% -> 8540420 | I10: =C3*40% -> 1696000 | J10: 0.1 | K10: 0.4
A11: 6 | B11: 3 | C11: 40688 | D11: =E11+F11 -> 5090120 | E11: =G10*$C$5*A11 -> 1380120 | F11: =$C$1*J11 -> 3710000 | G11: =G10-F11 -> 40810000 | H11: =D11 -> 5090120 | J11: 0.07
A12: 6 | B12: 4 | C12: 40872 | D12: =E12+F12 -> 8685110 | E12: =G11*$C$5*A12 -> 1265110 | F12: =$C$1*J12 -> 7420000 | G12: =G11-F12 -> 33390000 | H12: =D12 -> 8685110 | J12: 0.14
A13: 6 | B13: 5 | C13: 41054 | D13: =E13+F13 -> 5275090 | E13: =G12*$C$5*A13 -> 1035090 | F13: =$C$1*J13 -> 4240000 | G13: =G12-F13 -> 29150000 | H13: =D13 -> 5275090 | J13: 0.08
A14: 6 | B14: 6 | C14: 41238 | D14: =E14+F14 -> 8853650 | E14: =G13*$C$5*A14 -> 903650 | F14: =$C$1*J14 -> 7950000 | G14: =G13-F14 -> 21200000 | H14: =D14 -> 8853650 | J14: 0.15
A15: 6 | B15: 7 | C15: 41419 | D15: =E15+F15 -> 5957200 | E15: =G14*$C$5*A15 -> 657200 | F15: =$C$1*J15 -> 5300000 | G15: =G14-F15 -> 15900000 | H15: =D15 -> 5957200 | J15: 0.1
A16: 6 | B16: 8 | C16: 41603 | D16: =E16+F16 -> 8972900 | E16: =G15*$C$5*A16 -> 492900 | F16: =$C$1*J16 -> 8480000 | G16: =G15-F16 -> 7420000 | H16: =D16 -> 8972900 | J16: 0.16
A17: 6 | B17: 9 | C17: 41784 | D17: =E17+F17 -> 3410020 | E17: =G16*$C$5*A17 -> 230020 | F17: =$C$1*J17 -> 3180000 | G17: =G16-F17 -> 4240000 | H17: =D17 -> 3410020 | J17: 0.06
A18: 6 | B18: 10 | C18: 41968 | D18: =E18+F18 -> 4371440 | E18: =G17*$C$5*A18 -> 131440 | F18: =$C$1*J18 -> 4240000 | G18: =G17-F18 -> 0 | H18: =D18-C2 -> -1458560 | J18: 0.08
C19: 合计 | D19: =SUM(D8:D18) -> 62282950 | E19: =SUM(E8:E18) -> 9282950 | F19: =SUM(F8:F18) -> 53000000 | H19: =IRR(H8:H18) -> 0.057889166 | J19: =SUM(J9:J18) -> 1
H20: =H19*2 -> 0.11577833
F23: =(6.2-5.76)/5.76 -> 0.076388889
D25: =230000000*30% -> 69000000
D26: =D25-23750000+2750000 -> 48000000

Sheet 调查报告
B1: 高等教育项目尽职调查报告
B2: 1、租赁项目基本情况
B3: 项目编号 | D3: 项目名称 | E3: XX大学非教学类设备售后回租赁项目
B4: 立项时间 | D4: 报告部门 | F4: 项目主办 | G4: 马安 | H4: 报告时间 | I4: 42005
B5: 1.1 交易结构
B6: 租赁类型 | C6: 回租赁 | D6: 承租客户 | E6: 大学 | H6: 出租人
B7: 1.2 交易条件（多个物件请合并填写）
B8: 项目金额 | C8: 首付款 | D8: 首付款比例 | E8: 保证金 | F8: 保证金比例 | G8: 服务费 | H8: 服务费比例 | I8: TCR | J8: 明示利率
B9: 5300 | C9: =B9*D9 -> 0 | D9: 0 | E9: =B9*F9 -> 583 | F9: 0.11 | G9: =B9*H9 -> 424 | H9: 0.08 | I9: 0.1122 | J9: 0.062
B10: 融资金额 | C10: 融资比例 | D10: 租赁期限(月) | E10: 还租间隔 | F10: 还租方式 | G10: 租金报价方式 | H10: 留购价款 | I10: IRR | J10: 实际利率
B11: =(B9-C9-E9) -> 4717 | C11: 0.89 | D11: 60 | E11: 半年 | F11: 不等额后付 | G11: 不等额年金 | H11: 100元 | I11: 0.1158 | J11: 0.062
B12: 1.3 客户授信额度
B13: 授信额度 | C13: 4717 | D13: 累计授信额度 | E13: =C13+前期项目!C6-一期租金测算!F11/10000 -> 6817 | F13: 是否超授信 | G13: 否 | H13: 说明
B14: 1.4 项目可行性分析
B15: 学校合作意愿 | C15: 较强。
B16: 租赁物件以及物件价值确认分析 | C16: 租赁物件原值 5400万元，净值暂无法判断，认可价值 5300万元。
B17: 资金用途以及额度分析 | C17: 支付音乐楼和信息大厦工程配套款项和实验室建设。
B18: 商务安排分析 | C18: 回租赁项目,商务安排较简单。
B19: 风险点分析(流动性及安全性)
B20: 风险点 | F20: 控制措施
B21: 1、学校的贷款主要以流动资金贷款为主，每年的倒贷过程中出现的暂时资金短缺而导致租金无法按时偿付。 | F21: 1、还租列入每年度学校支出计划和预算，确保学校起租前已合理安排租金支付计划；
B22: 2、基建工程尾款支付（和萃园校区建设）导致资金紧张，使租金无法按时偿付。 | F22: 2、关注学校几个在建项目（全部竣工）的工程尾款支付计划，以及萃园校区的建设计划，尤其是国家发改委资金的到位情况，确保学校按计划还租;
B23: 3、关注学校的创新学院的股权收购以及收购后的再投入情况，学校对创新学院的投入，导致学校资金链紧张，使租金无法按时偿还。 | F23: 3,在与学院院长和财务处长沟通过程中,明确此项目是金融行为,而非普通的商业行为,具有严肃性,不可以逾期。密切关注学校对于创新学院股权的收购过程和结果，如果收购成功，对于学校的股权收购投入而导致的学校资金紧张问题需要和学校的主管财务校长沟通，加强学校的还款意愿。与学校的领导层沟通，创新学院的收购成功与否，都不能影响我司的资金安全，进一步加强还款意愿。
B24: 1.5 重要指标一览
B25: 财拨增长比率 | C25: 财拨事业 收入比 | D25: 可支配支 出比例 | E25: 银行借款 收入比 | F25: 基建规模 收入比 | G25: 收入融资比 | H25: 可支配支出租金覆盖比 | I25: 基建资产 负债率 | J25: 报到率
B26: =('行政－收支明细表'!F4/'行政－收支明细表'!B4)^(1/2)-1 -> 0.10638403 | C26: ='行政－收支明细表'!F4/'行政－收支明细表'!F5 -> 0.79298371 | D26: ='行政－收支明细表'!G57 -> 0.35578115 | E26: ='行政－收支明细表'!F3/(调查报告!C254) -> 0.40285319 | F26: =(C175)/'行政－收支明细表'!F3 -> 1.4918864 | G26: ='行政－收支明细表'!F3/6900 -> 3.3464839 | H26: =E323/(E337+E335) -> 10.725075 | I26: =('基建－资金表'!F31+'基建－资金表'!F29)/'基建－资金表'!F36 -> 0.71802814 | J26: -
B27: 1.6 项目综评结论(定量/定性,能力/意愿)
B28: 1、是 创办的第一所综合性大学 学校发展得到省、市政府的大力支持。
B29: 2、学校事业收入保持稳定增长，从06年的近9000万增加到08年的1.22亿。学校自成为省部共建院校以来，财拨收入也保持了强劲的上升势头，由06年的近8000万，到08年的近1亿。由此判断，随着学校的知名度不断提升，政府支持力度的加大，学校的收入在未来几年会保持稳定的增长趋势。
B30: 3,根据学校收支状况,06年到08年可支配逐渐增加，主要原因是学校加大了资本性支出，固定资产购建等。
B31: 4、学校银行借款总额为5.73亿，除农行的委托贷款外,其他基本为1-3年的短期流动资金贷款,从07年、08年、09年的学校到期贷款的续贷能力以及新增的贷款额度可以看出，学校在银行系的融资能力比较强。
B32: 5、学校计划收购 学院的70%股权，预计交易价格为7000万，根据教育部独立院校的相关规定，独立院校必须独立的政策，不论本次收购成功与否，交易价格最终是多少，都不影响我司的资金安全。
B33: 6、学校计划新建 校区，概算投资8亿，资金来源主要是申请国家发改委2亿，学校自筹6亿（学校已经在校本部投入项目近2.8亿）,根据财务处 介绍,如果国家发改委的资金不到位,学校不会考虑启动新校区的建设,学校自筹资金会给学校带来巨大的财务压力.学校对新校区的建设持谨慎态度,不计划举债建设.
B34: 7、学校目前通过我司融资主要目的是支付艺术楼、信息大厦等基建项目的配套设施以及省级重点实验室建设。
B35: 8、我司于2008年与学校签署了2500万的回租项目，偿还了一期租金,没有出现逾期记录，信用良好。
B36: 经现金流分析,学院资金较紧张，经综合判断，我司租金安全性仍较高，该项目建议操作。
B37: 2、承租客户情况
B38: 2.1 基本资质
B39: 客户名称 | F39: 法定地址 | I39: 邮政编码
B40: 法人证书编号 | D40: 组织机构代码 | F40: 贷款卡号码 | I40: 办学层次 | J40: 本科
...

Sheet 前期项目
G1: 单位：万元
B2: 已合作项目简介
B3: 项目 | C3: 一期 | E3: 二期 | G3: 三期
B4: 物件描述 | C4: 教学设备
B5: 项目金额 | C5: 2500
B6: 融资额及比例 | C6: 2225 | D6: 0.89
B7: 租赁起止日 | C7: 39806 | D7: 41571
B8: 租金总期数 | C8: 10
B9: 偿还笔数 | C9: 1
B10: 偿还租金 | C10: 182
B11: 剩余本金 | C11: =2500-125 -> 2375
B12: 逾期笔数 | C12: 0
B13: 逾期原因分析 | C13: 无
B14: 项目巡视以 及重大事项 | C14: 无
B15: 风管清单政策执行 | C15: 严格按照风管清单政策执行
B16: 前期项目资 金使用情况 | C16: 支付工程款。

Sheet 行政－收支明细表
G1: 单位:元
B2: 2006年 | C2: 比例 | D2: 2007年 | E2: 比例 | F2: 2008年 | G2: 比例
A3: 一、收入合计 | B3: =B4+B5+B8 -> 17362.529 | C3: =B3/$B$3 -> 1 | D3: =SUM(D4:D8) -> 20488.759 | E3: =D3/$D$3 -> 1 | F3: =SUM(F4:F8) -> 23090.739 | G3: =F3/$F$3 -> 1 | I3: =F3*30% -> 6927.2217
A4: 财政拨款 | B4: =79331751.9/10000 -> 7933.1752 | C4: =B4/$B$3 -> 0.45691358 | D4: =75608050.6/10000 -> 7560.8051 | E4: =D4/$D$3 -> 0.36902211 | F4: =97108856.2/10000 -> 9710.8856 | G4: =F4/$F$3 -> 0.42055326 | I4: =I3/10000 -> 0.69272217
A5: 事业收入 | B5: =89762486.9/10000 -> 8976.2487 | C5: =B5/$B$3 -> 0.51698971 | D5: =125085468.7/10000 -> 12508.547 | E5: =D5/$D$3 -> 0.61050778 | F5: =122460089.1/10000 -> 12246.009 | G5: =F5/$F$3 -> 0.53034287
A6: 事业单位经营收入 | B6: 0 | C6: =B6/$B$3 -> 0 | E6: =D6/$D$3 -> 0 | G6: =F6/$F$3 -> 0
A7: 附属单位上缴收入 | B7: 0 | C7: =B7/$B$3 -> 0 | E7: =D7/$D$3 -> 0 | G7: =F7/$F$3 -> 0
A8: 其他收入 | B8: =4531049.28/10000 -> 453.10493 | C8: =B8/$B$3 -> 0.026096713 | D8: =4194072.4/10000 -> 419.40724 | E8: =D8/$D$3 -> 0.020470114 | F8: =11338445.73/10000 -> 1133.8446 | G8: =F8/$F$3 -> 0.049103867
A9: 二、支出合计 | B9: =B17+B38+B49+B50+B54+B55 -> 16680.291 | C9: =B9/$B$3 -> 0.96070629 | D9: =D17+D38+D49+D50+D54+D55 -> 17696.728 | E9: =D9/$D$3 -> 0.86372864 | F9: =F17+F38+F49+F50+F54+F55 -> 19837.939 | G9: =F9/$F$3 -> 0.85912967
A10: 人员支出 | B10: =SUM(B11:B15) -> 3785.198 | C10: =B10/$B$3 -> 0.21800961 | D10: =SUM(D11:D15) -> 4875.9827 | E10: =D10/$D$3 -> 0.23798331 | F10: =SUM(F11:F15) -> 4930.5019 | G10: =F10/$F$3 -> 0.21352724
A11: 其中：基本工资 | B11: =16706100.7/10000 -> 1670.6101 | C11: =B11/$B$3 -> 0.096219283 | D11: =24699503.8/10000 -> 2469.9504 | E11: =D11/$D$3 -> 0.12055149 | F11: =23754364/10000 -> 2375.4364 | G11: =F11/$F$3 -> 0.10287399
A12: 津贴 | B12: =1754254/10000 -> 175.4254 | C12: =B12/$B$3 -> 0.010103678 | D12: =5137036.56/10000 -> 513.70366 | E12: =D12/$D$3 -> 0.025072463 | F12: =8012540.8/10000 -> 801.25408 | G12: =F12/$F$3 -> 0.034700235
A13: 奖金 | B13: 0 | C13: =B13/$B$3 -> 0 | D13: =5000/10000 -> 0.5 | E13: =D13/$D$3 -> 2.4403625e-05 | G13: =F13/$F$3 -> 0
A14: 社会保障费 | B14: =4658700.8/10000 -> 465.87008 | C14: =B14/$B$3 -> 0.026831926 | D14: =125470/10000 -> 12.547 | E14: =D14/$D$3 -> 0.00061238457 | F14: =852678.4/10000 -> 85.26784 | G14: =F14/$F$3 -> 0.0036927289
A15: 其他 | B15: =14732925/10000 -> 1473.2925 | C15: =B15/$B$3 -> 0.084854719 | D15: =(3195393.72+15597423)/10000 -> 1879.2817 | E15: =D15/$D$3 -> 0.091722571 | F15: =16685435.38/10000 -> 1668.5435 | G15: =F15/$F$3 -> 0.072260291
A16: 对个人和家庭补助支出 | B16: =15503837.05/10000 -> 1550.3837 | C16: =B16/$B$3 -> 0.08929481 | D16: =28106287.03/10000 -> 2810.6287 | E16: =D16/$D$3 -> 0.13717906 | F16: =34277288.76/10000 -> 3427.7289 | G16: =F16/$F$3 -> 0.14844604
A17: 人员刚性支出合计 | B17: =B10+B16 -> 5335.5818 | C17: =B17/$B$3 -> 0.30730441 | D17: =D10+D16 -> 7686.6114 | E17: =D17/$D$3 -> 0.37516237 | F17: =F10+F16 -> 8358.2307 | G17: =F17/$F$3 -> 0.36197329
A18: 办公费 | B18: =516735.92/10000 -> 51.673592 | C18: =B18/$B$3 -> 0.0029761559 | D18: =397835.69/10000 -> 39.783569 | E18: =D18/$D$3 -> 0.0019417266 | F18: =588841.79/10000 -> 58.884179 | G18: =F18/$F$3 -> 0.002550121
A19: 印刷费 | B19: =61080/10000 -> 6.108 | C19: =B19/$B$3 -> 0.00035179207 | D19: =885444.37/10000 -> 88.544437 | E19: =D19/$D$3 -> 0.0043216105 | F19: =863439.3/10000 -> 86.34393 | G19: =F19/$F$3 -> 0.0037393316
A20: 水电费 | B20: =7150915.06/10000 -> 715.09151 | C20: =B20/$B$3 -> 0.041185908 | D20: =(3746207.03+5091691.8)/10000 -> 883.78988 | E20: =D20/$D$3 -> 0.043135354 | F20: =(3696926+5125451.92)/10000 -> 882.23779 | G20: =F20/$F$3 -> 0.03820743
A21: 邮电费 | B21: =295892.64/10000 -> 29.589264 | C21: =B21/$B$3 -> 0.0017042024 | D21: =304861.07/10000 -> 30.486107 | E21: =D21/$D$3 -> 0.0014879431 | F21: =315179.01/10000 -> 31.517901 | G21: =F21/$F$3 -> 0.0013649585
A22: 取暖费 | B22: =3526236/10000 -> 352.6236 | C22: =B22/$B$3 -> 0.020309461 | D22: =4984608/10000 -> 498.4608 | E22: =D22/$D$3 -> 0.024328501 | F22: =5414670/10000 -> 541.467 | G22: =F22/$F$3 -> 0.023449531
A23: 交通费 | B23: =1154542.65/10000 -> 115.45426 | C23: =B23/$B$3 -> 0.0066496227 | D23: =1671285.29/10000 -> 167.12853 | E23: =D23/$D$3 -> 0.008157084 | F23: =2165863.79/10000 -> 216.58638 | G23: =F23/$F$3 -> 0.0093797941
A24: 手续费 | B24: 0 | C24: =B24/$B$3 -> 0 | E24: =D24/$D$3 -> 0 | G24: =F24/$F$3 -> 0
A25: 差旅费 | B25: =2834878.03/10000 -> 283.4878 | C25: =B25/$B$3 -> 0.016327564 | D25: =(2351697.38+21000)/10000 -> 237.26974 | E25: =D25/$D$3 -> 0.011580484 | F25: =(2972427.23+556729.72)/10000 -> 352.9157 | G25: =F25/$F$3 -> 0.015283863
A26: 会议费 | B26: =398790.5/10000 -> 39.87905 | C26: =B26/$B$3 -> 0.0022968457 | D26: =96049/10000 -> 9.6049 | E26: =D26/$D$3 -> 0.00046878876 | F26: =263179.39/10000 -> 26.317939 | G26: =F26/$F$3 -> 0.0011397617
A27: 培训费 | B27: =1612386.82/10000 -> 161.23868 | C27: =B27/$B$3 -> 0.0092865897 | D27: =2855791.9/10000 -> 285.57919 | E27: =D27/$D$3 -> 0.013938335 | F27: =2886459.04/10000 -> 288.6459 | G27: =F27/$F$3 -> 0.012500505
A28: 招待费 | B28: =958218.31/10000 -> 95.821831 | C28: =B28/$B$3 -> 0.0055188868 | D28: =2911455.29/10000 -> 291.14553 | E28: =D28/$D$3 -> 0.014210013 | F28: =2330405.88/10000 -> 233.04059 | G28: =F28/$F$3 -> 0.010092383
A29: 福利费 | B29: =776954.34/10000 -> 77.695434 | C29: =B29/$B$3 -> 0.0044748916 | D29: =375326.1/10000 -> 37.53261 | E29: =D29/$D$3 -> 0.0018318635 | F29: =462303.08/10000 -> 46.230308 | G29: =F29/$F$3 -> 0.0020021147
A30: 劳务费 | B30: 0 | C30: =B30/$B$3 -> 0 | E30: =D30/$D$3 -> 0 | G30: =F30/$F$3 -> 0
A31: 就业补助费 | B31: =197833.69/10000 -> 19.783369 | C31: =B31/$B$3 -> 0.001139429 | E31: =D31/$D$3 -> 0 | G31: =F31/$F$3 -> 0
A32: 租赁费 | B32: 0 | C32: =B32/$B$3 -> 0 | E32: =D32/$D$3 -> 0 | G32: =F32/$F$3 -> 0
A33: 物业管理费 | B33: 0 | C33: =B33/$B$3 -> 0 | E33: =D33/$D$3 -> 0 | G33: =F33/$F$3 -> 0
A34: 工会经费 | B34: 0 | C34: =B34/$B$3 -> 0 | D34: =300000/10000 -> 30 | E34: =D34/$D$3 -> 0.0014642175 | F34: =260000/10000 -> 26 | G34: =F34/$F$3 -> 0.0011259925
A35: 专用材料费 | B35: =2132876/10000 -> 213.2876 | C35: =B35/$B$3 -> 0.012284363 | D35: =1735534.96/10000 -> 173.5535 | E35: =D35/$D$3 -> 0.0084706689 | F35: =2028596/10000 -> 202.8596 | G35: =F35/$F$3 -> 0.0087853229
A36: 其他 | B36: =22668670/10000 -> 2266.867 | C36: =B36/$B$3 -> 0.13056088 | D36: =16274857.22/10000 -> 1627.4857 | E36: =D36/$D$3 -> 0.079433103 | F36: =16665903.37/10000 -> 1666.5903 | G36: =F36/$F$3 -> 0.072175703
A37: 其中:利息支出 | B37: =3013708/10000 -> 301.3708 | C37: =B37/$B$3 -> 0.017357541 | D37: =3591015/10000 -> 359.1015 | E37: =D37/$D$3 -> 0.017526757 | F37: 0 | G37: =F37/$F$3 -> 0
A38: 日常公用支出合计 | B38: =SUM(B18:B36) -> 4428.601 | C38: =B38/$B$3 -> 0.25506659 | D38: =SUM(D18:D36) -> 4400.3645 | E38: =D38/$D$3 -> 0.21476969 | F38: =SUM(F18:F36) -> 4659.6376 | G38: =F38/$F$3 -> 0.20179681
A39: 维修费 | B39: =3897279.83/10000 -> 389.72798 | C39: =B39/$B$3 -> 0.022446499 | D39: =7583953.07/10000 -> 758.39531 | E39: =D39/$D$3 -> 0.03701519 | F39: =7127673.74/10000 -> 712.76737 | G39: =F39/$F$3 -> 0.030868106
A40: 办公设备购置费 | B40: =1314500/10000 -> 131.45 | C40: =B40/$B$3 -> 0.0075709018 | D40: =(1787992.5+66700)/10000 -> 185.46925 | E40: =D40/$D$3 -> 0.0090522441 | F40: =2069034/10000 -> 206.9034 | G40: =F40/$F$3 -> 0.0089604494
...

Sheet 行政－资产负债表 
H1: 单位：元
B2: 06年 | C2: 比例 | D2: 07年 | E2: 比例 | F2: 08年 | G2: 比例 | H2: 39965 | I2: 比例
A3: 一、资产部类合计 | B3: =B4+B13+B16+B17+B18+B19 -> 89074.748 | C3: =B3/B$3 -> 1 | D3: =D4+D13+D16+D17+D18+D19 -> 115937.69 | E3: =D3/$D$3 -> 1 | F3: =F4+F13+F16+F17+F18+F19 -> 116849.26 | G3: =F3/$F$3 -> 1 | H3: =H4+H13+H16+H17+H18+H19 -> 214835.5 | I3: =H3/$H$3 -> 1
A4: 流动资产 | B4: =411142943.51/10000 -> 41114.294 | C4: =B4/B$3 -> 0.46157071 | D4: =188287900.82/10000 -> 18828.79 | E4: =D4/$D$3 -> 0.1624044 | F4: =206515867.2/10000 -> 20651.587 | G4: =F4/$F$3 -> 0.17673699 | H4: =H6+H5+H7+H8+H9+H10+H11+H12 -> 15825.576 | I4: =H4/$H$3 -> 0.073663692
A5: 其中:现金 | B5: =30845.45/10000 -> 3.084545 | C5: =B5/B$3 -> 3.4628726e-05 | D5: =11.78/10000 -> 0.001178 | E5: =D5/$D$3 -> 1.0160631e-08 | F5: =21511.08/10000 -> 2.151108 | G5: =F5/$F$3 -> 1.8409256e-05 | H5: =50138/10000 -> 5.0138 | I5: =H5/$H$3 -> 2.3337856e-05
A6: 银行存款 | B6: =108711499.27/10000 -> 10871.15 | C6: =B6/B$3 -> 0.12204525 | D6: =61305264.87/10000 -> 6130.5265 | E6: =D6/$D$3 -> 0.052877772 | F6: =28392527.95/10000 -> 2839.2528 | G6: =F6/$F$3 -> 0.024298423 | H6: =55690615.26/10000 -> 5569.0615 | I6: =H6/$H$3 -> 0.025922445
A7: 应收票据 | C7: =B7/B$3 -> 0 | E7: =D7/$D$3 -> 0 | G7: =F7/$F$3 -> 0 | I7: =H7/$H$3 -> 0
A8: 应收帐款 | C8: =B8/B$3 -> 0 | E8: =D8/$D$3 -> 0 | G8: =F8/$F$3 -> 0 | H8: =102515009.27/10000 -> 10251.501 | I8: =H8/$H$3 -> 0.047717909
A9: 预付款 | C9: =B9/B$3 -> 0 | E9: =D9/$D$3 -> 0 | G9: =F9/$F$3 -> 0 | I9: =H9/$H$3 -> 0
A10: 其他应收款 | C10: =B10/B$3 -> 0 | E10: =D10/$D$3 -> 0 | G10: =F10/$F$3 -> 0 | I10: =H10/$H$3 -> 0
A11: 材料 | C11: =B11/B$3 -> 0 | E11: =D11/$D$3 -> 0 | G11: =F11/$F$3 -> 0 | I11: =H11/$H$3 -> 0
A12: 产成品 | C12: =B12/B$3 -> 0 | E12: =D12/$D$3 -> 0 | G12: =F12/$F$3 -> 0 | I12: =H12/$H$3 -> 0
A13: 对外投资 | B13: =500000/10000 -> 50 | C13: =B13/B$3 -> 0.00056132632 | D13: =500000/10000 -> 50 | E13: =D13/$D$3 -> 0.00043126616 | F13: =500000/10000 -> 50 | G13: =F13/$F$3 -> 0.00042790172 | H13: =500000/10000 -> 50 | I13: =H13/$H$3 -> 0.00023273621
A14: 固定资产原值 | B14: =479104531.53/10000 -> 47910.453 | C14: =B14/B$3 -> 0.53786796 | D14: =548015170.93/10000 -> 54801.517 | E14: =D14/$D$3 -> 0.47268079 | F14: =562218140.81/10000 -> 56221.814 | G14: =F14/$F$3 -> 0.48114822 | H14: =1578966891.26/10000 -> 157896.69 | I14: =H14/$H$3 -> 0.73496554
A15: 减:累计折旧 | B15: 0 | C15: =B15/B$3 -> 0 | D15: 0 | E15: =D15/$D$3 -> 0 | F15: 0 | G15: =F15/$F$3 -> 0 | H15: 0 | I15: =H15/$H$3 -> 0
A16: 固定资产净值 | B16: =B14 -> 47910.453 | C16: =B16/B$3 -> 0.53786796 | D16: =D14-D15 -> 54801.517 | E16: =D16/$D$3 -> 0.47268079 | F16: =F14 -> 56221.814 | G16: =F16/$F$3 -> 0.48114822 | H16: =H14 -> 157896.69 | I16: =H16/$H$3 -> 0.73496554
A17: 无形资产 | B17: 0 | C17: =B17/B$3 -> 0 | D17: 0 | E17: =D17/$D$3 -> 0 | F17: 0 | G17: =F17/$F$3 -> 0 | I17: =H17/$H$3 -> 0
A18: 财政应返还额度 | B18: 0 | C18: =B18/B$3 -> 0 | E18: =D18/$D$3 -> 0 | G18: =F18/$F$3 -> 0 | I18: =H18/$H$3 -> 0
A19: 其他(基本建设资金占用合计) | C19: =B19/B$3 -> 0 | D19: =422573783.5/10000 -> 42257.378 | E19: =D19/$D$3 -> 0.36448354 | F19: =399258602.69/10000 -> 39925.86 | G19: =F19/$F$3 -> 0.34168689 | H19: =410632358.32/10000 -> 41063.236 | I19: =H19/$H$3 -> 0.19113804
A20: 二、负债合计 | B20: =SUM(B22:B30) -> 42834.226 | C20: =B20/B$3 -> 0.48087956 | D20: =SUM(D22:D27) -> 57813.494 | E20: =D20/$D$3 -> 0.49866007 | F20: =SUM(F22:F27) -> 55840.156 | G20: =F20/$F$3 -> 0.47788198 | H20: =SUM(H21:H30) -> 53394.433 | I20: =H20/$H$3 -> 0.24853636
A21: 借入款 | B21: =30000000/10000 -> 3000 | C21: =B21/B$3 -> 0.033679579 | D21: =401762400/10000 -> 40176.24 | E21: =D21/$D$3 -> 0.34653305 | F21: =393251800/10000 -> 39325.18 | G21: =F21/$F$3 -> 0.33654624 | H21: =453289700/10000 -> 45328.97 | I21: =H21/$H$3 -> 0.21099385
A22: 其中:银行借款 | B22: =B21 -> 3000 | C22: =B22/B$3 -> 0.033679579 | D22: =D21 -> 40176.24 | E22: =D22/$D$3 -> 0.34653305 | F22: =F21 -> 39325.18 | G22: =F22/$F$3 -> 0.33654624 | I22: =H22/$H$3 -> 0
A23: 应付票据 | B23: 0 | C23: =B23/B$3 -> 0 | D23: 0 | E23: =D23/$D$3 -> 0 | G23: =F23/$F$3 -> 0 | I23: =H23/$H$3 -> 0
A24: 应付帐款 | B24: =30552983.54/10000 -> 3055.2984 | C24: =B24/B$3 -> 0.034300387 | D24: =86544277/10000 -> 8654.4277 | E24: =D24/$D$3 -> 0.074647235 | F24: =79419195.55/10000 -> 7941.9196 | G24: =F24/$F$3 -> 0.067967221 | H24: =59516064.1/10000 -> 5951.6064 | I24: =H24/$H$3 -> 0.027703086
A25: 预收帐款 | B25: 0 | C25: =B25/B$3 -> 0 | D25: 0 | E25: =D25/$D$3 -> 0 | G25: =F25/$F$3 -> 0 | I25: =H25/$H$3 -> 0
A26: 其他应付款 | B26: =367789273.89/10000 -> 36778.927 | C26: =B26/B$3 -> 0.4128996 | D26: =89828264.28/10000 -> 8982.8264 | E26: =D26/$D$3 -> 0.077479781 | F26: =(73006802.69+12723765.43)/10000 -> 8573.0568 | G26: =F26/$F$3 -> 0.073368515 | I26: =H26/$H$3 -> 0
A27: 应缴预算款 | B27: 0 | C27: =B27/B$3 -> 0 | D27: 0 | E27: =D27/$D$3 -> 0 | G27: =F27/$F$3 -> 0 | I27: =H27/$H$3 -> 0
A28: 应缴财政专户款 | B28: 0 | C28: =B28/B$3 -> 0 | D28: 0 | E28: =D28/$D$3 -> 0 | F28: 0 | G28: =F28/$F$3 -> 0 | H28: =7701772/10000 -> 770.1772 | I28: =H28/$H$3 -> 0.0035849624
A29: 应交税金 | B29: 0 | C29: =B29/B$3 -> 0 | D29: 0 | E29: =D29/$D$3 -> 0 | F29: 0 | G29: =F29/$F$3 -> 0 | H29: =1672298.15/10000 -> 167.22982 | I29: =H29/$H$3 -> 0.00077840866
A30: 代管款项 | B30: 0 | C30: =B30/B$3 -> 0 | D30: 0 | E30: =D30/$D$3 -> 0 | F30: 0 | G30: =F30/$F$3 -> 0 | H30: =11764493.07/10000 -> 1176.4493 | I30: =H30/$H$3 -> 0.005476047
A31: 负债合计 | B31: =B20 -> 42834.226 | C31: =B31/B$3 -> 0.48087956 | D31: =D20 -> 57813.494 | E31: =D31/$D$3 -> 0.49866007 | F31: =F20 -> 55840.156 | G31: =F31/$F$3 -> 0.47788198 | H31: =H20 -> 53394.433 | I31: =H31/$H$3 -> 0.24853636
A32: 三、净资产合计 | B32: =SUM(B33:B38)-B34 -> 49240.522 | C32: =B32/B$3 -> 0.55280002 | D32: =SUM(D33:D38)-D34 -> 58124.191 | E32: =D32/$D$3 -> 0.50133993 | F32: =SUM(F33:F38)-F34 -> 61009.105 | G32: =F32/$F$3 -> 0.52211802 | H32: =SUM(H33:H37)-H34 -> 0 | I32: =H32/$H$3 -> 0
A33: 事业基金 | B33: =6393889.95/10000 -> 639.389 | C33: =B33/B$3 -> 0.0071781174 | D33: =26402889.95/10000 -> 2640.289 | E33: =D33/$D$3 -> 0.022773346 | F33: =38930890.29/10000 -> 3893.089 | G33: =F33/$F$3 -> 0.03331719 | I33: =H33/$H$3 -> 0
A34: 其中:一般基金 | B34: =B33 -> 639.389 | C34: =B34/B$3 -> 0.0071781174 | D34: =D33 -> 2640.289 | E34: =D34/$D$3 -> 0.022773346 | F34: =F33 -> 3893.089 | G34: =F34/$F$3 -> 0.03331719 | I34: =H34/$H$3 -> 0
A35: 投资基金 | C35: =B35/B$3 -> 0 | E35: =D35/$D$3 -> 0 | F35: 0 | G35: =F35/$F$3 -> 0 | I35: =H35/$H$3 -> 0
A36: 固定基金 | B36: =B16 -> 47910.453 | C36: =B36/B$3 -> 0.53786796 | D36: =D16 -> 54801.517 | E36: =D36/$D$3 -> 0.47268079 | F36: =F16 -> 56221.814 | G36: =F36/$F$3 -> 0.48114822 | I36: =H36/$H$3 -> 0
A37: 专用基金 | B37: =6906796.13/10000 -> 690.67961 | C37: =B37/B$3 -> 0.0077539329 | D37: =6823853.09/10000 -> 682.38531 | E37: =D37/$D$3 -> 0.0058857938 | F37: =8942015.93/10000 -> 894.20159 | G37: =F37/$F$3 -> 0.007652608 | I37: =H37/$H$3 -> 0
A38: 基本建设资金来源合计 | C38: =B38/B$3 -> 0 | E38: =D38/$D$3 -> 0 | G38: =F38/$F$3 -> 0
A39: 其中：基建借款 | C39: =B39/B$3 -> 0 | E39: =D39/$D$3 -> 0 | G39: =F39/$F$3 -> 0
A40: 五、负债部类合计 | B40: =B20+B32 -> 92074.748 | C40: =B40/B$3 -> 1.0336796 | D40: =D20+D32 -> 115937.69 | E40: =D40/$D$3 -> 1 | F40: =F20+F32 -> 116849.26 | G40: =F40/$F$3 -> 1 | I40: =H40/$H$3 -> 0

Sheet 二期租金测算
B1: 融资租赁租金及收益测算表
B2: 租金计算方式
B3: PM存量占用 | D3: PM存量收入 | F3: PM总收益率 | G3: =(E$3+H$4)/(C$3+H$6) -> 0.11215385 | H3: 总收益 | I3: 利息收入 | K3: 资产报酬率 | M3: 总资金占用收益率
B4: 部门存量占用 | D4: 部门存量收入 | F4: 部门总收益率 | G4: =(E$4+H$4)/(C$4+H$6) -> 0.11215385 | H4: =SUM(G$12:G$202)/2 -> 13522950 | I4: =SUM(L4,L7,L10,L13,L16,L19,L22,L25,L28,L31,L34)*10000 -> 7902103.8 | K4: 2002年收入 | L4: =IF(SUM(O11:O133)<0,0,SUM(O11:O133)/10000) -> 0 | M4: 2002年后收入 | N4: =IF(L4=0,0,L4+L7+L10+L13+L16+L19+L22+L25+L28+L31+L34) -> 0
B5: 项目总额 | C5: 53000000 | D5: 租期（年） | E5: 5 | F5: 返点收入 | H5: 总资金占用 | I5: 资金占用 | K5: 2002年占用 | L5: =IF(SUM(Z11:Z133)<0,0,SUM(Z11:Z133)/10000) -> 0 | M5: 2002年后占用 | N5: =IF(L5=0,0,L5+L8+L11+L14+L17+L20+L23+L26+L29+L32+L35) -> 0
B6: 首付款 | D6: 年利率 | E6: 0.062 | F6: 利息补贴 | H6: =((SUM(F$12:F$202)-C$8)/2-C$7*E$5*E$7)/E$7 -> 120575000 | I6: =SUM(J8:J134) -> 1.2056992e+08 | L6: =IF(L5=0,0,L4/L5) -> 0 | N6: =IF(N5=0,0,N4/N5) -> 0
B7: 保证金 | C7: =C5*11% -> 5830000 | D7: 年还租次数 | E7: 2 | F7: 手续费收入 | G7: =C5*8% -> 4240000 | H7: 收益率 | K7: 2003年收入 | L7: =IF(SUM(P11:P133)-L4<0,0,SUM(P11:P133)/10000-L4) -> 0 | M7: 2003年后收入 | N7: =IF(L7=0,0,L7+L10+L13+L16+L19+L22+L25+L28+L31+L34) -> 0
B8: 资产余值 | D8: 每期本金 | E8: =ROUND((F$12-C$8)/(E$5*E$7),2) -> 5300000 | F8: 管理费收入 | H8: =H$4/H$6 -> 0.11215385 | K8: 2003年占用 | L8: =IF(SUM(AA11:AA133)-L5<0,0,SUM(AA11:AA133)/10000-L5) -> 0 | M8: 2003年后占用 | N8: =IF(L8=0,0,L8+L11+L14+L17+L20+L23+L26+L29+L32+L35) -> 0 | O8: 37621 | P8: 37986 | Q8: 38352 | R8: 38717 | S8: 39082 | T8: 39447 | U8: 39813 | V8: 40178 | W8: 40543 | X8: 40908 | Y8: 41274
B9: 考核调整 | D9: 租前息 | F9: 其他收入 | L9: =IF(L8=0,0,L7/L8) -> 0 | N9: =IF(N8=0,0,N7/N8) -> 0 | O9: 2002年收入 | P9: 2003年收入 | Q9: 2004年收入 | R9: 2005年收入 | S9: 2006年收入 | T9: 2007年收入 | U9: 2008年收入 | V9: 2009年收入 | W9: 2010年收入 | X9: 2011年收入 | Y9: 2012年收入 | Z9: 2002年占用 | AA9: 2003年占用 | AB9: 2004年占用 | AC9: 2005年占用 | AD9: 2006年占用 | AE9: 2007年占用 | AF9: 2008年占用 | AG9: 2009年占用 | AH9: 2010年占用 | AI9: 2011年占用 | AJ9: 2012年占用
B10: 其他支出 | F10: 残值收入 | K10: 2004年收入 | L10: =IF((SUM(Q11:Q133)-L7-L4)<0,0,SUM(Q11:Q133)/10000-L7-L4) -> 0 | M10: 2004年后收入 | N10: =IF(L10=0,0,L10+L13+L16+L19+L22+L25+L28+L31+L34) -> 0
B11: 项目 | C11: 租金收入 | D11: 利息收入 | E11: 回收成本 | F11: 未回收成本 | G11: 现金流量 | H11: IRR | K11: 2004年占用 | L11: =IF((SUM(AB11:AB133)-L8-L5)<0,0,SUM(AB11:AB133)/10000-L8-L5) -> 0 | M11: 2004年后占用 | N11: =IF(L11=0,0,L11+L14+L17+L20+L23+L26+L29+L32+L35) -> 0 | O11: =IF($A12="","",IF($A13="",IF(YEAR($A12)=2002,SUM($D$12:$D12),""),IF(AND(YEAR($A12)=2002,YEAR($A13)=2003),SUM($D$12:$D12,$D13*(O$8-$A12)/($A13-$A12)),""))) | P11: =IF($A12="","",IF($A13="",IF(YEAR($A12)=2003,SUM($D$12:$D12),""),IF(AND(YEAR($A12)=2003,YEAR($A13)=2004),SUM($D$12:$D12,$D13*(P$8-$A12)/($A13-$A12)),""))) | Q11: =IF(A12="","",IF(A13="",IF(YEAR(A12)=2004,SUM(D$12:D12),""),IF(AND(YEAR(A12)=2004,YEAR(A13)=2005),SUM(D$12:D12,D13*(Q$8-A12)/(A13-A12)),""))) | R11: =IF(A12="","",IF(A13="",IF(YEAR(A12)=2005,SUM(D$12:D12),""),IF(AND(YEAR(A12)=2005,YEAR(A13)=2006),SUM(D$12:D12,D13*(R$8-A12)/(A13-A12)),""))) | S11: =IF(A12="","",IF(A13="",IF(YEAR(A12)=2006,SUM(D$12:D12),""),IF(AND(YEAR(A12)=2006,YEAR(A13)=2007),SUM(D$12:D12,D13*(S$8-A12)/(A13-A12)),""))) | T11: =IF(A12="","",IF(A13="",IF(YEAR(A12)=2007,SUM(D$12:D12),""),IF(AND(YEAR(A12)=2007,YEAR(A13)=2008),SUM(D$12:D12,D13*(T$8-A12)/(A13-A12)),""))) | U11: =IF(A12="","",IF(A13="",IF(YEAR(A12)=2008,SUM(D$12:D12),""),IF(AND(YEAR(A12)=2008,YEAR(A13)=2009),SUM(D$12:D12,D13*(U$8-A12)/(A13-A12)),""))) | V11: =IF(A12="","",IF(A13="",IF(YEAR(A12)=2009,SUM(D$12:D12),""),IF(AND(YEAR(A12)=2009,YEAR(A13)=2010),SUM(D$12:D12,D13*(V$8-A12)/(A13-A12)),""))) -> 326784.53 | W11: =IF(A12="","",IF(A13="",IF(YEAR(A12)=2010,SUM(D$12:D12),""),IF(AND(YEAR(A12)=2010,YEAR(A13)=2011),SUM(D$12:D12,D13*(W$8-A12)/(A13-A12)),""))) | X11: =IF(A12="","",IF(A13="",IF(YEAR(A12)=2011,SUM(D$12:D12),""),IF(AND(YEAR(A12)=2011,YEAR(A13)=2012),SUM(D$12:D12,D13*(X$8-A12)/(A13-A12)),""))) | Y11: =IF(A12="","",IF(A13="",IF(YEAR(A12)=2012,SUM(D$12:D12),""),IF(AND(YEAR(A12)=2012,YEAR(A13)=2013),SUM(D$12:D12,D13*(Y$8-A12)/(A13-A12)),""))) | Z11: =IF($A12="","",IF($A13="",IF(YEAR($A12)=2002,SUM($J$12:$J12),""),IF(AND(YEAR($A12)=2002,YEAR($A13)=2003),SUM($J$12:$J12,$J13*(O$8-$A12)/($A13-$A12)),""))) | AA11: =IF($A12="","",IF($A13="",IF(YEAR($A12)=2003,SUM($J$12:$J12),""),IF(AND(YEAR($A12)=2003,YEAR($A13)=2004),SUM($J$12:$J12,$J13*(P$8-$A12)/($A13-$A12)),""))) | AB11: =IF($A12="","",IF($A13="",IF(YEAR($A12)=2004,SUM($J$12:$J12),""),IF(AND(YEAR($A12)=2004,YEAR($A13)=2005),SUM($J$12:$J12,$J13*(Q$8-$A12)/($A13-$A12)),""))) | AC11: =IF($A12="","",IF($A13="",IF(YEAR($A12)=2005,SUM($J$12:$J12),""),IF(AND(YEAR($A12)=2005,YEAR($A13)=2006),SUM($J$12:$J12,$J13*(R$8-$A12)/($A13-$A12)),""))) | AD11: =IF($A12="","",IF($A13="",IF(YEAR($A12)=2006,SUM($J$12:$J12),""),IF(AND(YEAR($A12)=2006,YEAR($A13)=2007),SUM($J$12:$J12,$J13*(S$8-$A12)/($A13-$A12)),""))) | AE11: =IF($A12="","",IF($A13="",IF(YEAR($A12)=2007,SUM($J$12:$J12),""),IF(AND(YEAR($A12)=2007,YEAR($A13)=2008),SUM($J$12:$J12,$J13*(T$8-$A12)/($A13-$A12)),""))) | AF11: =IF($A12="","",IF($A13="",IF(YEAR($A12)=2008,SUM($J$12:$J12),""),IF(AND(YEAR($A12)=2008,YEAR($A13)=2009),SUM($J$12:$J12,$J13*(U$8-$A12)/($A13-$A12)),""))) | AG11: =IF($A12="","",IF($A13="",IF(YEAR($A12)=2009,SUM($J$12:$J12),""),IF(AND(YEAR($A12)=2009,YEAR($A13)=2010),SUM($J$12:$J12,$J13*(V$8-$A12)/($A13-$A12)),""))) -> 4652383.6 | AH11: =IF($A12="","",IF($A13="",IF(YEAR($A12)=2010,SUM($J$12:$J12),""),IF(AND(YEAR($A12)=2010,YEAR($A13)=2011),SUM($J$12:$J12,$J13*(W$8-$A12)/($A13-$A12)),""))) | AI11: =IF($A12="","",IF($A13="",IF(YEAR($A12)=2011,SUM($J$12:$J12),""),IF(AND(YEAR($A12)=2011,YEAR($A13)=2012),SUM($J$12:$J12,$J13*(X$8-$A12)/($A13-$A12)),""))) | AJ11: =IF($A12="","",IF($A13="",IF(YEAR($A12)=2012,SUM($J$12:$J12),""),IF(AND(YEAR($A12)=2012,YEAR($A13)=2013),SUM($J$12:$J12,$J13*(Y$8-$A12)/($A13-$A12)),"")))
A12: 40142 | B12: 起租日 | E12: 0 | F12: =C$5-C$6+E$9+C9 -> 53000000 | G12: =-C5+C7+G7*35% -> -45686000 | I12: =IF(A13="","",F12-$C$7) -> 47170000 | L12: =IF(L11=0,0,L10/L11) -> 0 | N12: =IF(N11=0,0,N10/N11) -> 0 | O12: =IF($A13="","",IF($A14="",IF(YEAR($A13)=2002,SUM($D$12:$D13),""),IF(AND(YEAR($A13)=2002,YEAR($A14)=2003),SUM($D$12:$D13,$D14*(O$8-$A13)/($A14-$A13)),""))) | P12: =IF($A13="","",IF($A14="",IF(YEAR($A13)=2003,SUM($D$12:$D13),""),IF(AND(YEAR($A13)=2003,YEAR($A14)=2004),SUM($D$12:$D13,$D14*(P$8-$A13)/($A14-$A13)),""))) | Q12: =IF(A13="","",IF(A14="",IF(YEAR(A13)=2004,SUM(D$12:D13),""),IF(AND(YEAR(A13)=2004,YEAR(A14)=2005),SUM(D$12:D13,D14*(Q$8-A13)/(A14-A13)),""))) | R12: =IF(A13="","",IF(A14="",IF(YEAR(A13)=2005,SUM(D$12:D13),""),IF(AND(YEAR(A13)=2005,YEAR(A14)=2006),SUM(D$12:D13,D14*(R$8-A13)/(A14-A13)),""))) | S12: =IF(A13="","",IF(A14="",IF(YEAR(A13)=2006,SUM(D$12:D13),""),IF(AND(YEAR(A13)=2006,YEAR(A14)=2007),SUM(D$12:D13,D14*(S$8-A13)/(A14-A13)),""))) | T12: =IF(A13="","",IF(A14="",IF(YEAR(A13)=2007,SUM(D$12:D13),""),IF(AND(YEAR(A13)=2007,YEAR(A14)=2008),SUM(D$12:D13,D14*(T$8-A13)/(A14-A13)),""))) | U12: =IF(A13="","",IF(A14="",IF(YEAR(A13)=2008,SUM(D$12:D13),""),IF(AND(YEAR(A13)=2008,YEAR(A14)=2009),SUM(D$12:D13,D14*(U$8-A13)/(A14-A13)),""))) | V12: =IF(A13="","",IF(A14="",IF(YEAR(A13)=2009,SUM(D$12:D13),""),IF(AND(YEAR(A13)=2009,YEAR(A14)=2010),SUM(D$12:D13,D14*(V$8-A13)/(A14-A13)),""))) | W12: =IF(A13="","",IF(A14="",IF(YEAR(A13)=2010,SUM(D$12:D13),""),IF(AND(YEAR(A13)=2010,YEAR(A14)=2011),SUM(D$12:D13,D14*(W$8-A13)/(A14-A13)),""))) | X12: =IF(A13="","",IF(A14="",IF(YEAR(A13)=2011,SUM(D$12:D13),""),IF(AND(YEAR(A13)=2011,YEAR(A14)=2012),SUM(D$12:D13,D14*(X$8-A13)/(A14-A13)),""))) | Y12: =IF(A13="","",IF(A14="",IF(YEAR(A13)=2012,SUM(D$12:D13),""),IF(AND(YEAR(A13)=2012,YEAR(A14)=2013),SUM(D$12:D13,D14*(Y$8-A13)/(A14-A13)),""))) | Z12: =IF($A13="","",IF($A14="",IF(YEAR($A13)=2002,SUM($J$12:$J13),""),IF(AND(YEAR($A13)=2002,YEAR($A14)=2003),SUM($J$12:$J13,$J14*(O$8-$A13)/($A14-$A13)),""))) | AA12: =IF($A13="","",IF($A14="",IF(YEAR($A13)=2003,SUM($J$12:$J13),""),IF(AND(YEAR($A13)=2003,YEAR($A14)=2004),SUM($J$12:$J13,$J14*(P$8-$A13)/($A14-$A13)),""))) | AB12: =IF($A13="","",IF($A14="",IF(YEAR($A13)=2004,SUM($J$12:$J13),""),IF(AND(YEAR($A13)=2004,YEAR($A14)=2005),SUM($J$12:$J13,$J14*(Q$8-$A13)/($A14-$A13)),""))) | AC12: =IF($A13="","",IF($A14="",IF(YEAR($A13)=2005,SUM($J$12:$J13),""),IF(AND(YEAR($A13)=2005,YEAR($A14)=2006),SUM($J$12:$J13,$J14*(R$8-$A13)/($A14-$A13)),""))) | AD12: =IF($A13="","",IF($A14="",IF(YEAR($A13)=2006,SUM($J$12:$J13),""),IF(AND(YEAR($A13)=2006,YEAR($A14)=2007),SUM($J$12:$J13,$J14*(S$8-$A13)/($A14-$A13)),""))) | AE12: =IF($A13="","",IF($A14="",IF(YEAR($A13)=2007,SUM($J$12:$J13),""),IF(AND(YEAR($A13)=2007,YEAR($A14)=2008),SUM($J$12:$J13,$J14*(T$8-$A13)/($A14-$A13)),""))) | AF12: =IF($A13="","",IF($A14="",IF(YEAR($A13)=2008,SUM($J$12:$J13),""),IF(AND(YEAR($A13)=2008,YEAR($A14)=2009),SUM($J$12:$J13,$J14*(U$8-$A13)/($A14-$A13)),""))) | AG12: =IF($A13="","",IF($A14="",IF(YEAR($A13)=2009,SUM($J$12:$J13),""),IF(AND(YEAR($A13)=2009,YEAR($A14)=2010),SUM($J$12:$J13,$J14*(V$8-$A13)/($A14-$A13)),""))) | AH12: =IF($A13="","",IF($A14="",IF(YEAR($A13)=2010,SUM($J$12:$J13),""),IF(AND(YEAR($A13)=2010,YEAR($A14)=2011),SUM($J$12:$J13,$J14*(W$8-$A13)/($A14-$A13)),""))) | AI12: =IF($A13="","",IF($A14="",IF(YEAR($A13)=2011,SUM($J$12:$J13),""),IF(AND(YEAR($A13)=2011,YEAR($A14)=2012),SUM($J$12:$J13,$J14*(X$8-$A13)/($A14-$A13)),""))) | AJ12: =IF($A13="","",IF($A14="",IF(YEAR($A13)=2012,SUM($J$12:$J13),""),IF(AND(YEAR($A13)=2012,YEAR($A14)=2013),SUM($J$12:$J13,$J14*(Y$8-$A13)/($A14-$A13)),"")))
A13: =IF(B13<=($E$5*$E$7),DATE(YEAR(A12),MONTH(A12)+12/$E$7,DAY(A12)),"") -> 40323 | B13: =1 -> 1 | C13: =D13+E13 -> 4823000 | D13: =IF(B13=" "," ",ROUND(F12*E$6/E$7,2)) -> 1643000 | E13: =C5*6% -> 3180000 | F13: =IF(B13=" "," ",F12-E13) -> 49820000 | G13: =IF(B14=" ",IF(E$5*E$7=B13,C13-C$7+C$8+G$10," "),C13)+G7*25% -> 5883000 | H13: =IF(B14=" ",IF(E$5*E$7=1,IRR(G$12:G13,0.01)," ")," ") | I13: =IF(A14="","",F13-C$7) -> 43990000 | J13: =IF(I12="","",I12*(A13-A12)/365) -> 23391151 | K13: 2005年收入 | L13: =IF((SUM(R11:R133)-L10-L7-L4)<0,0,(SUM(R11:R133)/10000-L10-L7-L4)) -> 0 | M13: 2005年后收入 | N13: =IF(L13=0,0,L13+L16+L19+L22+L25+L28+L31+L34) -> 0 | O13: =IF($A14="","",IF($A15="",IF(YEAR($A14)=2002,SUM($D$12:$D14),""),IF(AND(YEAR($A14)=2002,YEAR($A15)=2003),SUM($D$12:$D14,$D15*(O$8-$A14)/($A15-$A14)),""))) | P13: =IF($A14="","",IF($A15="",IF(YEAR($A14)=2003,SUM($D$12:$D14),""),IF(AND(YEAR($A14)=2003,YEAR($A15)=2004),SUM($D$12:$D14,$D15*(P$8-$A14)/($A15-$A14)),""))) | Q13: =IF(A14="","",IF(A15="",IF(YEAR(A14)=2004,SUM(D$12:D14),""),IF(AND(YEAR(A14)=2004,YEAR(A15)=2005),SUM(D$12:D14,D15*(Q$8-A14)/(A15-A14)),""))) | R13: =IF(A14="","",IF(A15="",IF(YEAR(A14)=2005,SUM(D$12:D14),""),IF(AND(YEAR(A14)=2005,YEAR(A15)=2006),SUM(D$12:D14,D15*(R$8-A14)/(A15-A14)),""))) | S13: =IF(A14="","",IF(A15="",IF(YEAR(A14)=2006,SUM(D$12:D14),""),IF(AND(YEAR(A14)=2006,YEAR(A15)=2007),SUM(D$12:D14,D15*(S$8-A14)/(A15-A14)),""))) | T13: =IF(A14="","",IF(A15="",IF(YEAR(A14)=2007,SUM(D$12:D14),""),IF(AND(YEAR(A14)=2007,YEAR(A15)=2008),SUM(D$12:D14,D15*(T$8-A14)/(A15-A14)),""))) | U13: =IF(A14="","",IF(A15="",IF(YEAR(A14)=2008,SUM(D$12:D14),""),IF(AND(YEAR(A14)=2008,YEAR(A15)=2009),SUM(D$12:D14,D15*(U$8-A14)/(A15-A14)),""))) | V13: =IF(A14="","",IF(A15="",IF(YEAR(A14)=2009,SUM(D$12:D14),""),IF(AND(YEAR(A14)=2009,YEAR(A15)=2010),SUM(D$12:D14,D15*(V$8-A14)/(A15-A14)),""))) | W13: =IF(A14="","",IF(A15="",IF(YEAR(A14)=2010,SUM(D$12:D14),""),IF(AND(YEAR(A14)=2010,YEAR(A15)=2011),SUM(D$12:D14,D15*(W$8-A14)/(A15-A14)),""))) -> 3461919 | X13: =IF(A14="","",IF(A15="",IF(YEAR(A14)=2011,SUM(D$12:D14),""),IF(AND(YEAR(A14)=2011,YEAR(A15)=2012),SUM(D$12:D14,D15*(X$8-A14)/(A15-A14)),""))) | Y13: =IF(A14="","",IF(A15="",IF(YEAR(A14)=2012,SUM(D$12:D14),""),IF(AND(YEAR(A14)=2012,YEAR(A15)=2013),SUM(D$12:D14,D15*(Y$8-A14)/(A15-A14)),""))) | Z13: =IF($A14="","",IF($A15="",IF(YEAR($A14)=2002,SUM($J$12:$J14),""),IF(AND(YEAR($A14)=2002,YEAR($A15)=2003),SUM($J$12:$J14,$J15*(O$8-$A14)/($A15-$A14)),""))) | AA13: =IF($A14="","",IF($A15="",IF(YEAR($A14)=2003,SUM($J$12:$J14),""),IF(AND(YEAR($A14)=2003,YEAR($A15)=2004),SUM($J$12:$J14,$J15*(P$8-$A14)/($A15-$A14)),""))) | AB13: =IF($A14="","",IF($A15="",IF(YEAR($A14)=2004,SUM($J$12:$J14),""),IF(AND(YEAR($A14)=2004,YEAR($A15)=2005),SUM($J$12:$J14,$J15*(Q$8-$A14)/($A15-$A14)),""))) | AC13: =IF($A14="","",IF($A15="",IF(YEAR($A14)=2005,SUM($J$12:$J14),""),IF(AND(YEAR($A14)=2005,YEAR($A15)=2006),SUM($J$12:$J14,$J15*(R$8-$A14)/($A15-$A14)),""))) | AD13: =IF($A14="","",IF($A15="",IF(YEAR($A14)=2006,SUM($J$12:$J14),""),IF(AND(YEAR($A14)=2006,YEAR($A15)=2007),SUM($J$12:$J14,$J15*(S$8-$A14)/($A15-$A14)),""))) | AE13: =IF($A14="","",IF($A15="",IF(YEAR($A14)=2007,SUM($J$12:$J14),""),IF(AND(YEAR($A14)=2007,YEAR($A15)=2008),SUM($J$12:$J14,$J15*(T$8-$A14)/($A15-$A14)),""))) | AF13: =IF($A14="","",IF($A15="",IF(YEAR($A14)=2008,SUM($J$12:$J14),""),IF(AND(YEAR($A14)=2008,YEAR($A15)=2009),SUM($J$12:$J14,$J15*(U$8-$A14)/($A15-$A14)),""))) | AG13: =IF($A14="","",IF($A15="",IF(YEAR($A14)=2009,SUM($J$12:$J14),""),IF(AND(YEAR($A14)=2009,YEAR($A15)=2010),SUM($J$12:$J14,$J15*(V$8-$A14)/($A15-$A14)),""))) | AH13: =IF($A14="","",IF($A15="",IF(YEAR($A14)=2010,SUM($J$12:$J14),""),IF(AND(YEAR($A14)=2010,YEAR($A15)=2011),SUM($J$12:$J14,$J15*(W$8-$A14)/($A15-$A14)),""))) -> 49382932 | AI13: =IF($A14="","",IF($A15="",IF(YEAR($A14)=2011,SUM($J$12:$J14),""),IF(AND(YEAR($A14)=2011,YEAR($A15)=2012),SUM($J$12:$J14,$J15*(X$8-$A14)/($A15-$A14)),""))) | AJ13: =IF($A14="","",IF($A15="",IF(YEAR($A14)=2012,SUM($J$12:$J14),""),IF(AND(YEAR($A14)=2012,YEAR($A15)=2013),SUM($J$12:$J14,$J15*(Y$8-$A14)/($A15-$A14)),"")))
A14: =IF(B14<=($E$5*$E$7),DATE(YEAR(A13),MONTH(A13)+12/$E$7,DAY(A13)),"") -> 40507 | B14: =IF($E$5*$E$7<2," ",2) -> 2 | C14: =IF(B14=" "," ",D14+E14) -> 6844420 | D14: =IF(B14=" "," ",ROUND(F13*E$6/E$7,2)) -> 1544420 | E14: =C5*10% -> 5300000 | F14: =IF(B14=" "," ",F13-E14) -> 44520000 | G14: =IF(B14=" "," ",IF(B15=" ",IF(E$5*E$7=B14,C14-C$7+C$8+G$10," "),C14))+G7*40% -> 8540420 | H14: =IF(B14=" "," ",IF(B15=" ",IF(E$5*E$7=2,IRR(G$12:G14,0.01)," ")," ")) | I14: =IF(A15="","",F14-C$7) -> 38690000 | J14: =IF(I13="","",I13*(A14-A13)/365) -> 22175781 | K14: 2005年占用 | L14: =IF((SUM(AC11:AC133)-L11-L8-L5)<0,0,SUM(AC11:AC133)/10000-L11-L8-L5) -> 0 | M14: 2005年后占用 | N14: =IF(L14=0,0,L14+L17+L20+L23+L26+L29+L32+L35) -> 0 | O14: =IF($A15="","",IF($A16="",IF(YEAR($A15)=2002,SUM($D$12:$D15),""),IF(AND(YEAR($A15)=2002,YEAR($A16)=2003),SUM($D$12:$D15,$D16*(O$8-$A15)/($A16-$A15)),""))) | P14: =IF($A15="","",IF($A16="",IF(YEAR($A15)=2003,SUM($D$12:$D15),""),IF(AND(YEAR($A15)=2003,YEAR($A16)=2004),SUM($D$12:$D15,$D16*(P$8-$A15)/($A16-$A15)),""))) | Q14: =IF(A15="","",IF(A16="",IF(YEAR(A15)=2004,SUM(D$12:D15),""),IF(AND(YEAR(A15)=2004,YEAR(A16)=2005),SUM(D$12:D15,D16*(Q$8-A15)/(A16-A15)),""))) | R14: =IF(A15="","",IF(A16="",IF(YEAR(A15)=2005,SUM(D$12:D15),""),IF(AND(YEAR(A15)=2005,YEAR(A16)=2006),SUM(D$12:D15,D16*(R$8-A15)/(A16-A15)),""))) | S14: =IF(A15="","",IF(A16="",IF(YEAR(A15)=2006,SUM(D$12:D15),""),IF(AND(YEAR(A15)=2006,YEAR(A16)=2007),SUM(D$12:D15,D16*(S$8-A15)/(A16-A15)),""))) | T14: =IF(A15="","",IF(A16="",IF(YEAR(A15)=2007,SUM(D$12:D15),""),IF(AND(YEAR(A15)=2007,YEAR(A16)=2008),SUM(D$12:D15,D16*(T$8-A15)/(A16-A15)),""))) | U14: =IF(A15="","",IF(A16="",IF(YEAR(A15)=2008,SUM(D$12:D15),""),IF(AND(YEAR(A15)=2008,YEAR(A16)=2009),SUM(D$12:D15,D16*(U$8-A15)/(A16-A15)),""))) | V14: =IF(A15="","",IF(A16="",IF(YEAR(A15)=2009,SUM(D$12:D15),""),IF(AND(YEAR(A15)=2009,YEAR(A16)=2010),SUM(D$12:D15,D16*(V$8-A15)/(A16-A15)),""))) | W14: =IF(A15="","",IF(A16="",IF(YEAR(A15)=2010,SUM(D$12:D15),""),IF(AND(YEAR(A15)=2010,YEAR(A16)=2011),SUM(D$12:D15,D16*(W$8-A15)/(A16-A15)),""))) | X14: =IF(A15="","",IF(A16="",IF(YEAR(A15)=2011,SUM(D$12:D15),""),IF(AND(YEAR(A15)=2011,YEAR(A16)=2012),SUM(D$12:D15,D16*(X$8-A15)/(A16-A15)),""))) | Y14: =IF(A15="","",IF(A16="",IF(YEAR(A15)=2012,SUM(D$12:D15),""),IF(AND(YEAR(A15)=2012,YEAR(A16)=2013),SUM(D$12:D15,D16*(Y$8-A15)/(A16-A15)),""))) | Z14: =IF($A15="","",IF($A16="",IF(YEAR($A15)=2002,SUM($J$12:$J15),""),IF(AND(YEAR($A15)=2002,YEAR($A16)=2003),SUM($J$12:$J15,$J16*(O$8-$A15)/($A16-$A15)),""))) | AA14: =IF($A15="","",IF($A16="",IF(YEAR($A15)=2003,SUM($J$12:$J15),""),IF(AND(YEAR($A15)=2003,YEAR($A16)=2004),SUM($J$12:$J15,$J16*(P$8-$A15)/($A16-$A15)),""))) | AB14: =IF($A15="","",IF($A16="",IF(YEAR($A15)=2004,SUM($J$12:$J15),""),IF(AND(YEAR($A15)=2004,YEAR($A16)=2005),SUM($J$12:$J15,$J16*(Q$8-$A15)/($A16-$A15)),""))) | AC14: =IF($A15="","",IF($A16="",IF(YEAR($A15)=2005,SUM($J$12:$J15),""),IF(AND(YEAR($A15)=2005,YEAR($A16)=2006),SUM($J$12:$J15,$J16*(R$8-$A15)/($A16-$A15)),""))) | AD14: =IF($A15="","",IF($A16="",IF(YEAR($A15)=2006,SUM($J$12:$J15),""),IF(AND(YEAR($A15)=2006,YEAR($A16)=2007),SUM($J$12:$J15,$J16*(S$8-$A15)/($A16-$A15)),""))) | AE14: =IF($A15="","",IF($A16="",IF(YEAR($A15)=2007,SUM($J$12:$J15),""),IF(AND(YEAR($A15)=2007,YEAR($A16)=2008),SUM($J$12:$J15,$J16*(T$8-$A15)/($A16-$A15)),""))) | AF14: =IF($A15="","",IF($A16="",IF(YEAR($A15)=2008,SUM($J$12:$J15),""),IF(AND(YEAR($A15)=2008,YEAR($A16)=2009),SUM($J$12:$J15,$J16*(U$8-$A15)/($A16-$A15)),""))) | AG14: =IF($A15="","",IF($A16="",IF(YEAR($A15)=2009,SUM($J$12:$J15),""),IF(AND(YEAR($A15)=2009,YEAR($A16)=2010),SUM($J$12:$J15,$J16*(V$8-$A15)/($A16-$A15)),""))) | AH14: =IF($A15="","",IF($A16="",IF(YEAR($A15)=2010,SUM($J$12:$J15),""),IF(AND(YEAR($A15)=2010,YEAR($A16)=2011),SUM($J$12:$J15,$J16*(W$8-$A15)/($A16-$A15)),""))) | AI14: =IF($A15="","",IF($A16="",IF(YEAR($A15)=2011,SUM($J$12:$J15),""),IF(AND(YEAR($A15)=2011,YEAR($A16)=2012),SUM($J$12:$J15,$J16*(X$8-$A15)/($A16-$A15)),""))) | AJ14: =IF($A15="","",IF($A16="",IF(YEAR($A15)=2012,SUM($J$12:$J15),""),IF(AND(YEAR($A15)=2012,YEAR($A16)=2013),SUM($J$12:$J15,$J16*(Y$8-$A15)/($A16-$A15)),"")))
A15: =IF(B15<=($E$5*$E$7),DATE(YEAR(A14),MONTH(A14)+12/$E$7,DAY(A14)),"") -> 40688 | B15: =IF($E$5*$E$7<3," ",3) -> 3 | C15: =IF(AND(B13=" ",B14=" ",B15=" ")," ",IF(B14=" ",SUM(C$13:C13),IF(B15=" "," ",D15+E15))) -> 5090120 | D15: =IF(AND(B13=" ",B14=" ",B15=" ")," ",IF(B14=" ",SUM(D$13:D13),IF(B15=" "," ",ROUND(F14*E$6/E$7,2)))) -> 1380120 | E15: =C5*7% -> 3710000 | F15: =IF(AND(B13=" ",B14=" ",B15=" ")," ",IF(B14=" ",SUM(F$12:F12),IF(B15=" "," ",F14-E15))) -> 40810000 | G15: =IF(AND(B13=" ",B14=" ",B15=" ")," ",IF(B14=" ",SUM(G$12:G13),IF(B16=" ",IF(E$5*E$7=B15,C15-C$7+C$8+G$10," "),C15))) -> 5090120 | H15: =IF(AND(B13=" ",B14=" ",B15=" ")," ",IF(B14=" ",SUM(H$13:H13)*E$7,IF(B15=" "," ",IF(B16=" ",IF(E$5*E$7=B15,IRR(G$12:G15,0.01)," ")," ")))) | I15: =IF(A16="","",F15-C$7) -> 34980000 | J15: =IF(I14="","",I14*(A15-A14)/365) -> 19186000 | L15: =IF(L14=0,0,L13/L14) -> 0 | N15: =IF(N14=0,0,N13/N14) -> 0 | O15: =IF($A16="","",IF($A17="",IF(YEAR($A16)=2002,SUM($D$12:$D16),""),IF(AND(YEAR($A16)=2002,YEAR($A17)=2003),SUM($D$12:$D16,$D17*(O$8-$A16)/($A17-$A16)),""))) | P15: =IF($A16="","",IF($A17="",IF(YEAR($A16)=2003,SUM($D$12:$D16),""),IF(AND(YEAR($A16)=2003,YEAR($A17)=2004),SUM($D$12:$D16,$D17*(P$8-$A16)/($A17-$A16)),""))) | Q15: =IF(A16="","",IF(A17="",IF(YEAR(A16)=2004,SUM(D$12:D16),""),IF(AND(YEAR(A16)=2004,YEAR(A17)=2005),SUM(D$12:D16,D17*(Q$8-A16)/(A17-A16)),""))) | R15: =IF(A16="","",IF(A17="",IF(YEAR(A16)=2005,SUM(D$12:D16),""),IF(AND(YEAR(A16)=2005,YEAR(A17)=2006),SUM(D$12:D16,D17*(R$8-A16)/(A17-A16)),""))) | S15: =IF(A16="","",IF(A17="",IF(YEAR(A16)=2006,SUM(D$12:D16),""),IF(AND(YEAR(A16)=2006,YEAR(A17)=2007),SUM(D$12:D16,D17*(S$8-A16)/(A17-A16)),""))) | T15: =IF(A16="","",IF(A17="",IF(YEAR(A16)=2007,SUM(D$12:D16),""),IF(AND(YEAR(A16)=2007,YEAR(A17)=2008),SUM(D$12:D16,D17*(T$8-A16)/(A17-A16)),""))) | U15: =IF(A16="","",IF(A17="",IF(YEAR(A16)=2008,SUM(D$12:D16),""),IF(AND(YEAR(A16)=2008,YEAR(A17)=2009),SUM(D$12:D16,D17*(U$8-A16)/(A17-A16)),""))) | V15: =IF(A16="","",IF(A17="",IF(YEAR(A16)=2009,SUM(D$12:D16),""),IF(AND(YEAR(A16)=2009,YEAR(A17)=2010),SUM(D$12:D16,D17*(V$8-A16)/(A17-A16)),""))) | W15: =IF(A16="","",IF(A17="",IF(YEAR(A16)=2010,SUM(D$12:D16),""),IF(AND(YEAR(A16)=2010,YEAR(A17)=2011),SUM(D$12:D16,D17*(W$8-A16)/(A17-A16)),""))) | X15: =IF(A16="","",IF(A17="",IF(YEAR(A16)=2011,SUM(D$12:D16),""),IF(AND(YEAR(A16)=2011,YEAR(A17)=2012),SUM(D$12:D16,D17*(X$8-A16)/(A17-A16)),""))) -> 6037393.1 | Y15: =IF(A16="","",IF(A17="",IF(YEAR(A16)=2012,SUM(D$12:D16),""),IF(AND(YEAR(A16)=2012,YEAR(A17)=2013),SUM(D$12:D16,D17*(Y$8-A16)/(A17-A16)),""))) | Z15: =IF($A16="","",IF($A17="",IF(YEAR($A16)=2002,SUM($J$12:$J16),""),IF(AND(YEAR($A16)=2002,YEAR($A17)=2003),SUM($J$12:$J16,$J17*(O$8-$A16)/($A17-$A16)),""))) | AA15: =IF($A16="","",IF($A17="",IF(YEAR($A16)=2003,SUM($J$12:$J16),""),IF(AND(YEAR($A16)=2003,YEAR($A17)=2004),SUM($J$12:$J16,$J17*(P$8-$A16)/($A17-$A16)),""))) | AB15: =IF($A16="","",IF($A17="",IF(YEAR($A16)=2004,SUM($J$12:$J16),""),IF(AND(YEAR($A16)=2004,YEAR($A17)=2005),SUM($J$12:$J16,$J17*(Q$8-$A16)/($A17-$A16)),""))) | AC15: =IF($A16="","",IF($A17="",IF(YEAR($A16)=2005,SUM($J$12:$J16),""),IF(AND(YEAR($A16)=2005,YEAR($A17)=2006),SUM($J$12:$J16,$J17*(R$8-$A16)/($A17-$A16)),""))) | AD15: =IF($A16="","",IF($A17="",IF(YEAR($A16)=2006,SUM($J$12:$J16),""),IF(AND(YEAR($A16)=2006,YEAR($A17)=2007),SUM($J$12:$J16,$J17*(S$8-$A16)/($A17-$A16)),""))) | AE15: =IF($A16="","",IF($A17="",IF(YEAR($A16)=2007,SUM($J$12:$J16),""),IF(AND(YEAR($A16)=2007,YEAR($A17)=2008),SUM($J$12:$J16,$J17*(T$8-$A16)/($A17-$A16)),""))) | AF15: =IF($A16="","",IF($A17="",IF(YEAR($A16)=2008,SUM($J$12:$J16),""),IF(AND(YEAR($A16)=2008,YEAR($A17)=2009),SUM($J$12:$J16,$J17*(U$8-$A16)/($A17-$A16)),""))) | AG15: =IF($A16="","",IF($A17="",IF(YEAR($A16)=2009,SUM($J$12:$J16),""),IF(AND(YEAR($A16)=2009,YEAR($A17)=2010),SUM($J$12:$J16,$J17*(V$8-$A16)/($A17-$A16)),""))) | AH15: =IF($A16="","",IF($A17="",IF(YEAR($A16)=2010,SUM($J$12:$J16),""),IF(AND(YEAR($A16)=2010,YEAR($A17)=2011),SUM($J$12:$J16,$J17*(W$8-$A16)/($A17-$A16)),""))) | AI15: =IF($A16="","",IF($A17="",IF(YEAR($A16)=2011,SUM($J$12:$J16),""),IF(AND(YEAR($A16)=2011,YEAR($A17)=2012),SUM($J$12:$J16,$J17*(X$8-$A16)/($A17-$A16)),""))) -> 85104932 | AJ15: =IF($A16="","",IF($A17="",IF(YEAR($A16)=2012,SUM($J$12:$J16),""),IF(AND(YEAR($A16)=2012,YEAR($A17)=2013),SUM($J$12:$J16,$J17*(Y$8-$A16)/($A17-$A16)),"")))
A16: =IF(B16<=($E$5*$E$7),DATE(YEAR(A15),MONTH(A15)+12/$E$7,DAY(A15)),"") -> 40872 | B16: =IF($E$5*$E$7<4," ",4) -> 4 | C16: =IF(AND(B14=" ",B15=" ",B16=" ")," ",IF(B15=" ",SUM(C$13:C14),IF(B16=" "," ",D16+E16))) -> 8685110 | D16: =IF(AND(B14=" ",B15=" ",B16=" ")," ",IF(B15=" ",SUM(D$13:D14),IF(B16=" "," ",ROUND(F15*E$6/E$7,2)))) -> 1265110 | E16: =C5*14% -> 7420000 | F16: =IF(AND(B14=" ",B15=" ",B16=" ")," ",IF(B15=" ",SUM(F$12:F13),IF(B16=" "," ",F15-E16))) -> 33390000 | G16: =IF(AND(B14=" ",B15=" ",B16=" ")," ",IF(B15=" ",SUM(G$12:G14),IF(B17=" ",IF(E$5*E$7=B16,C16-C$7+C$8+G$10," "),C16))) -> 8685110 | H16: =IF(AND(B14=" ",B15=" ",B16=" ")," ",IF(B15=" ",SUM(H$13:H14)*E$7,IF(B16=" "," ",IF(B17=" ",IF(E$5*E$7=B16,IRR(G$12:G16,0.01)," ")," ")))) | I16: =IF(A17="","",F16-C$7) -> 27560000 | J16: =IF(I15="","",I15*(A16-A15)/365) -> 17633753 | K16: 2006年收入 | L16: =IF((SUM(S11:S133)-L13-L10-L7-L4)<0,0,SUM(S11:S133)/10000-L13-L10-L7-L4) -> 0 | M16: 2006年后收入 | N16: =IF(L16=0,0,L16+L19+L22+L25+L28+L31+L34) -> 0 | O16: =IF($A17="","",IF($A18="",IF(YEAR($A17)=2002,SUM($D$12:$D17),""),IF(AND(YEAR($A17)=2002,YEAR($A18)=2003),SUM($D$12:$D17,$D18*(O$8-$A17)/($A18-$A17)),""))) | P16: =IF($A17="","",IF($A18="",IF(YEAR($A17)=2003,SUM($D$12:$D17),""),IF(AND(YEAR($A17)=2003,YEAR($A18)=2004),SUM($D$12:$D17,$D18*(P$8-$A17)/($A18-$A17)),""))) | Q16: =IF(A17="","",IF(A18="",IF(YEAR(A17)=2004,SUM(D$12:D17),""),IF(AND(YEAR(A17)=2004,YEAR(A18)=2005),SUM(D$12:D17,D18*(Q$8-A17)/(A18-A17)),""))) | R16: =IF(A17="","",IF(A18="",IF(YEAR(A17)=2005,SUM(D$12:D17),""),IF(AND(YEAR(A17)=2005,YEAR(A18)=2006),SUM(D$12:D17,D18*(R$8-A17)/(A18-A17)),""))) | S16: =IF(A17="","",IF(A18="",IF(YEAR(A17)=2006,SUM(D$12:D17),""),IF(AND(YEAR(A17)=2006,YEAR(A18)=2007),SUM(D$12:D17,D18*(S$8-A17)/(A18-A17)),""))) | T16: =IF(A17="","",IF(A18="",IF(YEAR(A17)=2007,SUM(D$12:D17),""),IF(AND(YEAR(A17)=2007,YEAR(A18)=2008),SUM(D$12:D17,D18*(T$8-A17)/(A18-A17)),""))) | U16: =IF(A17="","",IF(A18="",IF(YEAR(A17)=2008,SUM(D$12:D17),""),IF(AND(YEAR(A17)=2008,YEAR(A18)=2009),SUM(D$12:D17,D18*(U$8-A17)/(A18-A17)),""))) | V16: =IF(A17="","",IF(A18="",IF(YEAR(A17)=2009,SUM(D$12:D17),""),IF(AND(YEAR(A17)=2009,YEAR(A18)=2010),SUM(D$12:D17,D18*(V$8-A17)/(A18-A17)),""))) | W16: =IF(A17="","",IF(A18="",IF(YEAR(A17)=2010,SUM(D$12:D17),""),IF(AND(YEAR(A17)=2010,YEAR(A18)=2011),SUM(D$12:D17,D18*(W$8-A17)/(A18-A17)),""))) | X16: =IF(A17="","",IF(A18="",IF(YEAR(A17)=2011,SUM(D$12:D17),""),IF(AND(YEAR(A17)=2011,YEAR(A18)=2012),SUM(D$12:D17,D18*(X$8-A17)/(A18-A17)),""))) | Y16: =IF(A17="","",IF(A18="",IF(YEAR(A17)=2012,SUM(D$12:D17),""),IF(AND(YEAR(A17)=2012,YEAR(A18)=2013),SUM(D$12:D17,D18*(Y$8-A17)/(A18-A17)),""))) | Z16: =IF($A17="","",IF($A18="",IF(YEAR($A17)=2002,SUM($J$12:$J17),""),IF(AND(YEAR($A17)=2002,YEAR($A18)=2003),SUM($J$12:$J17,$J18*(O$8-$A17)/($A18-$A17)),""))) | AA16: =IF($A17="","",IF($A18="",IF(YEAR($A17)=2003,SUM($J$12:$J17),""),IF(AND(YEAR($A17)=2003,YEAR($A18)=2004),SUM($J$12:$J17,$J18*(P$8-$A17)/($A18-$A17)),""))) | AB16: =IF($A17="","",IF($A18="",IF(YEAR($A17)=2004,SUM($J$12:$J17),""),IF(AND(YEAR($A17)=2004,YEAR($A18)=2005),SUM($J$12:$J17,$J18*(Q$8-$A17)/($A18-$A17)),""))) | AC16: =IF($A17="","",IF($A18="",IF(YEAR($A17)=2005,SUM($J$12:$J17),""),IF(AND(YEAR($A17)=2005,YEAR($A18)=2006),SUM($J$12:$J17,$J18*(R$8-$A17)/($A18-$A17)),""))) | AD16: =IF($A17="","",IF($A18="",IF(YEAR($A17)=2006,SUM($J$12:$J17),""),IF(AND(YEAR($A17)=2006,YEAR($A18)=2007),SUM($J$12:$J17,$J18*(S$8-$A17)/($A18-$A17)),""))) | AE16: =IF($A17="","",IF($A18="",IF(YEAR($A17)=2007,SUM($J$12:$J17),""),IF(AND(YEAR($A17)=2007,YEAR($A18)=2008),SUM($J$12:$J17,$J18*(T$8-$A17)/($A18-$A17)),""))) | AF16: =IF($A17="","",IF($A18="",IF(YEAR($A17)=2008,SUM($J$12:$J17),""),IF(AND(YEAR($A17)=2008,YEAR($A18)=2009),SUM($J$12:$J17,$J18*(U$8-$A17)/($A18-$A17)),""))) | AG16: =IF($A17="","",IF($A18="",IF(YEAR($A17)=2009,SUM($J$12:$J17),""),IF(AND(YEAR($A17)=2009,YEAR($A18)=2010),SUM($J$12:$J17,$J18*(V$8-$A17)/($A18-$A17)),""))) | AH16: =IF($A17="","",IF($A18="",IF(YEAR($A17)=2010,SUM($J$12:$J17),""),IF(AND(YEAR($A17)=2010,YEAR($A18)=2011),SUM($J$12:$J17,$J18*(W$8-$A17)/($A18-$A17)),""))) | AI16: =IF($A17="","",IF($A18="",IF(YEAR($A17)=2011,SUM($J$12:$J17),""),IF(AND(YEAR($A17)=2011,YEAR($A18)=2012),SUM($J$12:$J17,$J18*(X$8-$A17)/($A18-$A17)),""))) | AJ16: =IF($A17="","",IF($A18="",IF(YEAR($A17)=2012,SUM($J$12:$J17),""),IF(AND(YEAR($A17)=2012,YEAR($A18)=2013),SUM($J$12:$J17,$J18*(Y$8-$A17)/($A18-$A17)),"")))
A17: =IF(B17<=($E$5*$E$7),DATE(YEAR(A16),MONTH(A16)+12/$E$7,DAY(A16)),"") -> 41054 | B17: =IF($E$5*$E$7<5," ",5) -> 5 | C17: =IF(AND(B15=" ",B16=" ",B17=" ")," ",IF(B16=" ",SUM(C$13:C15),IF(B17=" "," ",D17+E17))) -> 5275090 | D17: =IF(AND(B15=" ",B16=" ",B17=" ")," ",IF(B16=" ",SUM(D$13:D15),IF(B17=" "," ",ROUND(F16*E$6/E$7,2)))) -> 1035090 | E17: =C5*8% -> 4240000 | F17: =IF(AND(B15=" ",B16=" ",B17=" ")," ",IF(B16=" ",SUM(F$12:F14),IF(B17=" "," ",F16-E17))) -> 29150000 | G17: =IF(AND(B15=" ",B16=" ",B17=" ")," ",IF(B16=" ",SUM(G$12:G15),IF(B18=" ",IF(E$5*E$7=B17,C17-C$7+C$8+G$10," "),C17))) -> 5275090 | H17: =IF(AND(B15=" ",B16=" ",B17=" ")," ",IF(B16=" ",SUM(H$13:H15)*E$7,IF(B17=" "," ",IF(B18=" ",IF(E$5*E$7=B17,IRR(G$12:G17,0.01)," ")," ")))) | I17: =IF(A18="","",F17-C$7) -> 23320000 | J17: =IF(I16="","",I16*(A17-A16)/365) -> 13742247 | K17: 2006年占用 | L17: =IF((SUM(AD11:AD133)-L14-L11-L8-L5)<0,0,SUM(AD11:AD133)/10000-L14-L11-L8-L5) -> 0 | M17: 2006年后占用 | N17: =IF(L17=0,0,L17+L20+L23+L26+L29+L32+L35) -> 0 | O17: =IF($A18="","",IF($A19="",IF(YEAR($A18)=2002,SUM($D$12:$D18),""),IF(AND(YEAR($A18)=2002,YEAR($A19)=2003),SUM($D$12:$D18,$D19*(O$8-$A18)/($A19-$A18)),""))) | P17: =IF($A18="","",IF($A19="",IF(YEAR($A18)=2003,SUM($D$12:$D18),""),IF(AND(YEAR($A18)=2003,YEAR($A19)=2004),SUM($D$12:$D18,$D19*(P$8-$A18)/($A19-$A18)),""))) | Q17: =IF(A18="","",IF(A19="",IF(YEAR(A18)=2004,SUM(D$12:D18),""),IF(AND(YEAR(A18)=2004,YEAR(A19)=2005),SUM(D$12:D18,D19*(Q$8-A18)/(A19-A18)),""))) | R17: =IF(A18="","",IF(A19="",IF(YEAR(A18)=2005,SUM(D$12:D18),""),IF(AND(YEAR(A18)=2005,YEAR(A19)=2006),SUM(D$12:D18,D19*(R$8-A18)/(A19-A18)),""))) | S17: =IF(A18="","",IF(A19="",IF(YEAR(A18)=2006,SUM(D$12:D18),""),IF(AND(YEAR(A18)=2006,YEAR(A19)=2007),SUM(D$12:D18,D19*(S$8-A18)/(A19-A18)),""))) | T17: =IF(A18="","",IF(A19="",IF(YEAR(A18)=2007,SUM(D$12:D18),""),IF(AND(YEAR(A18)=2007,YEAR(A19)=2008),SUM(D$12:D18,D19*(T$8-A18)/(A19-A18)),""))) | U17: =IF(A18="","",IF(A19="",IF(YEAR(A18)=2008,SUM(D$12:D18),""),IF(AND(YEAR(A18)=2008,YEAR(A19)=2009),SUM(D$12:D18,D19*(U$8-A18)/(A19-A18)),""))) | V17: =IF(A18="","",IF(A19="",IF(YEAR(A18)=2009,SUM(D$12:D18),""),IF(AND(YEAR(A18)=2009,YEAR(A19)=2010),SUM(D$12:D18,D19*(V$8-A18)/(A19-A18)),""))) | W17: =IF(A18="","",IF(A19="",IF(YEAR(A18)=2010,SUM(D$12:D18),""),IF(AND(YEAR(A18)=2010,YEAR(A19)=2011),SUM(D$12:D18,D19*(W$8-A18)/(A19-A18)),""))) | X17: =IF(A18="","",IF(A19="",IF(YEAR(A18)=2011,SUM(D$12:D18),""),IF(AND(YEAR(A18)=2011,YEAR(A19)=2012),SUM(D$12:D18,D19*(X$8-A18)/(A19-A18)),""))) | Y17: =IF(A18="","",IF(A19="",IF(YEAR(A18)=2012,SUM(D$12:D18),""),IF(AND(YEAR(A18)=2012,YEAR(A19)=2013),SUM(D$12:D18,D19*(Y$8-A18)/(A19-A18)),""))) -> 7902103.8 | Z17: =IF($A18="","",IF($A19="",IF(YEAR($A18)=2002,SUM($J$12:$J18),""),IF(AND(YEAR($A18)=2002,YEAR($A19)=2003),SUM($J$12:$J18,$J19*(O$8-$A18)/($A19-$A18)),""))) | AA17: =IF($A18="","",IF($A19="",IF(YEAR($A18)=2003,SUM($J$12:$J18),""),IF(AND(YEAR($A18)=2003,YEAR($A19)=2004),SUM($J$12:$J18,$J19*(P$8-$A18)/($A19-$A18)),""))) | AB17: =IF($A18="","",IF($A19="",IF(YEAR($A18)=2004,SUM($J$12:$J18),""),IF(AND(YEAR($A18)=2004,YEAR($A19)=2005),SUM($J$12:$J18,$J19*(Q$8-$A18)/($A19-$A18)),""))) | AC17: =IF($A18="","",IF($A19="",IF(YEAR($A18)=2005,SUM($J$12:$J18),""),IF(AND(YEAR($A18)=2005,YEAR($A19)=2006),SUM($J$12:$J18,$J19*(R$8-$A18)/($A19-$A18)),""))) | AD17: =IF($A18="","",IF($A19="",IF(YEAR($A18)=2006,SUM($J$12:$J18),""),IF(AND(YEAR($A18)=2006,YEAR($A19)=2007),SUM($J$12:$J18,$J19*(S$8-$A18)/($A19-$A18)),""))) | AE17: =IF($A18="","",IF($A19="",IF(YEAR($A18)=2007,SUM($J$12:$J18),""),IF(AND(YEAR($A18)=2007,YEAR($A19)=2008),SUM($J$12:$J18,$J19*(T$8-$A18)/($A19-$A18)),""))) | AF17: =IF($A18="","",IF($A19="",IF(YEAR($A18)=2008,SUM($J$12:$J18),""),IF(AND(YEAR($A18)=2008,YEAR($A19)=2009),SUM($J$12:$J18,$J19*(U$8-$A18)/($A19-$A18)),""))) | AG17: =IF($A18="","",IF($A19="",IF(YEAR($A18)=2009,SUM($J$12:$J18),""),IF(AND(YEAR($A18)=2009,YEAR($A19)=2010),SUM($J$12:$J18,$J19*(V$8-$A18)/($A19-$A18)),""))) | AH17: =IF($A18="","",IF($A19="",IF(YEAR($A18)=2010,SUM($J$12:$J18),""),IF(AND(YEAR($A18)=2010,YEAR($A19)=2011),SUM($J$12:$J18,$J19*(W$8-$A18)/($A19-$A18)),""))) | AI17: =IF($A18="","",IF($A19="",IF(YEAR($A18)=2011,SUM($J$12:$J18),""),IF(AND(YEAR($A18)=2011,YEAR($A19)=2012),SUM($J$12:$J18,$J19*(X$8-$A18)/($A19-$A18)),""))) | AJ17: =IF($A18="","",IF($A19="",IF(YEAR($A18)=2012,SUM($J$12:$J18),""),IF(AND(YEAR($A18)=2012,YEAR($A19)=2013),SUM($J$12:$J18,$J19*(Y$8-$A18)/($A19-$A18)),""))) -> 1.0940071e+08
A18: =IF(B18<=($E$5*$E$7),DATE(YEAR(A17),MONTH(A17)+12/$E$7,DAY(A17)),"") -> 41238 | B18: =IF($E$5*$E$7<6," ",6) -> 6 | C18: =IF(AND(B16=" ",B17=" ",B18=" ")," ",IF(B17=" ",SUM(C$13:C16),IF(B18=" "," ",D18+E18))) -> 8853650 | D18: =IF(AND(B16=" ",B17=" ",B18=" ")," ",IF(B17=" ",SUM(D$13:D16),IF(B18=" "," ",ROUND(F17*E$6/E$7,2)))) -> 903650 | E18: =C5*15% -> 7950000 | F18: =IF(AND(B16=" ",B17=" ",B18=" ")," ",IF(B17=" ",SUM(F$12:F15),IF(B18=" "," ",F17-E18))) -> 21200000 | G18: =IF(AND(B16=" ",B17=" ",B18=" ")," ",IF(B17=" ",SUM(G$12:G16),IF(B19=" ",IF(E$5*E$7=B18,C18-C$7+C$8+G$10," "),C18))) -> 8853650 | H18: =IF(AND(B16=" ",B17=" ",B18=" ")," ",IF(B17=" ",SUM(H$13:H16)*E$7,IF(B18=" "," ",IF(B19=" ",IF(E$5*E$7=B18,IRR(G$12:G18,0.01)," ")," ")))) | I18: =IF(A19="","",F18-C$7) -> 15370000 | J18: =IF(I17="","",I17*(A18-A17)/365) -> 11755836 | L18: =IF(L17=0,0,L16/L17) -> 0 | N18: =IF(N17=0,0,N16/N17) -> 0 | O18: =IF($A19="","",IF($A20="",IF(YEAR($A19)=2002,SUM($D$12:$D19),""),IF(AND(YEAR($A19)=2002,YEAR($A20)=2003),SUM($D$12:$D19,$D20*(O$8-$A19)/($A20-$A19)),""))) | P18: =IF($A19="","",IF($A20="",IF(YEAR($A19)=2003,SUM($D$12:$D19),""),IF(AND(YEAR($A19)=2003,YEAR($A20)=2004),SUM($D$12:$D19,$D20*(P$8-$A19)/($A20-$A19)),""))) | Q18: =IF(A19="","",IF(A20="",IF(YEAR(A19)=2004,SUM(D$12:D19),""),IF(AND(YEAR(A19)=2004,YEAR(A20)=2005),SUM(D$12:D19,D20*(Q$8-A19)/(A20-A19)),""))) | R18: =IF(A19="","",IF(A20="",IF(YEAR(A19)=2005,SUM(D$12:D19),""),IF(AND(YEAR(A19)=2005,YEAR(A20)=2006),SUM(D$12:D19,D20*(R$8-A19)/(A20-A19)),""))) | S18: =IF(A19="","",IF(A20="",IF(YEAR(A19)=2006,SUM(D$12:D19),""),IF(AND(YEAR(A19)=2006,YEAR(A20)=2007),SUM(D$12:D19,D20*(S$8-A19)/(A20-A19)),""))) | T18: =IF(A19="","",IF(A20="",IF(YEAR(A19)=2007,SUM(D$12:D19),""),IF(AND(YEAR(A19)=2007,YEAR(A20)=2008),SUM(D$12:D19,D20*(T$8-A19)/(A20-A19)),""))) | U18: =IF(A19="","",IF(A20="",IF(YEAR(A19)=2008,SUM(D$12:D19),""),IF(AND(YEAR(A19)=2008,YEAR(A20)=2009),SUM(D$12:D19,D20*(U$8-A19)/(A20-A19)),""))) | V18: =IF(A19="","",IF(A20="",IF(YEAR(A19)=2009,SUM(D$12:D19),""),IF(AND(YEAR(A19)=2009,YEAR(A20)=2010),SUM(D$12:D19,D20*(V$8-A19)/(A20-A19)),""))) | W18: =IF(A19="","",IF(A20="",IF(YEAR(A19)=2010,SUM(D$12:D19),""),IF(AND(YEAR(A19)=2010,YEAR(A20)=2011),SUM(D$12:D19,D20*(W$8-A19)/(A20-A19)),""))) | X18: =IF(A19="","",IF(A20="",IF(YEAR(A19)=2011,SUM(D$12:D19),""),IF(AND(YEAR(A19)=2011,YEAR(A20)=2012),SUM(D$12:D19,D20*(X$8-A19)/(A20-A19)),""))) | Y18: =IF(A19="","",IF(A20="",IF(YEAR(A19)=2012,SUM(D$12:D19),""),IF(AND(YEAR(A19)=2012,YEAR(A20)=2013),SUM(D$12:D19,D20*(Y$8-A19)/(A20-A19)),""))) | Z18: =IF($A19="","",IF($A20="",IF(YEAR($A19)=2002,SUM($J$12:$J19),""),IF(AND(YEAR($A19)=2002,YEAR($A20)=2003),SUM($J$12:$J19,$J20*(O$8-$A19)/($A20-$A19)),""))) | AA18: =IF($A19="","",IF($A20="",IF(YEAR($A19)=2003,SUM($J$12:$J19),""),IF(AND(YEAR($A19)=2003,YEAR($A20)=2004),SUM($J$12:$J19,$J20*(P$8-$A19)/($A20-$A19)),""))) | AB18: =IF($A19="","",IF($A20="",IF(YEAR($A19)=2004,SUM($J$12:$J19),""),IF(AND(YEAR($A19)=2004,YEAR($A20)=2005),SUM($J$12:$J19,$J20*(Q$8-$A19)/($A20-$A19)),""))) | AC18: =IF($A19="","",IF($A20="",IF(YEAR($A19)=2005,SUM($J$12:$J19),""),IF(AND(YEAR($A19)=2005,YEAR($A20)=2006),SUM($J$12:$J19,$J20*(R$8-$A19)/($A20-$A19)),""))) | AD18: =IF($A19="","",IF($A20="",IF(YEAR($A19)=2006,SUM($J$12:$J19),""),IF(AND(YEAR($A19)=2006,YEAR($A20)=2007),SUM($J$12:$J19,$J20*(S$8-$A19)/($A20-$A19)),""))) | AE18: =IF($A19="","",IF($A20="",IF(YEAR($A19)=2007,SUM($J$12:$J19),""),IF(AND(YEAR($A19)=2007,YEAR($A20)=2008),SUM($J$12:$J19,$J20*(T$8-$A19)/($A20-$A19)),""))) | AF18: =IF($A19="","",IF($A20="",IF(YEAR($A19)=2008,SUM($J$12:$J19),""),IF(AND(YEAR($A19)=2008,YEAR($A20)=2009),SUM($J$12:$J19,$J20*(U$8-$A19)/($A20-$A19)),""))) | AG18: =IF($A19="","",IF($A20="",IF(YEAR($A19)=2009,SUM($J$12:$J19),""),IF(AND(YEAR($A19)=2009,YEAR($A20)=2010),SUM($J$12:$J19,$J20*(V$8-$A19)/($A20-$A19)),""))) | AH18: =IF($A19="","",IF($A20="",IF(YEAR($A19)=2010,SUM($J$12:$J19),""),IF(AND(YEAR($A19)=2010,YEAR($A20)=2011),SUM($J$12:$J19,$J20*(W$8-$A19)/($A20-$A19)),""))) | AI18: =IF($A19="","",IF($A20="",IF(YEAR($A19)=2011,SUM($J$12:$J19),""),IF(AND(YEAR($A19)=2011,YEAR($A20)=2012),SUM($J$12:$J19,$J20*(X$8-$A19)/($A20-$A19)),""))) | AJ18: =IF($A19="","",IF($A20="",IF(YEAR($A19)=2012,SUM($J$12:$J19),""),IF(AND(YEAR($A19)=2012,YEAR($A20)=2013),SUM($J$12:$J19,$J20*(Y$8-$A19)/($A20-$A19)),"")))
