Workbook

Sheet 正常测算
B1: 融资租赁租金及收益测算表-等期 | H1: 人民币电汇 | I1: =IF(DATE(YEAR(A12),MONTH(A12)+12/$E$7+1,DAY(1))-1<DATE(YEAR(A12),MONTH(A12)+12/$E$7,DAY($A$12)),DATE(YEAR(A12),MONTH(A12)+12/$E$7+1,DAY(1))-1,DATE(YEAR(A12),MONTH(A12)+12/$E$7,DAY($A$12))) -> 42338 | J1: 明示利率 | K1: 等额本金 | L1: 先付 | M1: 不等额租金 | N1: 等额租金
A2: 调息方式 | B2: 利率表现方式 | C2: 隐含利率 | D2: 租金计算方式 | E2: 等额租金 | F2: 租金偿还方式 | G2: 后付 | H2: No.20120830 | J2: =IF(C2="明示利率",1,0) -> 0 | K2: =IF(E2="等额本金",1,0) -> 0 | L2: =IF(G2="先付",1,0) -> 0 | M2: =IF(E2="不等额租金",1,0) -> 0 | N2: =IF(E2="等额租金",1,0) -> 1 | O2: 首次使用此表请在“工具”菜单上，单击“加载宏”,在列表中勾选“分析工具库”，单击“确定”。 | Q2: 融资金额 | R2: 平息利息
A3: =IF(AND(J2=1,N2=1),"明示利率等额租金",IF(AND(J2=1,K2=1),"明示利率等额本金",IF(AND(J2=0,N2=1),"按金额调息",IF(M2=1,"按金额调息","逻辑错误")))) -> 按金额调息 | B3: 项目存续收入 | C3: =IF(ISERROR(I4),0,I4) -> -10690.071 | D3: 项目存续占用 | E3: =IF(ISERROR(J4),0,J4) -> 4388.4292 | F3: 项目存续TCR | G3: =IF(AND(C3>0,E3<=0),100%,IF(AND(C3=0,E3=0),0%,C3/E3)) -> -2.4359676 | H3: 总收益 | I3: 存续收入 | J3: 存续占用 | K3: 首期租金日 | L3: 末期租金日 | M3: 按金额调息 | N3: 按比例调息 | Q3: =C5-C6 -> 100000000 | R3: 0.07 | S3: 常规先付 | T3: =XIRR(OFFSET(G12,1,0,E5*E7,1),OFFSET(A12,1,0,E5*E7,1),0.01) -> #NUM!
A4: =IF(AND(J2=1,K2=1),"等额不等额本金亦适用","") | B4: 累计存续收入 | D4: 累计存续占用 | F4: 累计存续TCR | G4: =IF(AND(C3>0,E3<=0),100%,IF(AND(C3=0,E3=0),0%,(C3+C4)/(E3+E4))) -> -2.4359676 | H4: =SUM(G$12:G$134) -> -99327776 | I4: =I9/10000 -> -10690.071 | J4: =I10/10000 -> 4388.4292 | K4: =A13 -> 42338 | L4: =OFFSET(B12,MATCH(E5*E7,B13:B134,1),-1,1,1) -> 42520 | M4: =IF(A3="按金额调息",1,0) -> 1 | N4: =IF(A3="按比例调息",1,0) -> 0 | Q4: 平息测算 | R4: 平均租金 | S4: 常规后付 | T4: =XIRR(OFFSET(G12,0,0,E5*E7+1,1),OFFSET(A12,0,0,E5*E7+1,1),0.01) -> -0.99637976
A5: 租金收入总额 | B5: 项目总额 | C5: 100000000 | D5: 租期（年） | E5: 1 | F5: 返点收入 | H5: 总资金占用 | I5: 第2年 | J5: 第3年 | K5: 第4年 | L5: 第5年 | M5: 第6年 | N5: 第7年 | O5: 租金总额（含首付款） | P5: =$A$6+$C$6 -> 672224 | Q5: =A8/Q3/E5 -> 0.13217911 | R5: =(R3*Q3*E5+Q3)/(E5*E7) -> 53500000 | S5: 修正XIRR | T5: =IF(ISERROR(XIRR(OFFSET(T10,1,0,E5*E7+2,1),OFFSET(S10,1,0,E5*E7+2,1),0.01)),100%,XIRR(OFFSET(T10,1,0,E5*E7+2,1),OFFSET(S10,1,0,E5*E7+2,1),0.01)) -> -0.99637976
A6: =SUM($C$13:$C$134) -> 672224 | B6: 首付款 | C6: 0 | D6: 年利率 | E6: 0.12828071 | F6: 利息补贴 | H6: =SUM(J13:J134) -> 1.0330461e+08 | I6: =IF(ISERROR(I9-J9),0,(I9-J9)) -> 5644973.9 | J6: =IF(ISERROR(J9-K9),0,(J9-K9)) -> 0 | K6: =IF(ISERROR(K9-L9),0,(K9-L9)) -> 0 | L6: =IF(ISERROR(L9-M9),0,(L9-M9)) -> 0 | M6: =IF(ISERROR(M9-N9),0,(M9-N9)) -> 0 | N6: =IF(ISERROR(N9-0),0,(N9-0)) -> -1.1254569e+08 | O6: 1、请正确选择交易结构
A7: =IF(AND(A10<>C5-C6-C8+C9,K2=0),"请修正末期利息","利息收入总额") -> 请修正末期利息 | B7: 保证金 | C7: 0 | D7: 年还租次数 | E7: 2 | F7: 服务费收入 | H7: TCR | I7: =IF(ISERROR(I10-J10),0,(I10-J10)) -> 43884292 | J7: =IF(ISERROR(J10-K10),0,(J10-K10)) -> 0 | K7: =IF(ISERROR(K10-L10),0,(K10-L10)) -> 0 | L7: =IF(ISERROR(L10-M10),0,(L10-M10)) -> 0 | M7: =IF(ISERROR(M10-N10),0,(M10-N10)) -> 0 | N7: =IF(ISERROR(N10-0),0,(N10-0)) -> 0 | O7: 2、合理预计起租日 | S7: 概算IRR | T7: =IF(E8="","",IRR(G12:G134,0.01)*E7) -> -1.8806398
A8: =SUM($D$13:$D$134) -> 13217911 | B8: 资产余值 | D8: 每期租金 | E8: =IF(E7="","",IF(K2=1,ROUND((F$12-C$8)/(E$5*E$7),2),ROUND(-PMT(E$6/E$7,E$5*E$7,F$12,-C$8,L2),2))) -> 54860354 | F8: 管理费收入 | H8: =IF(C5="","",IF(OR(ISERROR($H$4/$H$6),$H$4/$H$6>100%,$H$4/$H$6<0),"100.00%",($H$4/H$6))) -> 100.00% | I8: =IF(I7=0,0,I6/I7) -> 0.12863313 | J8: =IF(J7=0,0,J6/J7) -> 0 | K8: =IF(K7=0,0,K6/K7) -> 0 | L8: =IF(L7=0,0,L6/L7) -> 0 | M8: =IF(M7=0,0,M6/M7) -> 0 | N8: =IF(N7=0,0,N6/N7) -> 0 | O8: 3、公式如被破坏请下载清洁版 | S8: 差额 | T8: =H10-T7 -> 2.8806398
A9: =IF(AND(A10<>C5-C6-C8+C9,K2=1),"请修正末期本金","回收成本总额") -> 回收成本总额 | B9: 考核调整 | D9: 租前息 | F9: 其他收入 | H9: XIRR | I9: =H4-OFFSET(K12,MATCH(N12,N12:N134,1)-1,1,1,1) -> -1.0690071e+08 | J9: =H4-OFFSET(K12,MATCH(N12+1,N13:N134,1),1,1,1) -> -1.1254569e+08 | K9: =H4-OFFSET(K12,MATCH(N12+2,N13:N134,1),1,1,1) -> -1.1254569e+08 | L9: =H4-OFFSET(K12,MATCH(N12+3,N13:N134,1),1,1,1) -> -1.1254569e+08 | M9: =H4-OFFSET(K12,MATCH(N12+4,N13:N134,1),1,1,1) -> -1.1254569e+08 | N9: =H4-OFFSET(K12,MATCH(N12+5,N13:N134,1),1,1,1) -> -1.1254569e+08 | O9: 4、请勿删行或删列
A10: =SUM($E$13:$E$134) -> -12545687 | B10: 其他支出 | D10: 起租日 | E10: 42154 | F10: 残值收入 | G10: 0 | H10: =IF(C5="","",IF(OR(T5<0,T5>100%),100%,T5)) -> 1 | I10: =H6-OFFSET(K12,MATCH(N12,N12:N134,1)-1,0,1,1) -> 43884292 | J10: =H6-OFFSET(K12,MATCH(N12+1,N13:N134,1),0,1,1) -> 0 | K10: =H6-OFFSET(K12,MATCH(N12+2,N13:N134,1),0,1,1) -> 0 | L10: =H6-OFFSET(K12,MATCH(N12+3,N13:N134,1),0,1,1) -> 0 | M10: =H6-OFFSET(K12,MATCH(N12+4,N13:N134,1),0,1,1) -> 0 | N10: =H6-OFFSET(K12,MATCH(N12+5,N13:N134,1),0,1,1) -> 0 | S10: 修正租金日 | T10: 修正现金流量
A11: 租金日 | B11: 租金期次 | C11: 租金收入 | D11: 利息收入 | E11: 回收成本 | F11: 未回收成本 | G11: 现金流量 | H11: =IF(SUM(H12:H134)<>0,"请填写完整","现金流量调整") -> 现金流量调整 | I11: =IF(I10=0,0,I9/I10) -> -2.4359676 | J11: =IF(J10=0,0,J9/J10) -> 0 | K11: =IF(K10=0,0,K9/K10) -> 0 | L11: =IF(L10=0,0,L9/L10) -> 0 | M11: =IF(M10=0,0,M9/M10) -> 0 | N11: =IF(N10=0,0,N9/N10) -> 0 | O11: =IF(C5="","",IF(AND(O14=0,P14=0),"","基准利率每调整10个基点")) -> 基准利率每调整10个基点 | R11: =IF(SUM(R12:R134)<>0,"请填写完整","现金流量调整2") -> 现金流量调整2 | S11: =A12 -> 42154 | T11: =IF(L2=1,G12-H12-R12,-C5+C6+C7-C10+G5+G6+G7+G8+G9) -> -100000000
A12: =E10 -> 42154 | F12: =C$5-C$6+C9 -> 100000000 | G12: =-C5+C6+C7-C10+G5+G6+G7+G8+G9+H12+R12 -> -100000000 | I12: =IF(A13="","",F12-$C$7-H12) -> 100000000 | J12: 36891 | K12: =IF(M12="","",IF(B13="","",SUM($J13*(M12-A12)/(A13-A12)))) | L12: =IF(M12="","",IF(B13="","",SUM(R12,$G$5:$G$10,$D13*(M12-A12)/(A13-A12),$C$9,-C10))) | M12: =IF(N12=N13,"",IF(A13="",A12,DATE(YEAR(A12),MONTH(J12),DAY(J12)))) | N12: =IF(E10="","",YEAR(A12)) -> 2015 | O12: =IF(M4=1,"租金增减金额","") -> 租金增减金额 | P12: =IF(N4=1,"租金调整比例","") | S12: =A12 -> 42154 | T12: =IF(L2=1,-(-H12-R12),H12+R12) -> 0
A13: =IF(L2=1,A12,(IF(B13<=($E$5*$E$7),IF(DATE(YEAR(A12),MONTH(A12)+12/$E$7+1,DAY(1))-1<DATE(YEAR(A12),MONTH(A12)+12/$E$7,DAY($A$12)),DATE(YEAR(A12),MONTH(A12)+12/$E$7+1,DAY(1))-1,DATE(YEAR(A12),MONTH(A12)+12/$E$7,DAY($A$12))),""))) -> 42338 | B13: =IF(E7="","",1) -> 1 | C13: 336112 | D13: =IF($E$7="","",IF($L$2=1,0,ROUND(F12*E$6/E$7,2))) -> 6414035.6 | E13: =IF(C5="","",IF(B13="","",IF(K2=1,ROUND($E$8,2),ROUND(C13-D13,2)))) -> -6077923.6 | F13: =IF(B13="","",F12-E13) -> 1.0607792e+08 | G13: =IF(C13="","",IF(L2=1,IF(SUM(C14:C$134)=0,C13-C7+C8+G10+H13+R13,C13+H13+R13),IF(SUM(C14:C134)=0,C13-C7+C8+G10+H13+R13,C13+H13+R13))) -> 336112 | I13: =IF(A14="","",I12-E13-H13) -> 1.0607792e+08 | J13: =IF(I12="","",I12*(A13-A12)/365) -> 50410959 | K13: =IF(M13="","",IF(B14="",SUM($J$13:$J13),SUM($J$13:$J13,$J14*(M13-A13)/(A14-A13)))) -> 59420317 | L13: =IF(M13="","",IF(B14="",SUM($D$13:$D13,$R$12:$R13,$G$5:$G$10,$C$9,-$C$10),SUM($D$13:$D13,$R$12:$R13,$G$5:$G$10,$D14*(M13-A13)/(A14-A13),$C$9,-$C$10))) -> 7572937.5 | M13: =IF(N13=N14,"",IF(A14="",A13,DATE(YEAR(A13),MONTH($J$12),DAY($J$12)))) -> 42369 | N13: =IF(A13="","",YEAR(A13)) -> 2015 | O13: =IF(B13="","",0) -> 0 | P13: =IF(B13="","",0) -> 0 | S13: =A13 -> 42338 | T13: =G13 -> 336112
A14: =IF(B14<=($E$5*$E$7),IF(DATE(YEAR(A13),MONTH(A13)+12/$E$7+1,DAY(1))-1<DATE(YEAR(A13),MONTH(A13)+12/$E$7,DAY($A$12)),DATE(YEAR(A13),MONTH(A13)+12/$E$7+1,DAY(1))-1,DATE(YEAR(A13),MONTH(A13)+12/$E$7,DAY($A$12))),"") -> 42520 | B14: =IF($E$5*$E$7<2,"",2) -> 2 | C14: =IF(B14="","",IF($K$2=1,ROUND(D14+E14,2),ROUND(C13,2))) -> 336112 | D14: =IF(B14="","",ROUND(F13*E$6/E$7,2)) -> 6803875.8 | E14: =IF(B14="","",IF($K$2=1,ROUND(E13,2),ROUND(C14-D14,2))) -> -6467763.8 | F14: =IF(B14="","",F13-E14) -> 1.1254569e+08 | G14: =IF(C14="","",IF(SUM(C15:C$134)=0,C14-C$7+C$8+G$10+H14+R14,C14+H14+R14)) -> 336112 | I14: =IF(A15="","",I13-E14-H14) | J14: =IF(I13="","",I13*(A14-A13)/365) -> 52893650 | K14: =IF(M14="","",IF(B15="",SUM($J$13:$J14),SUM($J$13:$J14,$J15*(M14-A14)/(A15-A14)))) -> 1.0330461e+08 | L14: =IF(M14="","",IF(B15="",SUM($D$13:$D14,$R$12:$R14,$G$5:$G$10,$C$9,-$C$10),SUM($D$13:$D14,$R$12:$R14,$G$5:$G$10,$D15*(M14-A14)/(A15-A14),$C$9,-$C$10))) -> 13217911 | M14: =IF(N14=N15,"",IF(A15="",A14,DATE(YEAR(A14),MONTH($J$12),DAY($J$12)))) -> 42520 | N14: =IF(A14="","",YEAR(A14)) -> 2016 | O14: =IF(B14="","",IF($M$4=1,ROUND(-PMT((E$6+0.001)/E$7,(E$5*E$7-B13),F13,-C$8,0)-C14,2),0)) -> 1.1259873e+08 | P14: =IF(B14="","",IF($N$4=1,ROUND(F13*0.001*DAYS360(A13,A14,1)/360/C14,6),0)) -> 0 | S14: =A14 -> 42520 | T14: =G14 -> 336112
A15: =IF(B15<=($E$5*$E$7),IF(DATE(YEAR(A14),MONTH(A14)+12/$E$7+1,DAY(1))-1<DATE(YEAR(A14),MONTH(A14)+12/$E$7,DAY($A$12)),DATE(YEAR(A14),MONTH(A14)+12/$E$7+1,DAY(1))-1,DATE(YEAR(A14),MONTH(A14)+12/$E$7,DAY($A$12))),"") | B15: =IF($E$5*$E$7<3,"",3) | C15: =IF(B15="","",IF($K$2=1,ROUND(D15+E15,2),ROUND(C14,2))) | D15: =IF(B15="","",ROUND(F14*E$6/E$7,2)) | E15: =IF(B15="","",IF($K$2=1,ROUND(E14,2),ROUND(C15-D15,2))) | F15: =IF(B15="","",F14-E15) | G15: =IF(C15="","",IF(SUM(C16:C$134)=0,C15-C$7+C$8+G$10+H15+R15,C15+H15+R15)) | I15: =IF(A16="","",I14-E15-H15) | J15: =IF(I14="","",I14*(A15-A14)/365) | K15: =IF(M15="","",IF(B16="",SUM($J$13:$J15),SUM($J$13:$J15,$J16*(M15-A15)/(A16-A15)))) | L15: =IF(M15="","",IF(B16="",SUM($D$13:$D15,$R$12:$R15,$G$5:$G$10,$C$9,-$C$10),SUM($D$13:$D15,$R$12:$R15,$G$5:$G$10,$D16*(M15-A15)/(A16-A15),$C$9,-$C$10))) | M15: =IF(N15=N16,"",IF(A16="",A15,DATE(YEAR(A15),MONTH($J$12),DAY($J$12)))) | N15: =IF(A15="","",YEAR(A15)) | O15: =IF(B15="","",IF($M$4=1,ROUND(-PMT((E$6+0.001)/E$7,(E$5*E$7-B14),F14,-C$8,0)-C15,2),0)) | P15: =IF(B15="","",IF($N$4=1,ROUND(F14*0.001*DAYS360(A14,A15,1)/360/C15,6),0)) | S15: =A15 | T15: =G15
A16: =IF(B16<=($E$5*$E$7),IF(DATE(YEAR(A15),MONTH(A15)+12/$E$7+1,DAY(1))-1<DATE(YEAR(A15),MONTH(A15)+12/$E$7,DAY($A$12)),DATE(YEAR(A15),MONTH(A15)+12/$E$7+1,DAY(1))-1,DATE(YEAR(A15),MONTH(A15)+12/$E$7,DAY($A$12))),"") | B16: =IF($E$5*$E$7<4,"",4) | C16: =IF(B16="","",IF($K$2=1,ROUND(D16+E16,2),ROUND(C15,2))) | D16: =IF(B16="","",ROUND(F15*E$6/E$7,2)) | E16: =IF(B16="","",IF($K$2=1,ROUND(E15,2),ROUND(C16-D16,2))) | F16: =IF(B16="","",F15-E16) | G16: =IF(C16="","",IF(SUM(C17:C$134)=0,C16-C$7+C$8+G$10+H16+R16,C16+H16+R16)) | I16: =IF(A17="","",I15-E16-H16) | J16: =IF(I15="","",I15*(A16-A15)/365) | K16: =IF(M16="","",IF(B17="",SUM($J$13:$J16),SUM($J$13:$J16,$J17*(M16-A16)/(A17-A16)))) | L16: =IF(M16="","",IF(B17="",SUM($D$13:$D16,$R$12:$R16,$G$5:$G$10,$C$9,-$C$10),SUM($D$13:$D16,$R$12:$R16,$G$5:$G$10,$D17*(M16-A16)/(A17-A16),$C$9,-$C$10))) | M16: =IF(N16=N17,"",IF(A17="",A16,DATE(YEAR(A16),MONTH($J$12),DAY($J$12)))) | N16: =IF(A16="","",YEAR(A16)) | O16: =IF(B16="","",IF($M$4=1,ROUND(-PMT((E$6+0.001)/E$7,(E$5*E$7-B15),F15,-C$8,0)-C16,2),0)) | P16: =IF(B16="","",IF($N$4=1,ROUND(F15*0.001*DAYS360(A15,A16,1)/360/C16,6),0)) | S16: =A16 | T16: =G16
A17: =IF(B17<=($E$5*$E$7),IF(DATE(YEAR(A16),MONTH(A16)+12/$E$7+1,DAY(1))-1<DATE(YEAR(A16),MONTH(A16)+12/$E$7,DAY($A$12)),DATE(YEAR(A16),MONTH(A16)+12/$E$7+1,DAY(1))-1,DATE(YEAR(A16),MONTH(A16)+12/$E$7,DAY($A$12))),"") | B17: =IF($E$5*$E$7<5,"",5) | C17: =IF(B17="","",IF($K$2=1,ROUND(D17+E17,2),ROUND(C16,2))) | D17: =IF(B17="","",ROUND(F16*E$6/E$7,2)) | E17: =IF(B17="","",IF($K$2=1,ROUND(E16,2),ROUND(C17-D17,2))) | F17: =IF(B17="","",F16-E17) | G17: =IF(C17="","",IF(SUM(C18:C$134)=0,C17-C$7+C$8+G$10+H17+R17,C17+H17+R17)) | I17: =IF(A18="","",I16-E17-H17) | J17: =IF(I16="","",I16*(A17-A16)/365) | K17: =IF(M17="","",IF(B18="",SUM($J$13:$J17),SUM($J$13:$J17,$J18*(M17-A17)/(A18-A17)))) | L17: =IF(M17="","",IF(B18="",SUM($D$13:$D17,$R$12:$R17,$G$5:$G$10,$C$9,-$C$10),SUM($D$13:$D17,$R$12:$R17,$G$5:$G$10,$D18*(M17-A17)/(A18-A17),$C$9,-$C$10))) | M17: =IF(N17=N18,"",IF(A18="",A17,DATE(YEAR(A17),MONTH($J$12),DAY($J$12)))) | N17: =IF(A17="","",YEAR(A17)) | O17: =IF(B17="","",IF($M$4=1,ROUND(-PMT((E$6+0.001)/E$7,(E$5*E$7-B16),F16,-C$8,0)-C17,2),0)) | P17: =IF(B17="","",IF($N$4=1,ROUND(F16*0.001*DAYS360(A16,A17,1)/360/C17,6),0)) | S17: =A17 | T17: =G17
A18: =IF(B18<=($E$5*$E$7),IF(DATE(YEAR(A17),MONTH(A17)+12/$E$7+1,DAY(1))-1<DATE(YEAR(A17),MONTH(A17)+12/$E$7,DAY($A$12)),DATE(YEAR(A17),MONTH(A17)+12/$E$7+1,DAY(1))-1,DATE(YEAR(A17),MONTH(A17)+12/$E$7,DAY($A$12))),"") | B18: =IF($E$5*$E$7<6,"",6) | C18: =IF(B18="","",IF($K$2=1,ROUND(D18+E18,2),ROUND(C17,2))) | D18: =IF(B18="","",ROUND(F17*E$6/E$7,2)) | E18: =IF(B18="","",IF($K$2=1,ROUND(E17,2),ROUND(C18-D18,2))) | F18: =IF(B18="","",F17-E18) | G18: =IF(C18="","",IF(SUM(C19:C$134)=0,C18-C$7+C$8+G$10+H18+R18,C18+H18+R18)) | I18: =IF(A19="","",I17-E18-H18) | J18: =IF(I17="","",I17*(A18-A17)/365) | K18: =IF(M18="","",IF(B19="",SUM($J$13:$J18),SUM($J$13:$J18,$J19*(M18-A18)/(A19-A18)))) | L18: =IF(M18="","",IF(B19="",SUM($D$13:$D18,$R$12:$R18,$G$5:$G$10,$C$9,-$C$10),SUM($D$13:$D18,$R$12:$R18,$G$5:$G$10,$D19*(M18-A18)/(A19-A18),$C$9,-$C$10))) | M18: =IF(N18=N19,"",IF(A19="",A18,DATE(YEAR(A18),MONTH($J$12),DAY($J$12)))) | N18: =IF(A18="","",YEAR(A18)) | O18: =IF(B18="","",IF($M$4=1,ROUND(-PMT((E$6+0.001)/E$7,(E$5*E$7-B17),F17,-C$8,0)-C18,2),0)) | P18: =IF(B18="","",IF($N$4=1,ROUND(F17*0.001*DAYS360(A17,A18,1)/360/C18,6),0)) | S18: =A18 | T18: =G18
A19: =IF(B19<=($E$5*$E$7),IF(DATE(YEAR(A18),MONTH(A18)+12/$E$7+1,DAY(1))-1<DATE(YEAR(A18),MONTH(A18)+12/$E$7,DAY($A$12)),DATE(YEAR(A18),MONTH(A18)+12/$E$7+1,DAY(1))-1,DATE(YEAR(A18),MONTH(A18)+12/$E$7,DAY($A$12))),"") | B19: =IF($E$5*$E$7<7,"",7) | C19: =IF(B19="","",IF($K$2=1,ROUND(D19+E19,2),ROUND(C18,2))) | D19: =IF(B19="","",ROUND(F18*E$6/E$7,2)) | E19: =IF(B19="","",IF($K$2=1,ROUND(E18,2),ROUND(C19-D19,2))) | F19: =IF(B19="","",F18-E19) | G19: =IF(C19="","",IF(SUM(C20:C$134)=0,C19-C$7+C$8+G$10+H19+R19,C19+H19+R19)) | I19: =IF(A20="","",I18-E19-H19) | J19: =IF(I18="","",I18*(A19-A18)/365) | K19: =IF(M19="","",IF(B20="",SUM($J$13:$J19),SUM($J$13:$J19,$J20*(M19-A19)/(A20-A19)))) | L19: =IF(M19="","",IF(B20="",SUM($D$13:$D19,$R$12:$R19,$G$5:$G$10,$C$9,-$C$10),SUM($D$13:$D19,$R$12:$R19,$G$5:$G$10,$D20*(M19-A19)/(A20-A19),$C$9,-$C$10))) | M19: =IF(N19=N20,"",IF(A20="",A19,DATE(YEAR(A19),MONTH($J$12),DAY($J$12)))) | N19: =IF(A19="","",YEAR(A19)) | O19: =IF(B19="","",IF($M$4=1,ROUND(-PMT((E$6+0.001)/E$7,(E$5*E$7-B18),F18,-C$8,0)-C19,2),0)) | P19: =IF(B19="","",IF($N$4=1,ROUND(F18*0.001*DAYS360(A18,A19,1)/360/C19,6),0)) | S19: =A19 | T19: =G19
A20: =IF(B20<=($E$5*$E$7),IF(DATE(YEAR(A19),MONTH(A19)+12/$E$7+1,DAY(1))-1<DATE(YEAR(A19),MONTH(A19)+12/$E$7,DAY($A$12)),DATE(YEAR(A19),MONTH(A19)+12/$E$7+1,DAY(1))-1,DATE(YEAR(A19),MONTH(A19)+12/$E$7,DAY($A$12))),"") | B20: =IF($E$5*$E$7<8,"",8) | C20: =IF(B20="","",IF($K$2=1,ROUND(D20+E20,2),ROUND(C19,2))) | D20: =IF(B20="","",ROUND(F19*E$6/E$7,2)) | E20: =IF(B20="","",IF($K$2=1,ROUND(E19,2),ROUND(C20-D20,2))) | F20: =IF(B20="","",F19-E20) | G20: =IF(C20="","",IF(SUM(C21:C$134)=0,C20-C$7+C$8+G$10+H20+R20,C20+H20+R20)) | I20: =IF(A21="","",I19-E20-H20) | J20: =IF(I19="","",I19*(A20-A19)/365) | K20: =IF(M20="","",IF(B21="",SUM($J$13:$J20),SUM($J$13:$J20,$J21*(M20-A20)/(A21-A20)))) | L20: =IF(M20="","",IF(B21="",SUM($D$13:$D20,$R$12:$R20,$G$5:$G$10,$C$9,-$C$10),SUM($D$13:$D20,$R$12:$R20,$G$5:$G$10,$D21*(M20-A20)/(A21-A20),$C$9,-$C$10))) | M20: =IF(N20=N21,"",IF(A21="",A20,DATE(YEAR(A20),MONTH($J$12),DAY($J$12)))) | N20: =IF(A20="","",YEAR(A20)) | O20: =IF(B20="","",IF($M$4=1,ROUND(-PMT((E$6+0.001)/E$7,(E$5*E$7-B19),F19,-C$8,0)-C20,2),0)) | P20: =IF(B20="","",IF($N$4=1,ROUND(F19*0.001*DAYS360(A19,A20,1)/360/C20,6),0)) | S20: =A20 | T20: =G20
A21: =IF(B21<=($E$5*$E$7),IF(DATE(YEAR(A20),MONTH(A20)+12/$E$7+1,DAY(1))-1<DATE(YEAR(A20),MONTH(A20)+12/$E$7,DAY($A$12)),DATE(YEAR(A20),MONTH(A20)+12/$E$7+1,DAY(1))-1,DATE(YEAR(A20),MONTH(A20)+12/$E$7,DAY($A$12))),"") | B21: =IF($E$5*$E$7<9,"",9) | C21: =IF(B21="","",IF($K$2=1,ROUND(D21+E21,2),ROUND(C20,2))) | D21: =IF(B21="","",ROUND(F20*E$6/E$7,2)) | E21: =IF(B21="","",IF($K$2=1,ROUND(E20,2),ROUND(C21-D21,2))) | F21: =IF(B21="","",F20-E21) | G21: =IF(C21="","",IF(SUM(C22:C$134)=0,C21-C$7+C$8+G$10+H21+R21,C21+H21+R21)) | I21: =IF(A22="","",I20-E21-H21) | J21: =IF(I20="","",I20*(A21-A20)/365) | K21: =IF(M21="","",IF(B22="",SUM($J$13:$J21),SUM($J$13:$J21,$J22*(M21-A21)/(A22-A21)))) | L21: =IF(M21="","",IF(B22="",SUM($D$13:$D21,$R$12:$R21,$G$5:$G$10,$C$9,-$C$10),SUM($D$13:$D21,$R$12:$R21,$G$5:$G$10,$D22*(M21-A21)/(A22-A21),$C$9,-$C$10))) | M21: =IF(N21=N22,"",IF(A22="",A21,DATE(YEAR(A21),MONTH($J$12),DAY($J$12)))) | N21: =IF(A21="","",YEAR(A21)) | O21: =IF(B21="","",IF($M$4=1,ROUND(-PMT((E$6+0.001)/E$7,(E$5*E$7-B20),F20,-C$8,0)-C21,2),0)) | P21: =IF(B21="","",IF($N$4=1,ROUND(F20*0.001*DAYS360(A20,A21,1)/360/C21,6),0)) | S21: =A21 | T21: =G21
A22: =IF(B22<=($E$5*$E$7),IF(DATE(YEAR(A21),MONTH(A21)+12/$E$7+1,DAY(1))-1<DATE(YEAR(A21),MONTH(A21)+12/$E$7,DAY($A$12)),DATE(YEAR(A21),MONTH(A21)+12/$E$7+1,DAY(1))-1,DATE(YEAR(A21),MONTH(A21)+12/$E$7,DAY($A$12))),"") | B22: =IF($E$5*$E$7<10,"",10) | C22: =IF(B22="","",IF($K$2=1,ROUND(D22+E22,2),ROUND(C21,2))) | D22: =IF(B22="","",ROUND(F21*E$6/E$7,2)) | E22: =IF(B22="","",IF($K$2=1,ROUND(E21,2),ROUND(C22-D22,2))) | F22: =IF(B22="","",F21-E22) | G22: =IF(C22="","",IF(SUM(C23:C$134)=0,C22-C$7+C$8+G$10+H22+R22,C22+H22+R22)) | I22: =IF(A23="","",I21-E22-H22) | J22: =IF(I21="","",I21*(A22-A21)/365) | K22: =IF(M22="","",IF(B23="",SUM($J$13:$J22),SUM($J$13:$J22,$J23*(M22-A22)/(A23-A22)))) | L22: =IF(M22="","",IF(B23="",SUM($D$13:$D22,$R$12:$R22,$G$5:$G$10,$C$9,-$C$10),SUM($D$13:$D22,$R$12:$R22,$G$5:$G$10,$D23*(M22-A22)/(A23-A22),$C$9,-$C$10))) | M22: =IF(N22=N23,"",IF(A23="",A22,DATE(YEAR(A22),MONTH($J$12),DAY($J$12)))) | N22: =IF(A22="","",YEAR(A22)) | O22: =IF(B22="","",IF($M$4=1,ROUND(-PMT((E$6+0.001)/E$7,(E$5*E$7-B21),F21,-C$8,0)-C22,2),0)) | P22: =IF(B22="","",IF($N$4=1,ROUND(F21*0.001*DAYS360(A21,A22,1)/360/C22,6),0)) | S22: =A22 | T22: =G22
A23: =IF(B23<=($E$5*$E$7),IF(DATE(YEAR(A22),MONTH(A22)+12/$E$7+1,DAY(1))-1<DATE(YEAR(A22),MONTH(A22)+12/$E$7,DAY($A$12)),DATE(YEAR(A22),MONTH(A22)+12/$E$7+1,DAY(1))-1,DATE(YEAR(A22),MONTH(A22)+12/$E$7,DAY($A$12))),"") | B23: =IF($E$5*$E$7<11,"",11) | C23: =IF(B23="","",IF($K$2=1,ROUND(D23+E23,2),ROUND(C22,2))) | D23: =IF(B23="","",ROUND(F22*E$6/E$7,2)) | E23: =IF(B23="","",IF($K$2=1,ROUND(E22,2),ROUND(C23-D23,2))) | F23: =IF(B23="","",F22-E23) | G23: =IF(C23="","",IF(SUM(C24:C$134)=0,C23-C$7+C$8+G$10+H23+R23,C23+H23+R23)) | I23: =IF(A24="","",I22-E23-H23) | J23: =IF(I22="","",I22*(A23-A22)/365) | K23: =IF(M23="","",IF(B24="",SUM($J$13:$J23),SUM($J$13:$J23,$J24*(M23-A23)/(A24-A23)))) | L23: =IF(M23="","",IF(B24="",SUM($D$13:$D23,$R$12:$R23,$G$5:$G$10,$C$9,-$C$10),SUM($D$13:$D23,$R$12:$R23,$G$5:$G$10,$D24*(M23-A23)/(A24-A23),$C$9,-$C$10))) | M23: =IF(N23=N24,"",IF(A24="",A23,DATE(YEAR(A23),MONTH($J$12),DAY($J$12)))) | N23: =IF(A23="","",YEAR(A23)) | O23: =IF(B23="","",IF($M$4=1,ROUND(-PMT((E$6+0.001)/E$7,(E$5*E$7-B22),F22,-C$8,0)-C23,2),0)) | P23: =IF(B23="","",IF($N$4=1,ROUND(F22*0.001*DAYS360(A22,A23,1)/360/C23,6),0)) | S23: =A23 | T23: =G23
A24: =IF(B24<=($E$5*$E$7),IF(DATE(YEAR(A23),MONTH(A23)+12/$E$7+1,DAY(1))-1<DATE(YEAR(A23),MONTH(A23)+12/$E$7,DAY($A$12)),DATE(YEAR(A23),MONTH(A23)+12/$E$7+1,DAY(1))-1,DATE(YEAR(A23),MONTH(A23)+12/$E$7,DAY($A$12))),"") | B24: =IF($E$5*$E$7<12,"",12) | C24: =IF(B24="","",IF($K$2=1,ROUND(D24+E24,2),ROUND(C23,2))) | D24: =IF(B24="","",ROUND(F23*E$6/E$7,2)) | E24: =IF(B24="","",IF($K$2=1,ROUND(E23,2),ROUND(C24-D24,2))) | F24: =IF(B24="","",F23-E24) | G24: =IF(C24="","",IF(SUM(C25:C$134)=0,C24-C$7+C$8+G$10+H24+R24,C24+H24+R24)) | I24: =IF(A25="","",I23-E24-H24) | J24: =IF(I23="","",I23*(A24-A23)/365) | K24: =IF(M24="","",IF(B25="",SUM($J$13:$J24),SUM($J$13:$J24,$J25*(M24-A24)/(A25-A24)))) | L24: =IF(M24="","",IF(B25="",SUM($D$13:$D24,$R$12:$R24,$G$5:$G$10,$C$9,-$C$10),SUM($D$13:$D24,$R$12:$R24,$G$5:$G$10,$D25*(M24-A24)/(A25-A24),$C$9,-$C$10))) | M24: =IF(N24=N25,"",IF(A25="",A24,DATE(YEAR(A24),MONTH($J$12),DAY($J$12)))) | N24: =IF(A24="","",YEAR(A24)) | O24: =IF(B24="","",IF($M$4=1,ROUND(-PMT((E$6+0.001)/E$7,(E$5*E$7-B23),F23,-C$8,0)-C24,2),0)) | P24: =IF(B24="","",IF($N$4=1,ROUND(F23*0.001*DAYS360(A23,A24,1)/360/C24,6),0)) | S24: =A24 | T24: =G24
A25: =IF(B25<=($E$5*$E$7),IF(DATE(YEAR(A24),MONTH(A24)+12/$E$7+1,DAY(1))-1<DATE(YEAR(A24),MONTH(A24)+12/$E$7,DAY($A$12)),DATE(YEAR(A24),MONTH(A24)+12/$E$7+1,DAY(1))-1,DATE(YEAR(A24),MONTH(A24)+12/$E$7,DAY($A$12))),"") | B25: =IF($E$5*$E$7<13,"",13) | C25: =IF(B25="","",IF($K$2=1,ROUND(D25+E25,2),ROUND(C24,2))) | D25: =IF(B25="","",ROUND(F24*E$6/E$7,2)) | E25: =IF(B25="","",IF($K$2=1,ROUND(E24,2),ROUND(C25-D25,2))) | F25: =IF(B25="","",F24-E25) | G25: =IF(C25="","",IF(SUM(C26:C$134)=0,C25-C$7+C$8+G$10+H25+R25,C25+H25+R25)) | I25: =IF(A26="","",I24-E25-H25) | J25: =IF(I24="","",I24*(A25-A24)/365) | K25: =IF(M25="","",IF(B26="",SUM($J$13:$J25),SUM($J$13:$J25,$J26*(M25-A25)/(A26-A25)))) | L25: =IF(M25="","",IF(B26="",SUM($D$13:$D25,$R$12:$R25,$G$5:$G$10,$C$9,-$C$10),SUM($D$13:$D25,$R$12:$R25,$G$5:$G$10,$D26*(M25-A25)/(A26-A25),$C$9,-$C$10))) | M25: =IF(N25=N26,"",IF(A26="",A25,DATE(YEAR(A25),MONTH($J$12),DAY($J$12)))) | N25: =IF(A25="","",YEAR(A25)) | O25: =IF(B25="","",IF($M$4=1,ROUND(-PMT((E$6+0.001)/E$7,(E$5*E$7-B24),F24,-C$8,0)-C25,2),0)) | P25: =IF(B25="","",IF($N$4=1,ROUND(F24*0.001*DAYS360(A24,A25,1)/360/C25,6),0)) | S25: =A25 | T25: =G25
A26: =IF(B26<=($E$5*$E$7),IF(DATE(YEAR(A25),MONTH(A25)+12/$E$7+1,DAY(1))-1<DATE(YEAR(A25),MONTH(A25)+12/$E$7,DAY($A$12)),DATE(YEAR(A25),MONTH(A25)+12/$E$7+1,DAY(1))-1,DATE(YEAR(A25),MONTH(A25)+12/$E$7,DAY($A$12))),"") | B26: =IF($E$5*$E$7<14,"",14) | C26: =IF(B26="","",IF($K$2=1,ROUND(D26+E26,2),ROUND(C25,2))) | D26: =IF(B26="","",ROUND(F25*E$6/E$7,2)) | E26: =IF(B26="","",IF($K$2=1,ROUND(E25,2),ROUND(C26-D26,2))) | F26: =IF(B26="","",F25-E26) | G26: =IF(C26="","",IF(SUM(C27:C$134)=0,C26-C$7+C$8+G$10+H26+R26,C26+H26+R26)) | I26: =IF(A27="","",I25-E26-H26) | J26: =IF(I25="","",I25*(A26-A25)/365) | K26: =IF(M26="","",IF(B27="",SUM($J$13:$J26),SUM($J$13:$J26,$J27*(M26-A26)/(A27-A26)))) | L26: =IF(M26="","",IF(B27="",SUM($D$13:$D26,$R$12:$R26,$G$5:$G$10,$C$9,-$C$10),SUM($D$13:$D26,$R$12:$R26,$G$5:$G$10,$D27*(M26-A26)/(A27-A26),$C$9,-$C$10))) | M26: =IF(N26=N27,"",IF(A27="",A26,DATE(YEAR(A26),MONTH($J$12),DAY($J$12)))) | N26: =IF(A26="","",YEAR(A26)) | O26: =IF(B26="","",IF($M$4=1,ROUND(-PMT((E$6+0.001)/E$7,(E$5*E$7-B25),F25,-C$8,0)-C26,2),0)) | P26: =IF(B26="","",IF($N$4=1,ROUND(F25*0.001*DAYS360(A25,A26,1)/360/C26,6),0)) | S26: =A26 | T26: =G26
A27: =IF(B27<=($E$5*$E$7),IF(DATE(YEAR(A26),MONTH(A26)+12/$E$7+1,DAY(1))-1<DATE(YEAR(A26),MONTH(A26)+12/$E$7,DAY($A$12)),DATE(YEAR(A26),MONTH(A26)+12/$E$7+1,DAY(1))-1,DATE(YEAR(A26),MONTH(A26)+12/$E$7,DAY($A$12))),"") | B27: =IF($E$5*$E$7<15,"",15) | C27: =IF(B27="","",IF($K$2=1,ROUND(D27+E27,2),ROUND(C26,2))) | D27: =IF(B27="","",ROUND(F26*E$6/E$7,2)) | E27: =IF(B27="","",IF($K$2=1,ROUND(E26,2),ROUND(C27-D27,2))) | F27: =IF(B27="","",F26-E27) | G27: =IF(C27="","",IF(SUM(C28:C$134)=0,C27-C$7+C$8+G$10+H27+R27,C27+H27+R27)) | I27: =IF(A28="","",I26-E27-H27) | J27: =IF(I26="","",I26*(A27-A26)/365) | K27: =IF(M27="","",IF(B28="",SUM($J$13:$J27),SUM($J$13:$J27,$J28*(M27-A27)/(A28-A27)))) | L27: =IF(M27="","",IF(B28="",SUM($D$13:$D27,$R$12:$R27,$G$5:$G$10,$C$9,-$C$10),SUM($D$13:$D27,$R$12:$R27,$G$5:$G$10,$D28*(M27-A27)/(A28-A27),$C$9,-$C$10))) | M27: =IF(N27=N28,"",IF(A28="",A27,DATE(YEAR(A27),MONTH($J$12),DAY($J$12)))) | N27: =IF(A27="","",YEAR(A27)) | O27: =IF(B27="","",IF($M$4=1,ROUND(-PMT((E$6+0.001)/E$7,(E$5*E$7-B26),F26,-C$8,0)-C27,2),0)) | P27: =IF(B27="","",IF($N$4=1,ROUND(F26*0.001*DAYS360(A26,A27,1)/360/C27,6),0)) | S27: =A27 | T27: =G27
A28: =IF(B28<=($E$5*$E$7),IF(DATE(YEAR(A27),MONTH(A27)+12/$E$7+1,DAY(1))-1<DATE(YEAR(A27),MONTH(A27)+12/$E$7,DAY($A$12)),DATE(YEAR(A27),MONTH(A27)+12/$E$7+1,DAY(1))-1,DATE(YEAR(A27),MONTH(A27)+12/$E$7,DAY($A$12))),"") | B28: =IF($E$5*$E$7<16,"",16) | C28: =IF(B28="","",IF($K$2=1,ROUND(D28+E28,2),ROUND(C27,2))) | D28: =IF(B28="","",ROUND(F27*E$6/E$7,2)) | E28: =IF(B28="","",IF($K$2=1,ROUND(E27,2),ROUND(C28-D28,2))) | F28: =IF(B28="","",F27-E28) | G28: =IF(C28="","",IF(SUM(C29:C$134)=0,C28-C$7+C$8+G$10+H28+R28,C28+H28+R28)) | I28: =IF(A29="","",I27-E28-H28) | J28: =IF(I27="","",I27*(A28-A27)/365) | K28: =IF(M28="","",IF(B29="",SUM($J$13:$J28),SUM($J$13:$J28,$J29*(M28-A28)/(A29-A28)))) | L28: =IF(M28="","",IF(B29="",SUM($D$13:$D28,$R$12:$R28,$G$5:$G$10,$C$9,-$C$10),SUM($D$13:$D28,$R$12:$R28,$G$5:$G$10,$D29*(M28-A28)/(A29-A28),$C$9,-$C$10))) | M28: =IF(N28=N29,"",IF(A29="",A28,DATE(YEAR(A28),MONTH($J$12),DAY($J$12)))) | N28: =IF(A28="","",YEAR(A28)) | O28: =IF(B28="","",IF($M$4=1,ROUND(-PMT((E$6+0.001)/E$7,(E$5*E$7-B27),F27,-C$8,0)-C28,2),0)) | P28: =IF(B28="","",IF($N$4=1,ROUND(F27*0.001*DAYS360(A27,A28,1)/360/C28,6),0)) | S28: =A28 | T28: =G28
A29: =IF(B29<=($E$5*$E$7),IF(DATE(YEAR(A28),MONTH(A28)+12/$E$7+1,DAY(1))-1<DATE(YEAR(A28),MONTH(A28)+12/$E$7,DAY($A$12)),DATE(YEAR(A28),MONTH(A28)+12/$E$7+1,DAY(1))-1,DATE(YEAR(A28),MONTH(A28)+12/$E$7,DAY($A$12))),"") | B29: =IF($E$5*$E$7<17,"",17) | C29: =IF(B29="","",IF($K$2=1,ROUND(D29+E29,2),ROUND(C28,2))) | D29: =IF(B29="","",ROUND(F28*E$6/E$7,2)) | E29: =IF(B29="","",IF($K$2=1,ROUND(E28,2),ROUND(C29-D29,2))) | F29: =IF(B29="","",F28-E29) | G29: =IF(C29="","",IF(SUM(C30:C$134)=0,C29-C$7+C$8+G$10+H29+R29,C29+H29+R29)) | I29: =IF(A30="","",I28-E29-H29) | J29: =IF(I28="","",I28*(A29-A28)/365) | K29: =IF(M29="","",IF(B30="",SUM($J$13:$J29),SUM($J$13:$J29,$J30*(M29-A29)/(A30-A29)))) | L29: =IF(M29="","",IF(B30="",SUM($D$13:$D29,$R$12:$R29,$G$5:$G$10,$C$9,-$C$10),SUM($D$13:$D29,$R$12:$R29,$G$5:$G$10,$D30*(M29-A29)/(A30-A29),$C$9,-$C$10))) | M29: =IF(N29=N30,"",IF(A30="",A29,DATE(YEAR(A29),MONTH($J$12),DAY($J$12)))) | N29: =IF(A29="","",YEAR(A29)) | O29: =IF(B29="","",IF($M$4=1,ROUND(-PMT((E$6+0.001)/E$7,(E$5*E$7-B28),F28,-C$8,0)-C29,2),0)) | P29: =IF(B29="","",IF($N$4=1,ROUND(F28*0.001*DAYS360(A28,A29,1)/360/C29,6),0)) | S29: =A29 | T29: =G29
A30: =IF(B30<=($E$5*$E$7),IF(DATE(YEAR(A29),MONTH(A29)+12/$E$7+1,DAY(1))-1<DATE(YEAR(A29),MONTH(A29)+12/$E$7,DAY($A$12)),DATE(YEAR(A29),MONTH(A29)+12/$E$7+1,DAY(1))-1,DATE(YEAR(A29),MONTH(A29)+12/$E$7,DAY($A$12))),"") | B30: =IF($E$5*$E$7<18,"",18) | C30: =IF(B30="","",IF($K$2=1,ROUND(D30+E30,2),ROUND(C29,2))) | D30: =IF(B30="","",ROUND(F29*E$6/E$7,2)) | E30: =IF(B30="","",IF($K$2=1,ROUND(E29,2),ROUND(C30-D30,2))) | F30: =IF(B30="","",F29-E30) | G30: =IF(C30="","",IF(SUM(C31:C$134)=0,C30-C$7+C$8+G$10+H30+R30,C30+H30+R30)) | I30: =IF(A31="","",I29-E30-H30) | J30: =IF(I29="","",I29*(A30-A29)/365) | K30: =IF(M30="","",IF(B31="",SUM($J$13:$J30),SUM($J$13:$J30,$J31*(M30-A30)/(A31-A30)))) | L30: =IF(M30="","",IF(B31="",SUM($D$13:$D30,$R$12:$R30,$G$5:$G$10,$C$9,-$C$10),SUM($D$13:$D30,$R$12:$R30,$G$5:$G$10,$D31*(M30-A30)/(A31-A30),$C$9,-$C$10))) | M30: =IF(N30=N31,"",IF(A31="",A30,DATE(YEAR(A30),MONTH($J$12),DAY($J$12)))) | N30: =IF(A30="","",YEAR(A30)) | O30: =IF(B30="","",IF($M$4=1,ROUND(-PMT((E$6+0.001)/E$7,(E$5*E$7-B29),F29,-C$8,0)-C30,2),0)) | P30: =IF(B30="","",IF($N$4=1,ROUND(F29*0.001*DAYS360(A29,A30,1)/360/C30,6),0)) | S30: =A30 | T30: =G30
A31: =IF(B31<=($E$5*$E$7),IF(DATE(YEAR(A30),MONTH(A30)+12/$E$7+1,DAY(1))-1<DATE(YEAR(A30),MONTH(A30)+12/$E$7,DAY($A$12)),DATE(YEAR(A30),MONTH(A30)+12/$E$7+1,DAY(1))-1,DATE(YEAR(A30),MONTH(A30)+12/$E$7,DAY($A$12))),"") | B31: =IF($E$5*$E$7<19,"",19) | C31: =IF(B31="","",IF($K$2=1,ROUND(D31+E31,2),ROUND(C30,2))) | D31: =IF(B31="","",ROUND(F30*E$6/E$7,2)) | E31: =IF(B31="","",IF($K$2=1,ROUND(E30,2),ROUND(C31-D31,2))) | F31: =IF(B31="","",F30-E31) | G31: =IF(C31="","",IF(SUM(C32:C$134)=0,C31-C$7+C$8+G$10+H31+R31,C31+H31+R31)) | I31: =IF(A32="","",I30-E31-H31) | J31: =IF(I30="","",I30*(A31-A30)/365) | K31: =IF(M31="","",IF(B32="",SUM($J$13:$J31),SUM($J$13:$J31,$J32*(M31-A31)/(A32-A31)))) | L31: =IF(M31="","",IF(B32="",SUM($D$13:$D31,$R$12:$R31,$G$5:$G$10,$C$9,-$C$10),SUM($D$13:$D31,$R$12:$R31,$G$5:$G$10,$D32*(M31-A31)/(A32-A31),$C$9,-$C$10))) | M31: =IF(N31=N32,"",IF(A32="",A31,DATE(YEAR(A31),MONTH($J$12),DAY($J$12)))) | N31: =IF(A31="","",YEAR(A31)) | O31: =IF(B31="","",IF($M$4=1,ROUND(-PMT((E$6+0.001)/E$7,(E$5*E$7-B30),F30,-C$8,0)-C31,2),0)) | P31: =IF(B31="","",IF($N$4=1,ROUND(F30*0.001*DAYS360(A30,A31,1)/360/C31,6),0)) | S31: =A31 | T31: =G31
A32: =IF(B32<=($E$5*$E$7),IF(DATE(YEAR(A31),MONTH(A31)+12/$E$7+1,DAY(1))-1<DATE(YEAR(A31),MONTH(A31)+12/$E$7,DAY($A$12)),DATE(YEAR(A31),MONTH(A31)+12/$E$7+1,DAY(1))-1,DATE(YEAR(A31),MONTH(A31)+12/$E$7,DAY($A$12))),"") | B32: =IF($E$5*$E$7<20,"",20) | C32: =IF(B32="","",IF($K$2=1,ROUND(D32+E32,2),ROUND(C31,2))) | D32: =IF(B32="","",ROUND(F31*E$6/E$7,2)) | E32: =IF(B32="","",IF($K$2=1,ROUND(E31,2),ROUND(C32-D32,2))) | F32: =IF(B32="","",F31-E32) | G32: =IF(C32="","",IF(SUM(C33:C$134)=0,C32-C$7+C$8+G$10+H32+R32,C32+H32+R32)) | I32: =IF(A33="","",I31-E32-H32) | J32: =IF(I31="","",I31*(A32-A31)/365) | K32: =IF(M32="","",IF(B33="",SUM($J$13:$J32),SUM($J$13:$J32,$J33*(M32-A32)/(A33-A32)))) | L32: =IF(M32="","",IF(B33="",SUM($D$13:$D32,$R$12:$R32,$G$5:$G$10,$C$9,-$C$10),SUM($D$13:$D32,$R$12:$R32,$G$5:$G$10,$D33*(M32-A32)/(A33-A32),$C$9,-$C$10))) | M32: =IF(N32=N33,"",IF(A33="",A32,DATE(YEAR(A32),MONTH($J$12),DAY($J$12)))) | N32: =IF(A32="","",YEAR(A32)) | O32: =IF(B32="","",IF($M$4=1,ROUND(-PMT((E$6+0.001)/E$7,(E$5*E$7-B31),F31,-C$8,0)-C32,2),0)) | P32: =IF(B32="","",IF($N$4=1,ROUND(F31*0.001*DAYS360(A31,A32,1)/360/C32,6),0)) | S32: =A32 | T32: =G32
A33: =IF(B33<=($E$5*$E$7),IF(DATE(YEAR(A32),MONTH(A32)+12/$E$7+1,DAY(1))-1<DATE(YEAR(A32),MONTH(A32)+12/$E$7,DAY($A$12)),DATE(YEAR(A32),MONTH(A32)+12/$E$7+1,DAY(1))-1,DATE(YEAR(A32),MONTH(A32)+12/$E$7,DAY($A$12))),"") | B33: =IF($E$5*$E$7<21,"",21) | C33: =IF(B33="","",IF($K$2=1,ROUND(D33+E33,2),ROUND(C32,2))) | D33: =IF(B33="","",ROUND(F32*E$6/E$7,2)) | E33: =IF(B33="","",IF($K$2=1,ROUND(E32,2),ROUND(C33-D33,2))) | F33: =IF(B33="","",F32-E33) | G33: =IF(C33="","",IF(SUM(C34:C$134)=0,C33-C$7+C$8+G$10+H33+R33,C33+H33+R33)) | I33: =IF(A34="","",I32-E33-H33) | J33: =IF(I32="","",I32*(A33-A32)/365) | K33: =IF(M33="","",IF(B34="",SUM($J$13:$J33),SUM($J$13:$J33,$J34*(M33-A33)/(A34-A33)))) | L33: =IF(M33="","",IF(B34="",SUM($D$13:$D33,$R$12:$R33,$G$5:$G$10,$C$9,-$C$10),SUM($D$13:$D33,$R$12:$R33,$G$5:$G$10,$D34*(M33-A33)/(A34-A33),$C$9,-$C$10))) | M33: =IF(N33=N34,"",IF(A34="",A33,DATE(YEAR(A33),MONTH($J$12),DAY($J$12)))) | N33: =IF(A33="","",YEAR(A33)) | O33: =IF(B33="","",IF($M$4=1,ROUND(-PMT((E$6+0.001)/E$7,(E$5*E$7-B32),F32,-C$8,0)-C33,2),0)) | P33: =IF(B33="","",IF($N$4=1,ROUND(F32*0.001*DAYS360(A32,A33,1)/360/C33,6),0)) | S33: =A33 | T33: =G33
A34: =IF(B34<=($E$5*$E$7),IF(DATE(YEAR(A33),MONTH(A33)+12/$E$7+1,DAY(1))-1<DATE(YEAR(A33),MONTH(A33)+12/$E$7,DAY($A$12)),DATE(YEAR(A33),MONTH(A33)+12/$E$7+1,DAY(1))-1,DATE(YEAR(A33),MONTH(A33)+12/$E$7,DAY($A$12))),"") | B34: =IF($E$5*$E$7<22,"",22) | C34: =IF(B34="","",IF($K$2=1,ROUND(D34+E34,2),ROUND(C33,2))) | D34: =IF(B34="","",ROUND(F33*E$6/E$7,2)) | E34: =IF(B34="","",IF($K$2=1,ROUND(E33,2),ROUND(C34-D34,2))) | F34: =IF(B34="","",F33-E34) | G34: =IF(C34="","",IF(SUM(C35:C$134)=0,C34-C$7+C$8+G$10+H34+R34,C34+H34+R34)) | I34: =IF(A35="","",I33-E34-H34) | J34: =IF(I33="","",I33*(A34-A33)/365) | K34: =IF(M34="","",IF(B35="",SUM($J$13:$J34),SUM($J$13:$J34,$J35*(M34-A34)/(A35-A34)))) | L34: =IF(M34="","",IF(B35="",SUM($D$13:$D34,$R$12:$R34,$G$5:$G$10,$C$9,-$C$10),SUM($D$13:$D34,$R$12:$R34,$G$5:$G$10,$D35*(M34-A34)/(A35-A34),$C$9,-$C$10))) | M34: =IF(N34=N35,"",IF(A35="",A34,DATE(YEAR(A34),MONTH($J$12),DAY($J$12)))) | N34: =IF(A34="","",YEAR(A34)) | O34: =IF(B34="","",IF($M$4=1,ROUND(-PMT((E$6+0.001)/E$7,(E$5*E$7-B33),F33,-C$8,0)-C34,2),0)) | P34: =IF(B34="","",IF($N$4=1,ROUND(F33*0.001*DAYS360(A33,A34,1)/360/C34,6),0)) | S34: =A34 | T34: =G34
A35: =IF(B35<=($E$5*$E$7),IF(DATE(YEAR(A34),MONTH(A34)+12/$E$7+1,DAY(1))-1<DATE(YEAR(A34),MONTH(A34)+12/$E$7,DAY($A$12)),DATE(YEAR(A34),MONTH(A34)+12/$E$7+1,DAY(1))-1,DATE(YEAR(A34),MONTH(A34)+12/$E$7,DAY($A$12))),"") | B35: =IF($E$5*$E$7<23,"",23) | C35: =IF(B35="","",IF($K$2=1,ROUND(D35+E35,2),ROUND(C34,2))) | D35: =IF(B35="","",ROUND(F34*E$6/E$7,2)) | E35: =IF(B35="","",IF($K$2=1,ROUND(E34,2),ROUND(C35-D35,2))) | F35: =IF(B35="","",F34-E35) | G35: =IF(C35="","",IF(SUM(C36:C$134)=0,C35-C$7+C$8+G$10+H35+R35,C35+H35+R35)) | I35: =IF(A36="","",I34-E35-H35) | J35: =IF(I34="","",I34*(A35-A34)/365) | K35: =IF(M35="","",IF(B36="",SUM($J$13:$J35),SUM($J$13:$J35,$J36*(M35-A35)/(A36-A35)))) | L35: =IF(M35="","",IF(B36="",SUM($D$13:$D35,$R$12:$R35,$G$5:$G$10,$C$9,-$C$10),SUM($D$13:$D35,$R$12:$R35,$G$5:$G$10,$D36*(M35-A35)/(A36-A35),$C$9,-$C$10))) | M35: =IF(N35=N36,"",IF(A36="",A35,DATE(YEAR(A35),MONTH($J$12),DAY($J$12)))) | N35: =IF(A35="","",YEAR(A35)) | O35: =IF(B35="","",IF($M$4=1,ROUND(-PMT((E$6+0.001)/E$7,(E$5*E$7-B34),F34,-C$8,0)-C35,2),0)) | P35: =IF(B35="","",IF($N$4=1,ROUND(F34*0.001*DAYS360(A34,A35,1)/360/C35,6),0)) | S35: =A35 | T35: =G35
A36: =IF(B36<=($E$5*$E$7),IF(DATE(YEAR(A35),MONTH(A35)+12/$E$7+1,DAY(1))-1<DATE(YEAR(A35),MONTH(A35)+12/$E$7,DAY($A$12)),DATE(YEAR(A35),MONTH(A35)+12/$E$7+1,DAY(1))-1,DATE(YEAR(A35),MONTH(A35)+12/$E$7,DAY($A$12))),"") | B36: =IF($E$5*$E$7<24,"",24) | C36: =IF(B36="","",IF($K$2=1,ROUND(D36+E36,2),ROUND(C35,2))) | D36: =IF(B36="","",ROUND(F35*E$6/E$7,2)) | E36: =IF(B36="","",IF($K$2=1,ROUND(E35,2),ROUND(C36-D36,2))) | F36: =IF(B36="","",F35-E36) | G36: =IF(C36="","",IF(SUM(C37:C$134)=0,C36-C$7+C$8+G$10+H36+R36,C36+H36+R36)) | I36: =IF(A37="","",I35-E36-H36) | J36: =IF(I35="","",I35*(A36-A35)/365) | K36: =IF(M36="","",IF(B37="",SUM($J$13:$J36),SUM($J$13:$J36,$J37*(M36-A36)/(A37-A36)))) | L36: =IF(M36="","",IF(B37="",SUM($D$13:$D36,$R$12:$R36,$G$5:$G$10,$C$9,-$C$10),SUM($D$13:$D36,$R$12:$R36,$G$5:$G$10,$D37*(M36-A36)/(A37-A36),$C$9,-$C$10))) | M36: =IF(N36=N37,"",IF(A37="",A36,DATE(YEAR(A36),MONTH($J$12),DAY($J$12)))) | N36: =IF(A36="","",YEAR(A36)) | O36: =IF(B36="","",IF($M$4=1,ROUND(-PMT((E$6+0.001)/E$7,(E$5*E$7-B35),F35,-C$8,0)-C36,2),0)) | P36: =IF(B36="","",IF($N$4=1,ROUND(F35*0.001*DAYS360(A35,A36,1)/360/C36,6),0)) | S36: =A36 | T36: =G36
A37: =IF(B37<=($E$5*$E$7),IF(DATE(YEAR(A36),MONTH(A36)+12/$E$7+1,DAY(1))-1<DATE(YEAR(A36),MONTH(A36)+12/$E$7,DAY($A$12)),DATE(YEAR(A36),MONTH(A36)+12/$E$7+1,DAY(1))-1,DATE(YEAR(A36),MONTH(A36)+12/$E$7,DAY($A$12))),"") | B37: =IF($E$5*$E$7<25,"",25) | C37: =IF(B37="","",IF($K$2=1,ROUND(D37+E37,2),ROUND(C36,2))) | D37: =IF(B37="","",ROUND(F36*E$6/E$7,2)) | E37: =IF(B37="","",IF($K$2=1,ROUND(E36,2),ROUND(C37-D37,2))) | F37: =IF(B37="","",F36-E37) | G37: =IF(C37="","",IF(SUM(C38:C$134)=0,C37-C$7+C$8+G$10+H37+R37,C37+H37+R37)) | I37: =IF(A38="","",I36-E37-H37) | J37: =IF(I36="","",I36*(A37-A36)/365) | K37: =IF(M37="","",IF(B38="",SUM($J$13:$J37),SUM($J$13:$J37,$J38*(M37-A37)/(A38-A37)))) | L37: =IF(M37="","",IF(B38="",SUM($D$13:$D37,$R$12:$R37,$G$5:$G$10,$C$9,-$C$10),SUM($D$13:$D37,$R$12:$R37,$G$5:$G$10,$D38*(M37-A37)/(A38-A37),$C$9,-$C$10))) | M37: =IF(N37=N38,"",IF(A38="",A37,DATE(YEAR(A37),MONTH($J$12),DAY($J$12)))) | N37: =IF(A37="","",YEAR(A37)) | O37: =IF(B37="","",IF($M$4=1,ROUND(-PMT((E$6+0.001)/E$7,(E$5*E$7-B36),F36,-C$8,0)-C37,2),0)) | P37: =IF(B37="","",IF($N$4=1,ROUND(F36*0.001*DAYS360(A36,A37,1)/360/C37,6),0)) | S37: =A37 | T37: =G37
A38: =IF(B38<=($E$5*$E$7),IF(DATE(YEAR(A37),MONTH(A37)+12/$E$7+1,DAY(1))-1<DATE(YEAR(A37),MONTH(A37)+12/$E$7,DAY($A$12)),DATE(YEAR(A37),MONTH(A37)+12/$E$7+1,DAY(1))-1,DATE(YEAR(A37),MONTH(A37)+12/$E$7,DAY($A$12))),"") | B38: =IF($E$5*$E$7<26,"",26) | C38: =IF(B38="","",IF($K$2=1,ROUND(D38+E38,2),ROUND(C37,2))) | D38: =IF(B38="","",ROUND(F37*E$6/E$7,2)) | E38: =IF(B38="","",IF($K$2=1,ROUND(E37,2),ROUND(C38-D38,2))) | F38: =IF(B38="","",F37-E38) | G38: =IF(C38="","",IF(SUM(C39:C$134)=0,C38-C$7+C$8+G$10+H38+R38,C38+H38+R38)) | I38: =IF(A39="","",I37-E38-H38) | J38: =IF(I37="","",I37*(A38-A37)/365) | K38: =IF(M38="","",IF(B39="",SUM($J$13:$J38),SUM($J$13:$J38,$J39*(M38-A38)/(A39-A38)))) | L38: =IF(M38="","",IF(B39="",SUM($D$13:$D38,$R$12:$R38,$G$5:$G$10,$C$9,-$C$10),SUM($D$13:$D38,$R$12:$R38,$G$5:$G$10,$D39*(M38-A38)/(A39-A38),$C$9,-$C$10))) | M38: =IF(N38=N39,"",IF(A39="",A38,DATE(YEAR(A38),MONTH($J$12),DAY($J$12)))) | N38: =IF(A38="","",YEAR(A38)) | O38: =IF(B38="","",IF($M$4=1,ROUND(-PMT((E$6+0.001)/E$7,(E$5*E$7-B37),F37,-C$8,0)-C38,2),0)) | P38: =IF(B38="","",IF($N$4=1,ROUND(F37*0.001*DAYS360(A37,A38,1)/360/C38,6),0)) | S38: =A38 | T38: =G38
A39: =IF(B39<=($E$5*$E$7),IF(DATE(YEAR(A38),MONTH(A38)+12/$E$7+1,DAY(1))-1<DATE(YEAR(A38),MONTH(A38)+12/$E$7,DAY($A$12)),DATE(YEAR(A38),MONTH(A38)+12/$E$7+1,DAY(1))-1,DATE(YEAR(A38),MONTH(A38)+12/$E$7,DAY($A$12))),"") | B39: =IF($E$5*$E$7<27,"",27) | C39: =IF(B39="","",IF($K$2=1,ROUND(D39+E39,2),ROUND(C38,2))) | D39: =IF(B39="","",ROUND(F38*E$6/E$7,2)) | E39: =IF(B39="","",IF($K$2=1,ROUND(E38,2),ROUND(C39-D39,2))) | F39: =IF(B39="","",F38-E39) | G39: =IF(C39="","",IF(SUM(C40:C$134)=0,C39-C$7+C$8+G$10+H39+R39,C39+H39+R39)) | I39: =IF(A40="","",I38-E39-H39) | J39: =IF(I38="","",I38*(A39-A38)/365) | K39: =IF(M39="","",IF(B40="",SUM($J$13:$J39),SUM($J$13:$J39,$J40*(M39-A39)/(A40-A39)))) | L39: =IF(M39="","",IF(B40="",SUM($D$13:$D39,$R$12:$R39,$G$5:$G$10,$C$9,-$C$10),SUM($D$13:$D39,$R$12:$R39,$G$5:$G$10,$D40*(M39-A39)/(A40-A39),$C$9,-$C$10))) | M39: =IF(N39=N40,"",IF(A40="",A39,DATE(YEAR(A39),MONTH($J$12),DAY($J$12)))) | N39: =IF(A39="","",YEAR(A39)) | O39: =IF(B39="","",IF($M$4=1,ROUND(-PMT((E$6+0.001)/E$7,(E$5*E$7-B38),F38,-C$8,0)-C39,2),0)) | P39: =IF(B39="","",IF($N$4=1,ROUND(F38*0.001*DAYS360(A38,A39,1)/360/C39,6),0)) | S39: =A39 | T39: =G39
A40: =IF(B40<=($E$5*$E$7),IF(DATE(YEAR(A39),MONTH(A39)+12/$E$7+1,DAY(1))-1<DATE(YEAR(A39),MONTH(A39)+12/$E$7,DAY($A$12)),DATE(YEAR(A39),MONTH(A39)+12/$E$7+1,DAY(1))-1,DATE(YEAR(A39),MONTH(A39)+12/$E$7,DAY($A$12))),"") | B40: =IF($E$5*$E$7<28,"",28) | C40: =IF(B40="","",IF($K$2=1,ROUND(D40+E40,2),ROUND(C39,2))) | D40: =IF(B40="","",ROUND(F39*E$6/E$7,2)) | E40: =IF(B40="","",IF($K$2=1,ROUND(E39,2),ROUND(C40-D40,2))) | F40: =IF(B40="","",F39-E40) | G40: =IF(C40="","",IF(SUM(C41:C$134)=0,C40-C$7+C$8+G$10+H40+R40,C40+H40+R40)) | I40: =IF(A41="","",I39-E40-H40) | J40: =IF(I39="","",I39*(A40-A39)/365) | K40: =IF(M40="","",IF(B41="",SUM($J$13:$J40),SUM($J$13:$J40,$J41*(M40-A40)/(A41-A40)))) | L40: =IF(M40="","",IF(B41="",SUM($D$13:$D40,$R$12:$R40,$G$5:$G$10,$C$9,-$C$10),SUM($D$13:$D40,$R$12:$R40,$G$5:$G$10,$D41*(M40-A40)/(A41-A40),$C$9,-$C$10))) | M40: =IF(N40=N41,"",IF(A41="",A40,DATE(YEAR(A40),MONTH($J$12),DAY($J$12)))) | N40: =IF(A40="","",YEAR(A40)) | O40: =IF(B40="","",IF($M$4=1,ROUND(-PMT((E$6+0.001)/E$7,(E$5*E$7-B39),F39,-C$8,0)-C40,2),0)) | P40: =IF(B40="","",IF($N$4=1,ROUND(F39*0.001*DAYS360(A39,A40,1)/360/C40,6),0)) | S40: =A40 | T40: =G40
...

Sheet 指标还原
B1: 融资租赁租金及收益测算表-等期 | H1: =正常测算!H1 -> 人民币电汇 | I1: =IF(DATE(YEAR(A12),MONTH(A12)+12/$E$7+1,DAY(1))-1<DATE(YEAR(A12),MONTH(A12)+12/$E$7,DAY($A$12)),DATE(YEAR(A12),MONTH(A12)+12/$E$7+1,DAY(1))-1,DATE(YEAR(A12),MONTH(A12)+12/$E$7,DAY($A$12))) -> 42338 | J1: 明示利率 | K1: 等额本金 | L1: 先付 | M1: 不等额租金 | N1: 等额租金
A2: 调息方式 | B2: 利率表现方式 | C2: =正常测算!C2 -> 隐含利率 | D2: 租金计算方式 | E2: =正常测算!E2 -> 等额租金 | F2: 租金偿还方式 | G2: =正常测算!G2 -> 后付 | H2: No.20140325 | J2: =IF(C2="明示利率",1,0) -> 0 | K2: =IF(E2="等额本金",1,0) -> 0 | L2: =IF(G2="先付",1,0) -> 0 | M2: =IF(E2="不等额租金",1,0) -> 0 | N2: =IF(E2="等额租金",1,0) -> 1 | O2: 首次使用此表请在“工具”菜单上，单击“加载宏”,在列表中勾选“分析工具库”，单击“确定”。
A3: =IF(AND(J2=1,N2=1),"明示利率等额租金",IF(AND(J2=1,K2=1),"明示利率等额本金",IF(AND(J2=0,N2=1),"按金额调息",IF(M2=1,"按金额调息","逻辑错误")))) -> 按金额调息 | B3: 项目存续收入 | C3: =IF(ISERROR(I4),0,I4) -> -10690.071 | D3: 项目存续占用 | E3: =IF(ISERROR(J4),0,J4) -> 4388.4292 | F3: 项目存续TCR | G3: =IF(AND(C3>0,E3<=0),100%,IF(AND(C3=0,E3=0),0%,C3/E3)) -> -2.4359676 | H3: 总收益 | I3: 存续收入 | J3: 存续占用 | K3: 首期租金日 | L3: 末期租金日 | M3: 按金额调息 | N3: 按比例调息 | S3: 常规先付 | T3: =XIRR(OFFSET(G12,1,0,E5*E7,1),OFFSET(A12,1,0,E5*E7,1),0.01) -> #NUM!
A4: =IF(AND(J2=1,K2=1),"等额不等额本金亦适用","") | B4: 累计存续收入 | D4: 累计存续占用 | F4: 累计存续TCR | G4: =IF(AND(C3>0,E3<=0),100%,IF(AND(C3=0,E3=0),0%,(C3+C4)/(E3+E4))) -> -2.4359676 | H4: =SUM(G$12:G$134) -> -99327776 | I4: =I9/10000 -> -10690.071 | J4: =I10/10000 -> 4388.4292 | K4: =A13 -> 42338 | L4: =OFFSET(B12,MATCH(E5*E7,B13:B134,1),-1,1,1) -> 42520 | M4: =IF(A3="按金额调息",1,0) -> 1 | N4: =IF(A3="按比例调息",1,0) -> 0 | S4: 常规后付 | T4: =XIRR(OFFSET(G12,0,0,E5*E7+1,1),OFFSET(A12,0,0,E5*E7+1,1),0.01) -> -0.99637976
A5: 租金收入总额 | B5: 项目总额 | C5: =正常测算!C5 -> 100000000 | D5: 租期（年） | E5: =正常测算!E5 -> 1 | F5: 返点收入 | G5: =正常测算!G5 -> 0 | H5: 总资金占用 | I5: 第2年 | J5: 第3年 | K5: 第4年 | L5: 第5年 | M5: 第6年 | N5: 第7年 | O5: 租金总额（含首付款） | P5: =$A$6+$C$6 -> 672224 | S5: 修正XIRR | T5: =IF(ISERROR(XIRR(OFFSET(T10,1,0,E5*E7+2,1),OFFSET(S10,1,0,E5*E7+2,1),0.01)),100%,XIRR(OFFSET(T10,1,0,E5*E7+2,1),OFFSET(S10,1,0,E5*E7+2,1),0.01)) -> -0.99637976
A6: =SUM($C$13:$C$134) -> 672224 | B6: 首付款 | C6: =正常测算!C6 -> 0 | D6: 年利率 | E6: =正常测算!E6 -> 0.12828071 | F6: 利息补贴 | G6: =正常测算!G6 -> 0 | H6: =SUM(J13:J134) -> 1.0330461e+08 | I6: =IF(ISERROR(I9-J9),0,(I9-J9)) -> 5644973.9 | J6: =IF(ISERROR(J9-K9),0,(J9-K9)) -> 0 | K6: =IF(ISERROR(K9-L9),0,(K9-L9)) -> 0 | L6: =IF(ISERROR(L9-M9),0,(L9-M9)) -> 0 | M6: =IF(ISERROR(M9-N9),0,(M9-N9)) -> 0 | N6: =IF(ISERROR(N9-0),0,(N9-0)) -> -1.1254569e+08 | O6: 1、请选择交易结构
A7: =IF(AND(A10<>C5-C6-C8+C9,K2=0),"请修正末期利息","利息收入总额") -> 请修正末期利息 | B7: 保证金 | C7: =正常测算!C7 -> 0 | D7: 年还租次数 | E7: =正常测算!E7 -> 2 | F7: 服务费收入 | G7: =正常测算!G7 -> 0 | H7: TCR | I7: =IF(ISERROR(I10-J10),0,(I10-J10)) -> 43884292 | J7: =IF(ISERROR(J10-K10),0,(J10-K10)) -> 0 | K7: =IF(ISERROR(K10-L10),0,(K10-L10)) -> 0 | L7: =IF(ISERROR(L10-M10),0,(L10-M10)) -> 0 | M7: =IF(ISERROR(M10-N10),0,(M10-N10)) -> 0 | N7: =IF(ISERROR(N10-0),0,(N10-0)) -> 0 | O7: 2、合理预计调整起租日 | S7: 概算IRR | T7: =IF(E8="","",IRR(G12:G134,0.01)*E7) -> -1.8806398
A8: =SUM($D$13:$D$134) -> 13217911 | B8: 资产余值 | C8: =正常测算!C8 -> 0 | D8: 每期租金 | E8: =IF(E7="","",IF(K2=1,ROUND((F$12-C$8)/(E$5*E$7),2),ROUND(-PMT(E$6/E$7,E$5*E$7,F$12,-C$8,L2),2))) -> 54860354 | F8: 管理费收入 | G8: =正常测算!G8 -> 0 | H8: =IF(C5="","",IF(OR(ISERROR($H$4/$H$6),$H$4/$H$6>100%,$H$4/$H$6<0),"100.00%",($H$4/H$6))) -> 100.00% | I8: =IF(I7=0,0,I6/I7) -> 0.12863313 | J8: =IF(J7=0,0,J6/J7) -> 0 | K8: =IF(K7=0,0,K6/K7) -> 0 | L8: =IF(L7=0,0,L6/L7) -> 0 | M8: =IF(M7=0,0,M6/M7) -> 0 | N8: =IF(N7=0,0,N6/N7) -> 0 | O8: 3、公式如被破坏请下载清洁版 | S8: 差额 | T8: =H10-T7 -> 2.8806398
A9: =IF(AND(A10<>C5-C6-C8+C9,K2=1),"请修正末期本金","回收成本总额") -> 回收成本总额 | B9: 考核调整 | C9: =正常测算!C9 -> 0 | D9: 租前息 | E9: =正常测算!E9 -> 0 | F9: 其他收入 | G9: =正常测算!G9 -> 0 | H9: XIRR | I9: =H4-OFFSET(K12,MATCH(N12,N12:N134,1)-1,1,1,1) -> -1.0690071e+08 | J9: =H4-OFFSET(K12,MATCH(N12+1,N13:N134,1),1,1,1) -> -1.1254569e+08 | K9: =H4-OFFSET(K12,MATCH(N12+2,N13:N134,1),1,1,1) -> -1.1254569e+08 | L9: =H4-OFFSET(K12,MATCH(N12+3,N13:N134,1),1,1,1) -> -1.1254569e+08 | M9: =H4-OFFSET(K12,MATCH(N12+4,N13:N134,1),1,1,1) -> -1.1254569e+08 | N9: =H4-OFFSET(K12,MATCH(N12+5,N13:N134,1),1,1,1) -> -1.1254569e+08 | O9: 4、请勿删行或删列
A10: =SUM($E$13:$E$134) -> -12545687 | B10: 其他支出 | C10: =正常测算!C10 -> 0 | D10: 起租日 | E10: =正常测算!E10 -> 42154 | F10: 残值收入 | G10: =正常测算!G10 -> 0 | H10: =IF(C5="","",IF(OR(T5<0,T5>100%),100%,T5)) -> 1 | I10: =H6-OFFSET(K12,MATCH(N12,N12:N134,1)-1,0,1,1) -> 43884292 | J10: =H6-OFFSET(K12,MATCH(N12+1,N13:N134,1),0,1,1) -> 0 | K10: =H6-OFFSET(K12,MATCH(N12+2,N13:N134,1),0,1,1) -> 0 | L10: =H6-OFFSET(K12,MATCH(N12+3,N13:N134,1),0,1,1) -> 0 | M10: =H6-OFFSET(K12,MATCH(N12+4,N13:N134,1),0,1,1) -> 0 | N10: =H6-OFFSET(K12,MATCH(N12+5,N13:N134,1),0,1,1) -> 0 | S10: 修正租金日 | T10: 修正现金流量
A11: 租金日 | B11: 租金期次 | C11: 租金收入 | D11: 利息收入 | E11: 回收成本 | F11: 未回收成本 | G11: 现金流量 | H11: =IF(SUM(H12:H134)<>0,"请填写完整","现金流量调整") -> 现金流量调整 | I11: =IF(I10=0,0,I9/I10) -> -2.4359676 | J11: =IF(J10=0,0,J9/J10) -> 0 | K11: =IF(K10=0,0,K9/K10) -> 0 | L11: =IF(L10=0,0,L9/L10) -> 0 | M11: =IF(M10=0,0,M9/M10) -> 0 | N11: =IF(N10=0,0,N9/N10) -> 0 | O11: =IF(C5="","",IF(AND(O14=0,P14=0),"","基准利率每调整10个基点")) -> 基准利率每调整10个基点 | R11: =IF(R136<>0,"请填写完整","现金流量调整2") -> 现金流量调整2 | S11: =A12 -> 42154 | T11: =IF(L2=1,G12-H12-R12,-C5+C6+C7-C10+G5+G6+G7+G8+G9) -> -100000000
A12: =E10 -> 42154 | F12: =C$5-C$6+C9 -> 100000000 | G12: =-C5+C6+C7-C10+G5+G6+G7+G8+G9+H12+R12 -> -100000000 | H12: =正常测算!H12 -> 0 | I12: =IF(A13="","",F12-$C$7-H12) -> 100000000 | J12: 36891 | K12: =IF(M12="","",IF(B13="","",SUM($J13*(M12-A12)/(A13-A12)))) | L12: =IF(M12="","",IF(B13="","",SUM(R12,$G$5:$G$10,$D13*(M12-A12)/(A13-A12),$C$9,-C10))) | M12: =IF(N12=N13,"",IF(A13="",A12,DATE(YEAR(A12),MONTH(J12),DAY(J12)))) | N12: =IF(E10="","",YEAR(A12)) -> 2015 | O12: =IF(M4=1,"租金增减金额","") -> 租金增减金额 | P12: =IF(N4=1,"租金调整比例","") | R12: =IF($H$1="人民币电汇",0,IF(OR($H$1="原币划转",$H$1="美元结汇"),产品成本表!G25,-产品成本表!E25))+正常测算!R12 -> 0 | S12: =A12 -> 42154 | T12: =IF(L2=1,-(-H12-R12),H12+R12) -> 0
A13: =正常测算!A13 -> 42338 | B13: =IF(E7="","",1) -> 1 | C13: =正常测算!C13 -> 336112 | D13: =正常测算!D13 -> 6414035.6 | E13: =IF(C5="","",IF(B13="","",IF(K2=1,ROUND($E$8,2),ROUND(C13-D13,2)))) -> -6077923.6 | F13: =IF(B13="","",F12-E13) -> 1.0607792e+08 | G13: =IF(C13="","",IF(L2=1,IF(SUM(C14:C$134)=0,C13-C7+C8+G10+H13+R13,C13+H13+R13),IF(SUM(C14:C134)=0,C13-C7+C8+G10+H13+R13,C13+H13+R13))) -> 336112 | H13: =正常测算!H13 -> 0 | I13: =IF(A14="","",I12-E13-H13) -> 1.0607792e+08 | J13: =IF(I12="","",I12*(A13-A12)/365) -> 50410959 | K13: =IF(M13="","",IF(B14="",SUM($J$13:$J13),SUM($J$13:$J13,$J14*(M13-A13)/(A14-A13)))) -> 59420317 | L13: =IF(M13="","",IF(B14="",SUM($D$13:$D13,$R$12:$R13,$G$5:$G$10,$C$9,-$C$10),SUM($D$13:$D13,$R$12:$R13,$G$5:$G$10,$D14*(M13-A13)/(A14-A13),$C$9,-$C$10))) -> 7572937.5 | M13: =IF(N13=N14,"",IF(A14="",A13,DATE(YEAR(A13),MONTH($J$12),DAY($J$12)))) -> 42369 | N13: =IF(A13="","",YEAR(A13)) -> 2015 | O13: =IF(B13="","",0) -> 0 | P13: =IF(B13="","",0) -> 0 | R13: =IF($H$1="人民币电汇",0,IF(OR($H$1="原币划转",$H$1="美元结汇"),产品成本表!G26,IF(AND($H$1="宏明即期+远东延期支付",INT(A13-$A$12)/30<7),产品成本表!G26,-产品成本表!E26)))+正常测算!R13 -> 0 | S13: =A13 -> 42338 | T13: =G13 -> 336112 | U13: =IF(J13="","",J13*IF($E$5<=0.5,产品成本表!$E$3,IF($E$5<=1,产品成本表!$E$4,IF($E$5<=3,产品成本表!$E$5,IF($E$5<=5,产品成本表!$E$6,产品成本表!$E$7))))) -> 3024657.5
A14: =正常测算!A14 -> 42520 | B14: =IF($E$5*$E$7<2,"",2) -> 2 | C14: =正常测算!C14 -> 336112 | D14: =正常测算!D14 -> 6803875.8 | E14: =IF(B14="","",IF($K$2=1,ROUND(E13,2),ROUND(C14-D14,2))) -> -6467763.8 | F14: =IF(B14="","",F13-E14) -> 1.1254569e+08 | G14: =IF(C14="","",IF(SUM(C15:C$134)=0,C14-C$7+C$8+G$10+H14+R14,C14+H14+R14)) -> 336112 | H14: =正常测算!H14 -> 0 | I14: =IF(A15="","",I13-E14-H14) | J14: =IF(I13="","",I13*(A14-A13)/365) -> 52893650 | K14: =IF(M14="","",IF(B15="",SUM($J$13:$J14),SUM($J$13:$J14,$J15*(M14-A14)/(A15-A14)))) -> 1.0330461e+08 | L14: =IF(M14="","",IF(B15="",SUM($D$13:$D14,$R$12:$R14,$G$5:$G$10,$C$9,-$C$10),SUM($D$13:$D14,$R$12:$R14,$G$5:$G$10,$D15*(M14-A14)/(A15-A14),$C$9,-$C$10))) -> 13217911 | M14: =IF(N14=N15,"",IF(A15="",A14,DATE(YEAR(A14),MONTH($J$12),DAY($J$12)))) -> 42520 | N14: =IF(A14="","",YEAR(A14)) -> 2016 | O14: =IF(B14="","",IF($M$4=1,ROUND(-PMT((E$6+0.001)/E$7,(E$5*E$7-B13),F13,-C$8,0)-C14,2),0)) -> 1.1259873e+08 | P14: =IF(B14="","",IF($N$4=1,ROUND(F13*0.001*DAYS360(A13,A14,1)/360/C14,6),0)) -> 0 | R14: =IF($H$1="人民币电汇",0,IF(OR($H$1="原币划转",$H$1="美元结汇"),产品成本表!G27,IF(AND($H$1="宏明即期+远东延期支付",INT(A14-$A$12)/30<7),产品成本表!G27,-产品成本表!E27)))+正常测算!R14 -> 0 | S14: =A14 -> 42520 | T14: =G14 -> 336112 | U14: =IF(J14="","",J14*IF($E$5<=0.5,产品成本表!$E$3,IF($E$5<=1,产品成本表!$E$4,IF($E$5<=3,产品成本表!$E$5,IF($E$5<=5,产品成本表!$E$6,产品成本表!$E$7))))) -> 3173619
A15: =IF(B15<=($E$5*$E$7),IF(DATE(YEAR(A14),MONTH(A14)+12/$E$7+1,DAY(1))-1<DATE(YEAR(A14),MONTH(A14)+12/$E$7,DAY($A$12)),DATE(YEAR(A14),MONTH(A14)+12/$E$7+1,DAY(1))-1,DATE(YEAR(A14),MONTH(A14)+12/$E$7,DAY($A$12))),"") | B15: =IF($E$5*$E$7<3,"",3) | C15: =正常测算!C15 | D15: =正常测算!D15 | E15: =IF(B15="","",IF($K$2=1,ROUND(E14,2),ROUND(C15-D15,2))) | F15: =IF(B15="","",F14-E15) | G15: =IF(C15="","",IF(SUM(C16:C$134)=0,C15-C$7+C$8+G$10+H15+R15,C15+H15+R15)) | H15: =正常测算!H15 -> 0 | I15: =IF(A16="","",I14-E15-H15) | J15: =IF(I14="","",I14*(A15-A14)/365) | K15: =IF(M15="","",IF(B16="",SUM($J$13:$J15),SUM($J$13:$J15,$J16*(M15-A15)/(A16-A15)))) | L15: =IF(M15="","",IF(B16="",SUM($D$13:$D15,$R$12:$R15,$G$5:$G$10,$C$9,-$C$10),SUM($D$13:$D15,$R$12:$R15,$G$5:$G$10,$D16*(M15-A15)/(A16-A15),$C$9,-$C$10))) | M15: =IF(N15=N16,"",IF(A16="",A15,DATE(YEAR(A15),MONTH($J$12),DAY($J$12)))) | N15: =IF(A15="","",YEAR(A15)) | O15: =IF(B15="","",IF($M$4=1,ROUND(-PMT((E$6+0.001)/E$7,(E$5*E$7-B14),F14,-C$8,0)-C15,2),0)) | P15: =IF(B15="","",IF($N$4=1,ROUND(F14*0.001*DAYS360(A14,A15,1)/360/C15,6),0)) | R15: =IF($H$1="人民币电汇",0,IF(OR($H$1="原币划转",$H$1="美元结汇"),产品成本表!G28,IF(AND($H$1="宏明即期+远东延期支付",INT(A15-$A$12)/30<7),产品成本表!G28,-产品成本表!E28)))+正常测算!R15 -> 0 | S15: =A15 | T15: =G15 | U15: =IF(J15="","",J15*IF($E$5<=0.5,产品成本表!$E$3,IF($E$5<=1,产品成本表!$E$4,IF($E$5<=3,产品成本表!$E$5,IF($E$5<=5,产品成本表!$E$6,产品成本表!$E$7)))))
A16: =IF(B16<=($E$5*$E$7),IF(DATE(YEAR(A15),MONTH(A15)+12/$E$7+1,DAY(1))-1<DATE(YEAR(A15),MONTH(A15)+12/$E$7,DAY($A$12)),DATE(YEAR(A15),MONTH(A15)+12/$E$7+1,DAY(1))-1,DATE(YEAR(A15),MONTH(A15)+12/$E$7,DAY($A$12))),"") | B16: =IF($E$5*$E$7<4,"",4) | C16: =正常测算!C16 | D16: =正常测算!D16 | E16: =IF(B16="","",IF($K$2=1,ROUND(E15,2),ROUND(C16-D16,2))) | F16: =IF(B16="","",F15-E16) | G16: =IF(C16="","",IF(SUM(C17:C$134)=0,C16-C$7+C$8+G$10+H16+R16,C16+H16+R16)) | H16: =正常测算!H16 -> 0 | I16: =IF(A17="","",I15-E16-H16) | J16: =IF(I15="","",I15*(A16-A15)/365) | K16: =IF(M16="","",IF(B17="",SUM($J$13:$J16),SUM($J$13:$J16,$J17*(M16-A16)/(A17-A16)))) | L16: =IF(M16="","",IF(B17="",SUM($D$13:$D16,$R$12:$R16,$G$5:$G$10,$C$9,-$C$10),SUM($D$13:$D16,$R$12:$R16,$G$5:$G$10,$D17*(M16-A16)/(A17-A16),$C$9,-$C$10))) | M16: =IF(N16=N17,"",IF(A17="",A16,DATE(YEAR(A16),MONTH($J$12),DAY($J$12)))) | N16: =IF(A16="","",YEAR(A16)) | O16: =IF(B16="","",IF($M$4=1,ROUND(-PMT((E$6+0.001)/E$7,(E$5*E$7-B15),F15,-C$8,0)-C16,2),0)) | P16: =IF(B16="","",IF($N$4=1,ROUND(F15*0.001*DAYS360(A15,A16,1)/360/C16,6),0)) | R16: =IF($H$1="人民币电汇",0,IF(OR($H$1="原币划转",$H$1="美元结汇"),产品成本表!G29,IF(AND($H$1="宏明即期+远东延期支付",INT(A16-$A$12)/30<7),产品成本表!G29,-产品成本表!E29)))+正常测算!R16 -> 0 | S16: =A16 | T16: =G16 | U16: =IF(J16="","",J16*IF($E$5<=0.5,产品成本表!$E$3,IF($E$5<=1,产品成本表!$E$4,IF($E$5<=3,产品成本表!$E$5,IF($E$5<=5,产品成本表!$E$6,产品成本表!$E$7)))))
A17: =IF(B17<=($E$5*$E$7),IF(DATE(YEAR(A16),MONTH(A16)+12/$E$7+1,DAY(1))-1<DATE(YEAR(A16),MONTH(A16)+12/$E$7,DAY($A$12)),DATE(YEAR(A16),MONTH(A16)+12/$E$7+1,DAY(1))-1,DATE(YEAR(A16),MONTH(A16)+12/$E$7,DAY($A$12))),"") | B17: =IF($E$5*$E$7<5,"",5) | C17: =正常测算!C17 | D17: =正常测算!D17 | E17: =IF(B17="","",IF($K$2=1,ROUND(E16,2),ROUND(C17-D17,2))) | F17: =IF(B17="","",F16-E17) | G17: =IF(C17="","",IF(SUM(C18:C$134)=0,C17-C$7+C$8+G$10+H17+R17,C17+H17+R17)) | H17: =正常测算!H17 -> 0 | I17: =IF(A18="","",I16-E17-H17) | J17: =IF(I16="","",I16*(A17-A16)/365) | K17: =IF(M17="","",IF(B18="",SUM($J$13:$J17),SUM($J$13:$J17,$J18*(M17-A17)/(A18-A17)))) | L17: =IF(M17="","",IF(B18="",SUM($D$13:$D17,$R$12:$R17,$G$5:$G$10,$C$9,-$C$10),SUM($D$13:$D17,$R$12:$R17,$G$5:$G$10,$D18*(M17-A17)/(A18-A17),$C$9,-$C$10))) | M17: =IF(N17=N18,"",IF(A18="",A17,DATE(YEAR(A17),MONTH($J$12),DAY($J$12)))) | N17: =IF(A17="","",YEAR(A17)) | O17: =IF(B17="","",IF($M$4=1,ROUND(-PMT((E$6+0.001)/E$7,(E$5*E$7-B16),F16,-C$8,0)-C17,2),0)) | P17: =IF(B17="","",IF($N$4=1,ROUND(F16*0.001*DAYS360(A16,A17,1)/360/C17,6),0)) | R17: =IF($H$1="人民币电汇",0,IF(OR($H$1="原币划转",$H$1="美元结汇"),产品成本表!G30,IF(AND($H$1="宏明即期+远东延期支付",INT(A17-$A$12)/30<7),产品成本表!G30,-产品成本表!E30)))+正常测算!R17 -> 0 | S17: =A17 | T17: =G17 | U17: =IF(J17="","",J17*IF($E$5<=0.5,产品成本表!$E$3,IF($E$5<=1,产品成本表!$E$4,IF($E$5<=3,产品成本表!$E$5,IF($E$5<=5,产品成本表!$E$6,产品成本表!$E$7)))))
A18: =IF(B18<=($E$5*$E$7),IF(DATE(YEAR(A17),MONTH(A17)+12/$E$7+1,DAY(1))-1<DATE(YEAR(A17),MONTH(A17)+12/$E$7,DAY($A$12)),DATE(YEAR(A17),MONTH(A17)+12/$E$7+1,DAY(1))-1,DATE(YEAR(A17),MONTH(A17)+12/$E$7,DAY($A$12))),"") | B18: =IF($E$5*$E$7<6,"",6) | C18: =正常测算!C18 | D18: =正常测算!D18 | E18: =IF(B18="","",IF($K$2=1,ROUND(E17,2),ROUND(C18-D18,2))) | F18: =IF(B18="","",F17-E18) | G18: =IF(C18="","",IF(SUM(C19:C$134)=0,C18-C$7+C$8+G$10+H18+R18,C18+H18+R18)) | H18: =正常测算!H18 -> 0 | I18: =IF(A19="","",I17-E18-H18) | J18: =IF(I17="","",I17*(A18-A17)/365) | K18: =IF(M18="","",IF(B19="",SUM($J$13:$J18),SUM($J$13:$J18,$J19*(M18-A18)/(A19-A18)))) | L18: =IF(M18="","",IF(B19="",SUM($D$13:$D18,$R$12:$R18,$G$5:$G$10,$C$9,-$C$10),SUM($D$13:$D18,$R$12:$R18,$G$5:$G$10,$D19*(M18-A18)/(A19-A18),$C$9,-$C$10))) | M18: =IF(N18=N19,"",IF(A19="",A18,DATE(YEAR(A18),MONTH($J$12),DAY($J$12)))) | N18: =IF(A18="","",YEAR(A18)) | O18: =IF(B18="","",IF($M$4=1,ROUND(-PMT((E$6+0.001)/E$7,(E$5*E$7-B17),F17,-C$8,0)-C18,2),0)) | P18: =IF(B18="","",IF($N$4=1,ROUND(F17*0.001*DAYS360(A17,A18,1)/360/C18,6),0)) | R18: =IF($H$1="人民币电汇",0,IF(OR($H$1="原币划转",$H$1="美元结汇"),产品成本表!G31,IF(AND($H$1="宏明即期+远东延期支付",INT(A18-$A$12)/30<7),产品成本表!G31,-产品成本表!E31)))+正常测算!R18 -> 0 | S18: =A18 | T18: =G18 | U18: =IF(J18="","",J18*IF($E$5<=0.5,产品成本表!$E$3,IF($E$5<=1,产品成本表!$E$4,IF($E$5<=3,产品成本表!$E$5,IF($E$5<=5,产品成本表!$E$6,产品成本表!$E$7)))))
A19: =IF(B19<=($E$5*$E$7),IF(DATE(YEAR(A18),MONTH(A18)+12/$E$7+1,DAY(1))-1<DATE(YEAR(A18),MONTH(A18)+12/$E$7,DAY($A$12)),DATE(YEAR(A18),MONTH(A18)+12/$E$7+1,DAY(1))-1,DATE(YEAR(A18),MONTH(A18)+12/$E$7,DAY($A$12))),"") | B19: =IF($E$5*$E$7<7,"",7) | C19: =正常测算!C19 | D19: =正常测算!D19 | E19: =IF(B19="","",IF($K$2=1,ROUND(E18,2),ROUND(C19-D19,2))) | F19: =IF(B19="","",F18-E19) | G19: =IF(C19="","",IF(SUM(C20:C$134)=0,C19-C$7+C$8+G$10+H19+R19,C19+H19+R19)) | H19: =正常测算!H19 -> 0 | I19: =IF(A20="","",I18-E19-H19) | J19: =IF(I18="","",I18*(A19-A18)/365) | K19: =IF(M19="","",IF(B20="",SUM($J$13:$J19),SUM($J$13:$J19,$J20*(M19-A19)/(A20-A19)))) | L19: =IF(M19="","",IF(B20="",SUM($D$13:$D19,$R$12:$R19,$G$5:$G$10,$C$9,-$C$10),SUM($D$13:$D19,$R$12:$R19,$G$5:$G$10,$D20*(M19-A19)/(A20-A19),$C$9,-$C$10))) | M19: =IF(N19=N20,"",IF(A20="",A19,DATE(YEAR(A19),MONTH($J$12),DAY($J$12)))) | N19: =IF(A19="","",YEAR(A19)) | O19: =IF(B19="","",IF($M$4=1,ROUND(-PMT((E$6+0.001)/E$7,(E$5*E$7-B18),F18,-C$8,0)-C19,2),0)) | P19: =IF(B19="","",IF($N$4=1,ROUND(F18*0.001*DAYS360(A18,A19,1)/360/C19,6),0)) | R19: =IF($H$1="人民币电汇",0,IF(OR($H$1="原币划转",$H$1="美元结汇"),产品成本表!G32,IF(AND($H$1="宏明即期+远东延期支付",INT(A19-$A$12)/30<7),产品成本表!G32,-产品成本表!E32)))+正常测算!R19 -> 0 | S19: =A19 | T19: =G19 | U19: =IF(J19="","",J19*IF($E$5<=0.5,产品成本表!$E$3,IF($E$5<=1,产品成本表!$E$4,IF($E$5<=3,产品成本表!$E$5,IF($E$5<=5,产品成本表!$E$6,产品成本表!$E$7)))))
A20: =IF(B20<=($E$5*$E$7),IF(DATE(YEAR(A19),MONTH(A19)+12/$E$7+1,DAY(1))-1<DATE(YEAR(A19),MONTH(A19)+12/$E$7,DAY($A$12)),DATE(YEAR(A19),MONTH(A19)+12/$E$7+1,DAY(1))-1,DATE(YEAR(A19),MONTH(A19)+12/$E$7,DAY($A$12))),"") | B20: =IF($E$5*$E$7<8,"",8) | C20: =正常测算!C20 | D20: =正常测算!D20 | E20: =IF(B20="","",IF($K$2=1,ROUND(E19,2),ROUND(C20-D20,2))) | F20: =IF(B20="","",F19-E20) | G20: =IF(C20="","",IF(SUM(C21:C$134)=0,C20-C$7+C$8+G$10+H20+R20,C20+H20+R20)) | H20: =正常测算!H20 -> 0 | I20: =IF(A21="","",I19-E20-H20) | J20: =IF(I19="","",I19*(A20-A19)/365) | K20: =IF(M20="","",IF(B21="",SUM($J$13:$J20),SUM($J$13:$J20,$J21*(M20-A20)/(A21-A20)))) | L20: =IF(M20="","",IF(B21="",SUM($D$13:$D20,$R$12:$R20,$G$5:$G$10,$C$9,-$C$10),SUM($D$13:$D20,$R$12:$R20,$G$5:$G$10,$D21*(M20-A20)/(A21-A20),$C$9,-$C$10))) | M20: =IF(N20=N21,"",IF(A21="",A20,DATE(YEAR(A20),MONTH($J$12),DAY($J$12)))) | N20: =IF(A20="","",YEAR(A20)) | O20: =IF(B20="","",IF($M$4=1,ROUND(-PMT((E$6+0.001)/E$7,(E$5*E$7-B19),F19,-C$8,0)-C20,2),0)) | P20: =IF(B20="","",IF($N$4=1,ROUND(F19*0.001*DAYS360(A19,A20,1)/360/C20,6),0)) | R20: =IF($H$1="人民币电汇",0,IF(OR($H$1="原币划转",$H$1="美元结汇"),产品成本表!G33,-产品成本表!E33))+正常测算!R20 -> 0 | S20: =A20 | T20: =G20 | U20: =IF(J20="","",J20*IF($E$5<=0.5,产品成本表!$E$3,IF($E$5<=1,产品成本表!$E$4,IF($E$5<=3,产品成本表!$E$5,IF($E$5<=5,产品成本表!$E$6,产品成本表!$E$7)))))
A21: =IF(B21<=($E$5*$E$7),IF(DATE(YEAR(A20),MONTH(A20)+12/$E$7+1,DAY(1))-1<DATE(YEAR(A20),MONTH(A20)+12/$E$7,DAY($A$12)),DATE(YEAR(A20),MONTH(A20)+12/$E$7+1,DAY(1))-1,DATE(YEAR(A20),MONTH(A20)+12/$E$7,DAY($A$12))),"") | B21: =IF($E$5*$E$7<9,"",9) | C21: =正常测算!C21 | D21: =正常测算!D21 | E21: =IF(B21="","",IF($K$2=1,ROUND(E20,2),ROUND(C21-D21,2))) | F21: =IF(B21="","",F20-E21) | G21: =IF(C21="","",IF(SUM(C22:C$134)=0,C21-C$7+C$8+G$10+H21+R21,C21+H21+R21)) | H21: =正常测算!H21 -> 0 | I21: =IF(A22="","",I20-E21-H21) | J21: =IF(I20="","",I20*(A21-A20)/365) | K21: =IF(M21="","",IF(B22="",SUM($J$13:$J21),SUM($J$13:$J21,$J22*(M21-A21)/(A22-A21)))) | L21: =IF(M21="","",IF(B22="",SUM($D$13:$D21,$R$12:$R21,$G$5:$G$10,$C$9,-$C$10),SUM($D$13:$D21,$R$12:$R21,$G$5:$G$10,$D22*(M21-A21)/(A22-A21),$C$9,-$C$10))) | M21: =IF(N21=N22,"",IF(A22="",A21,DATE(YEAR(A21),MONTH($J$12),DAY($J$12)))) | N21: =IF(A21="","",YEAR(A21)) | O21: =IF(B21="","",IF($M$4=1,ROUND(-PMT((E$6+0.001)/E$7,(E$5*E$7-B20),F20,-C$8,0)-C21,2),0)) | P21: =IF(B21="","",IF($N$4=1,ROUND(F20*0.001*DAYS360(A20,A21,1)/360/C21,6),0)) | R21: =IF($H$1="人民币电汇",0,IF(OR($H$1="原币划转",$H$1="美元结汇"),产品成本表!G34,-产品成本表!E34))+正常测算!R21 -> 0 | S21: =A21 | T21: =G21 | U21: =IF(J21="","",J21*IF($E$5<=0.5,产品成本表!$E$3,IF($E$5<=1,产品成本表!$E$4,IF($E$5<=3,产品成本表!$E$5,IF($E$5<=5,产品成本表!$E$6,产品成本表!$E$7)))))
A22: =IF(B22<=($E$5*$E$7),IF(DATE(YEAR(A21),MONTH(A21)+12/$E$7+1,DAY(1))-1<DATE(YEAR(A21),MONTH(A21)+12/$E$7,DAY($A$12)),DATE(YEAR(A21),MONTH(A21)+12/$E$7+1,DAY(1))-1,DATE(YEAR(A21),MONTH(A21)+12/$E$7,DAY($A$12))),"") | B22: =IF($E$5*$E$7<10,"",10) | C22: =正常测算!C22 | D22: =正常测算!D22 | E22: =IF(B22="","",IF($K$2=1,ROUND(E21,2),ROUND(C22-D22,2))) | F22: =IF(B22="","",F21-E22) | G22: =IF(C22="","",IF(SUM(C23:C$134)=0,C22-C$7+C$8+G$10+H22+R22,C22+H22+R22)) | H22: =正常测算!H22 -> 0 | I22: =IF(A23="","",I21-E22-H22) | J22: =IF(I21="","",I21*(A22-A21)/365) | K22: =IF(M22="","",IF(B23="",SUM($J$13:$J22),SUM($J$13:$J22,$J23*(M22-A22)/(A23-A22)))) | L22: =IF(M22="","",IF(B23="",SUM($D$13:$D22,$R$12:$R22,$G$5:$G$10,$C$9,-$C$10),SUM($D$13:$D22,$R$12:$R22,$G$5:$G$10,$D23*(M22-A22)/(A23-A22),$C$9,-$C$10))) | M22: =IF(N22=N23,"",IF(A23="",A22,DATE(YEAR(A22),MONTH($J$12),DAY($J$12)))) | N22: =IF(A22="","",YEAR(A22)) | O22: =IF(B22="","",IF($M$4=1,ROUND(-PMT((E$6+0.001)/E$7,(E$5*E$7-B21),F21,-C$8,0)-C22,2),0)) | P22: =IF(B22="","",IF($N$4=1,ROUND(F21*0.001*DAYS360(A21,A22,1)/360/C22,6),0)) | R22: =IF($H$1="人民币电汇",0,IF(OR($H$1="原币划转",$H$1="美元结汇"),产品成本表!G35,-产品成本表!E35))+正常测算!R22 -> 0 | S22: =A22 | T22: =G22 | U22: =IF(J22="","",J22*IF($E$5<=0.5,产品成本表!$E$3,IF($E$5<=1,产品成本表!$E$4,IF($E$5<=3,产品成本表!$E$5,IF($E$5<=5,产品成本表!$E$6,产品成本表!$E$7)))))
A23: =IF(B23<=($E$5*$E$7),IF(DATE(YEAR(A22),MONTH(A22)+12/$E$7+1,DAY(1))-1<DATE(YEAR(A22),MONTH(A22)+12/$E$7,DAY($A$12)),DATE(YEAR(A22),MONTH(A22)+12/$E$7+1,DAY(1))-1,DATE(YEAR(A22),MONTH(A22)+12/$E$7,DAY($A$12))),"") | B23: =IF($E$5*$E$7<11,"",11) | C23: =正常测算!C23 | D23: =正常测算!D23 | E23: =IF(B23="","",IF($K$2=1,ROUND(E22,2),ROUND(C23-D23,2))) | F23: =IF(B23="","",F22-E23) | G23: =IF(C23="","",IF(SUM(C24:C$134)=0,C23-C$7+C$8+G$10+H23+R23,C23+H23+R23)) | H23: =正常测算!H23 -> 0 | I23: =IF(A24="","",I22-E23-H23) | J23: =IF(I22="","",I22*(A23-A22)/365) | K23: =IF(M23="","",IF(B24="",SUM($J$13:$J23),SUM($J$13:$J23,$J24*(M23-A23)/(A24-A23)))) | L23: =IF(M23="","",IF(B24="",SUM($D$13:$D23,$R$12:$R23,$G$5:$G$10,$C$9,-$C$10),SUM($D$13:$D23,$R$12:$R23,$G$5:$G$10,$D24*(M23-A23)/(A24-A23),$C$9,-$C$10))) | M23: =IF(N23=N24,"",IF(A24="",A23,DATE(YEAR(A23),MONTH($J$12),DAY($J$12)))) | N23: =IF(A23="","",YEAR(A23)) | O23: =IF(B23="","",IF($M$4=1,ROUND(-PMT((E$6+0.001)/E$7,(E$5*E$7-B22),F22,-C$8,0)-C23,2),0)) | P23: =IF(B23="","",IF($N$4=1,ROUND(F22*0.001*DAYS360(A22,A23,1)/360/C23,6),0)) | R23: =IF($H$1="人民币电汇",0,IF(OR($H$1="原币划转",$H$1="美元结汇"),产品成本表!G36,-产品成本表!E36))+正常测算!R23 -> 0 | S23: =A23 | T23: =G23 | U23: =IF(J23="","",J23*IF($E$5<=0.5,产品成本表!$E$3,IF($E$5<=1,产品成本表!$E$4,IF($E$5<=3,产品成本表!$E$5,IF($E$5<=5,产品成本表!$E$6,产品成本表!$E$7)))))
